BEGIN:VCALENDAR
VERSION:2.0
PRODID:-//Perinatal Support Washington - ECPv6.15.20//NONSGML v1.0//EN
CALSCALE:GREGORIAN
METHOD:PUBLISH
X-WR-CALNAME:Perinatal Support Washington
X-ORIGINAL-URL:https://perinatalsupport.org
X-WR-CALDESC:Events for Perinatal Support Washington
REFRESH-INTERVAL;VALUE=DURATION:PT1H
X-Robots-Tag:noindex
X-PUBLISHED-TTL:PT1H
BEGIN:VTIMEZONE
TZID:America/Vancouver
BEGIN:DAYLIGHT
TZOFFSETFROM:-0800
TZOFFSETTO:-0700
TZNAME:PDT
DTSTART:20250309T100000
END:DAYLIGHT
BEGIN:STANDARD
TZOFFSETFROM:-0700
TZOFFSETTO:-0800
TZNAME:PST
DTSTART:20251102T090000
END:STANDARD
BEGIN:DAYLIGHT
TZOFFSETFROM:-0800
TZOFFSETTO:-0700
TZNAME:PDT
DTSTART:20260308T100000
END:DAYLIGHT
BEGIN:STANDARD
TZOFFSETFROM:-0700
TZOFFSETTO:-0800
TZNAME:PST
DTSTART:20261101T090000
END:STANDARD
BEGIN:DAYLIGHT
TZOFFSETFROM:-0800
TZOFFSETTO:-0700
TZNAME:PDT
DTSTART:20270314T100000
END:DAYLIGHT
BEGIN:STANDARD
TZOFFSETFROM:-0700
TZOFFSETTO:-0800
TZNAME:PST
DTSTART:20271107T090000
END:STANDARD
END:VTIMEZONE
BEGIN:VEVENT
DTSTART;TZID=America/Vancouver:20260210T100000
DTEND;TZID=America/Vancouver:20260609T113000
DTSTAMP:20260422T215844
CREATED:20260112T194551Z
LAST-MODIFIED:20260114T184209Z
UID:10025623-1770717600-1781004600@perinatalsupport.org
SUMMARY:Monthly Peer Supporters' Circle (Feb-June 2026)
DESCRIPTION:Every second Tuesday of each month from February – June 2026. \n\n10am-11:30am PT\n\nThese groups will provide support for peer supporters\, interactive learning\, networking with other perinatal peer supporters across the state\, and time for questions. These monthly consultation groups are for WA state professionals doing 1:1 peer support or facilitating support groups. Bring your challenges and questions about peer support for perinatal families.  Zoom link and reminders sent out monthly and you may choose to attend any session(s). These groups are intended for WA state professionals who have attended a Group Peer Support Facilitator Training or Peer Parent Support Training through Perinatal Support Washington. \nLocation: Zoom \nCost: FREE \nDate & Time:\nEvery second Tuesday of each month (February – June 2026) from 10am-11:30am PT. \n\nQuestions regarding the training\, please email: training@perinatalsupport.org\n\n\nThese sessions take place live and a recording will not be sent out after the sessions. \nRegister HERE
URL:https://perinatalsupport.org/event/monthly-peer-circle-feb-june2026/
LOCATION:Online
CATEGORIES:ContinuingEducation,Provider Training
ORGANIZER;CN="Perinatal Support Washington":MAILTO:training@perinatalsupport.org
GEO:47.7510741;-120.7401385
END:VEVENT
BEGIN:VEVENT
DTSTART;VALUE=DATE:20260416
DTEND;VALUE=DATE:20260417
DTSTAMP:20260422T215844
CREATED:20241017T144945Z
LAST-MODIFIED:20241017T144945Z
UID:10023264-1776297600-1776383999@perinatalsupport.org
SUMMARY:Fertility Challenges PSI Online Support Group
DESCRIPTION:Every Thursday\, Time Varies \n\n\n\nThis group is intended for those who have been actively trying to conceive for six months or longer. It is led by PSI-trained facilitators (each with lived experience with primary and/or secondary fertility challenges). \nStruggling with fertility issues can be a lonely experience and this group helps provide an avenue for healing and hope. This group helps women find support as they navigate the pain of fertility challenges. \nWe are here to help. \nLearn more and register: https://www.postpartum.net/group/fertility-challenges/
URL:https://perinatalsupport.org/event/fertility-challenges-psi-online-support-group/2026-04-16/
LOCATION:Online
CATEGORIES:Support Group
GEO:47.7510741;-120.7401385
END:VEVENT
BEGIN:VEVENT
DTSTART;TZID=America/Vancouver:20260416T093000
DTEND;TZID=America/Vancouver:20260416T103000
DTSTAMP:20260422T215844
CREATED:20230418T151426Z
LAST-MODIFIED:20230418T151426Z
UID:10019839-1776331800-1776335400@perinatalsupport.org
SUMMARY:Adoptive and Foster Parents Support for the Early Years
DESCRIPTION:1st & 3rd Thursday @ 12:30PM (EST)/9:30AM (PST) \nDescription: \nThis group is for any adoptive or foster parent who has a child from birth to three years old living in their home and will focus on support between these caregivers. Feelings of anxiety\, depression\, overwhelm and stress are common in adoptive/foster parents.  They face unique challenges and this group is a space to connect with other parents who understand them. \nPlease see our other support group for Birth Moms. \nhttps://www.postpartum.net/get-help/psi-online-support-meetings/#adoptive-foster
URL:https://perinatalsupport.org/event/adoptive-and-foster-parents-support-for-the-early-years/2026-04-16/
LOCATION:Online
CATEGORIES:Support Group
GEO:47.7510741;-120.7401385
END:VEVENT
BEGIN:VEVENT
DTSTART;TZID=America/Vancouver:20260416T100000
DTEND;TZID=America/Vancouver:20260416T113000
DTSTAMP:20260422T215844
CREATED:20240410T160324Z
LAST-MODIFIED:20240410T160324Z
UID:10020045-1776333600-1776339000@perinatalsupport.org
SUMMARY:Prepared Moms
DESCRIPTION:A non-judgmental\, Parent support Group for Moms who are pregnant or parenting a child 5-years-old and under. \nMeetings held on Thursdays from 10-11:30 AM at CAPA/Prepares: 25 W. 5th Ave. Spokane \nSeptember – June (with childcare)\nMonthly meetings in July and August. \nThis is a drop-in group\, just show up when you can! Prior registration not required. \nFor more information contact: sarah.durrant@cceasternwa.org or call 509-358-4258
URL:https://perinatalsupport.org/event/prepared-moms/2026-04-16/
LOCATION:CAPA/Prepares\, 25 W. 5th Ave.\, Spokane\, WA\, 99204\, United States
CATEGORIES:Spokane,Support Group
GEO:47.6511048;-117.4126755
X-APPLE-STRUCTURED-LOCATION;VALUE=URI;X-ADDRESS=CAPA/Prepares 25 W. 5th Ave. Spokane WA 99204 United States;X-APPLE-RADIUS=500;X-TITLE=25 W. 5th Ave.:geo:-117.4126755,47.6511048
END:VEVENT
BEGIN:VEVENT
DTSTART;TZID=America/Vancouver:20260416T110000
DTEND;TZID=America/Vancouver:20260416T120000
DTSTAMP:20260422T215844
CREATED:20260406T210500Z
LAST-MODIFIED:20260409T150418Z
UID:10026366-1776337200-1776340800@perinatalsupport.org
SUMMARY:Navigating the Fourth Trimester
DESCRIPTION:  \nThis workshop is open to families in Washington state.  \nThe weeks and months after bringing home a baby can be beautiful\, overwhelming\, tender\, and exhausting — often all at once. This workshop offers a supportive space to talk honestly about the transition to parenthood and the very real emotional and practical challenges of the fourth trimester. Whether you are pregnant or recently welcomed a baby\, you are invited to join us for connection\, encouragement\, and practical support as we explore: \n\nthe emotional ups and downs of becoming a parent\nsleep\, feeding\, recovery\, and the daily realities of caring for a newborn\nchanges in relationships with partners and family\nthe pressure of cultural\, family\, or social expectations during early\nparenthood\nshifting identity\, expectations\, and the pressure to “do it all”\nself-compassion\, adjustment\, and finding your footing in a new season\nmaking space for difficult or unexpected birth experiences\n\nYou can expect a compassionate\, welcoming group space for parents\, facilitated by a licensed therapist with expertise in perinatal mental health. \nDate: Thursday\, April 16 \nTime: 11am-12pm PT \nLocation: Zoom \nCost: FREE \nRegister Here\nAbout the Facilitator: \nAddelle Diedesch is a licensed therapist specializing in perinatal mental health and support for parents during pregnancy and postpartum. She is also a mom of 3 and is passionate about offering compassionate\, practical\nsupport to families. \n  \n  \nWith support from:
URL:https://perinatalsupport.org/event/navigating-fourth-trimester-april2026/
LOCATION:Online
CATEGORIES:ContinuingEducation,Provider Training
ORGANIZER;CN="Perinatal Support Washington":MAILTO:training@perinatalsupport.org
GEO:47.7510741;-120.7401385
END:VEVENT
BEGIN:VEVENT
DTSTART;TZID=America/Vancouver:20260416T123000
DTEND;TZID=America/Vancouver:20260416T140000
DTSTAMP:20260422T215844
CREATED:20260224T201842Z
LAST-MODIFIED:20260303T210032Z
UID:10026002-1776342600-1776348000@perinatalsupport.org
SUMMARY:New Parent Support Group-Chelan-Douglas
DESCRIPTION:Chelan-Douglas \nNEW PARENT SUPPORT GROUP \nAnyone who is pregnant or parenting an infant\nor toddler and looking for emotional support\nand connection is welcome to attend. \nFebruary 19 through April 16 2026\nEvery Thursday\, 12:30PM-2:00PM \nOpen to all families with infants or toddlers on a drop-in basis. \nLunch will be provided and children are welcome. \nPathways To Parenting\n211 1st ST\nWenatchee\, WA 98801 \n509-886-6400 \nChelan Douglas Health District \nSupport Group Flyer
URL:https://perinatalsupport.org/event/new-parent-support-group-chelan-douglas/2026-04-16/
LOCATION:211 1st ST Wenatchee\, WA 98801\, 211 1st ST\, Wenatchee\, 98801\, United States
CATEGORIES:Support Group
END:VEVENT
BEGIN:VEVENT
DTSTART;TZID=America/Vancouver:20260416T130000
DTEND;TZID=America/Vancouver:20260416T140000
DTSTAMP:20260422T215844
CREATED:20230523T193619Z
LAST-MODIFIED:20240103T181826Z
UID:10019411-1776344400-1776348000@perinatalsupport.org
SUMMARY:Nurture Northwest Lewis County
DESCRIPTION:Nurture Northwest Lewis County \nBecoming a parent can be a challenging time\, but we want to help. Join other community members as we share and explore the transition to motherhood. Every month\, we will unpack some of the changes that can occur in our heart\, mind\, body and relationships during this season of life. \nAll babies are welcome. Snacks/Incentives will be provided. \nTo sign up or for more information contact:\nTask Force Chair\, Taylor Valverde: taylorb@familyess.org \, 360-867-8116 \nIN PERSON:\nMonthly\, First Thursday\n5-6pm \nChild Development Center/\nChildren’s Lab School\n412 S. Oak\, Centralia\, WA 98531 \nVIRTUAL:\nMonthly\, Third Thursday\n1-2 pm \nZoom ID: 385 831 072\nPasscode: 124325 \n 
URL:https://perinatalsupport.org/event/lewis-county-perinatal-postpartum-support-group-2/2026-04-16/
CATEGORIES:Lewis,Support Group
END:VEVENT
BEGIN:VEVENT
DTSTART;TZID=America/Vancouver:20260416T163000
DTEND;TZID=America/Vancouver:20260416T180000
DTSTAMP:20260422T215844
CREATED:20240731T134608Z
LAST-MODIFIED:20240731T134608Z
UID:10021702-1776357000-1776362400@perinatalsupport.org
SUMMARY:Postpartum Support International Support Group
DESCRIPTION:Postpartum Support International\, a non-profit\, is committed to supporting all people during the perinatal period. We know and understand how challenging the perinatal season can be due to stress\, inherent discrimination in the system\, fluctuating hormones\, and other complicated feelings. We have a weekly support group\, Latinx Support every Thursday\, 1st & 3rd @ 4:30p; 2nd & 4th @ 12p\, PST. \nThis group is for anyone pregnant or postpartum (up to two years) and identifies as Latina\, Latinx\, or Latino. There is no definition or level of being “enough Latinx.” All are welcome who have a familial connection to Latinx culture. Our online groups help you connect with other parents\, talk about your experience\, and learn about helpful tools and resources. Whether you are going through stress\, adjustment to parenting\, baby blues\, pregnancy or postpartum depression/anxiety\, our groups are here for you. This group is in English\, so group members will benefit most if they can understand and speak some English (perfection is not required!). We do have Spanish-speaking groups as well\, which can be found here. We do not allow group observation by students or professionals. Thank you for your cooperation and understanding. ***The group space will be closed once we reach 16 members OR we have started talk time. ** 🔔 PLEASE NOTE: THIS GROUP IS FIRST COME\, FIRST SERVE. We allow the first 16 members to join. Thank you for understanding! \nLearn more here: https://sharewellnow.com/session/2a7e05fb-ce31-4bc0-8023-d530d6bb1a3a
URL:https://perinatalsupport.org/event/postpartum-support-international-support-group-2/2026-04-16/
LOCATION:Online
CATEGORIES:Support Group
GEO:47.7510741;-120.7401385
END:VEVENT
BEGIN:VEVENT
DTSTART;TZID=America/Vancouver:20260416T170000
DTEND;TZID=America/Vancouver:20260416T183000
DTSTAMP:20260422T215844
CREATED:20230706T164425Z
LAST-MODIFIED:20230706T164425Z
UID:10018262-1776358800-1776364200@perinatalsupport.org
SUMMARY:Coffee & Cradleboards
DESCRIPTION:Group Peer Support \nIt is a place to listen and learn from the experience of others\, to realize that we are not alone\, and that others understand what we are experiencing. It is a precious and rare opportunity to hear the power of our voice\, to feel that inner strength and intelligence that is in the heart of each one of us. \nEvery first and third Thursday at 5pm PST \nLocation: \nOCCDA Fiscal/HR Office\n670 Riverside Drive\, \nOmak\, WA 98841 \nFor more information on dates and times\, contact Shannon Nakkour (509) 322-7053 and Jill Moomaw at jnanpuya@gmail.com
URL:https://perinatalsupport.org/event/coffee-cradleboards-3/2026-04-16/
LOCATION:OCCDA Fiscal/HR Office\, 670 Riverside Drive\, Omak\, 98841
CATEGORIES:BIPOC,Indigenous,Okanogan,Support Group
GEO:48.41648;-119.5128871
X-APPLE-STRUCTURED-LOCATION;VALUE=URI;X-ADDRESS=OCCDA Fiscal/HR Office 670 Riverside Drive Omak 98841;X-APPLE-RADIUS=500;X-TITLE=670 Riverside Drive:geo:-119.5128871,48.41648
END:VEVENT
BEGIN:VEVENT
DTSTART;TZID=America/Vancouver:20260416T181500
DTEND;TZID=America/Vancouver:20260416T193000
DTSTAMP:20260422T215844
CREATED:20230216T202428Z
LAST-MODIFIED:20240702T200617Z
UID:10020658-1776363300-1776367800@perinatalsupport.org
SUMMARY:Caminemos Juntos
DESCRIPTION:Te invitamos a participar en un groupo de apoyo: Caminemos Juntos. \nEn caminemos Juntos tratemos temas como: \n\nEl camino de ser madre/padre\nCuidado personal\nSalud mental\nCompartir experiencias y situaciones\nCrear una comunidad juntos\n\nParticipantes tendran su nombre inscrito en el sorteo del fin del mes! \nTodas las sesiones se realizarán por Zoom cada otro: \nJueves 6:15PM-7:30PM (PT) \ny Sábado de 10:00AM-11:30AM (PT) \nMándanos un mensaje de texto al telefono: (971) 258-2426 \nInstagram: @caminemosjuntoswa \nFacebook: @caminemosjuntoswashington
URL:https://perinatalsupport.org/event/caminemos-juntos-2/2026-04-16/
LOCATION:Online
CATEGORIES:BIPOC,Latinx,Pierce,Spanish,Support Group
GEO:47.7510741;-120.7401385
END:VEVENT
END:VCALENDAR