BEGIN:VCALENDAR
VERSION:2.0
PRODID:-//Perinatal Support Washington - ECPv6.15.20//NONSGML v1.0//EN
CALSCALE:GREGORIAN
METHOD:PUBLISH
X-ORIGINAL-URL:https://perinatalsupport.org
X-WR-CALDESC:Events for Perinatal Support Washington
REFRESH-INTERVAL;VALUE=DURATION:PT1H
X-Robots-Tag:noindex
X-PUBLISHED-TTL:PT1H
BEGIN:VTIMEZONE
TZID:America/Vancouver
BEGIN:DAYLIGHT
TZOFFSETFROM:-0800
TZOFFSETTO:-0700
TZNAME:PDT
DTSTART:20230312T100000
END:DAYLIGHT
BEGIN:STANDARD
TZOFFSETFROM:-0700
TZOFFSETTO:-0800
TZNAME:PST
DTSTART:20231105T090000
END:STANDARD
BEGIN:DAYLIGHT
TZOFFSETFROM:-0800
TZOFFSETTO:-0700
TZNAME:PDT
DTSTART:20240310T100000
END:DAYLIGHT
BEGIN:STANDARD
TZOFFSETFROM:-0700
TZOFFSETTO:-0800
TZNAME:PST
DTSTART:20241103T090000
END:STANDARD
BEGIN:DAYLIGHT
TZOFFSETFROM:-0800
TZOFFSETTO:-0700
TZNAME:PDT
DTSTART:20250309T100000
END:DAYLIGHT
BEGIN:STANDARD
TZOFFSETFROM:-0700
TZOFFSETTO:-0800
TZNAME:PST
DTSTART:20251102T090000
END:STANDARD
END:VTIMEZONE
BEGIN:VEVENT
DTSTART;TZID=America/Vancouver:20240214T160000
DTEND;TZID=America/Vancouver:20240214T180000
DTSTAMP:20260424T140920
CREATED:20221027T191840Z
LAST-MODIFIED:20230302T031919Z
UID:10016303-1707926400-1707933600@perinatalsupport.org
SUMMARY:Perinatal Compassion Circle
DESCRIPTION:Perinatal Compassion Circle\nOn zoom\n2nd Wednesday of every month from 4PM – 6PM\n\nPerinatal Compassion Circle is EACS’ parent support service targeted for expecting parents and parents with infants and toddlers under the age of 3. The focus of the event is to provide a safe and trusted place for parents to voice the support that they need and changes that they would like to see in the way that the community responds to prenatal needs. The topics covered are tailored to community needs and directed at providing services to address the struggles and gaps that our community needs in terms of mental health support for mothers.  \n\n\n\nFacilitator: Rukia Ahmed and other home visitors\n\nEast African Community Service’s Seattle office: 7050 32nd Avenue S. Seattle\, WA 98118\n\n\n\n\nhttps://eastafricancs.org/prenatal-and-home-visiting/
URL:https://perinatalsupport.org/event/perinatal-compassion-circle/2024-02-14/
LOCATION:7050 32nd Avenue S Seattle\, 7050 32nd Avenue S.\, Seattle\, WA\, 98118\, United States
CATEGORIES:BIPOC,East African Community Services,King,Support Group
GEO:47.5391411;-122.290599
X-APPLE-STRUCTURED-LOCATION;VALUE=URI;X-ADDRESS=7050 32nd Avenue S Seattle 7050 32nd Avenue S. Seattle WA 98118 United States;X-APPLE-RADIUS=500;X-TITLE=7050 32nd Avenue S.:geo:-122.290599,47.5391411
END:VEVENT
BEGIN:VEVENT
DTSTART;TZID=America/Vancouver:20240220T110000
DTEND;TZID=America/Vancouver:20240220T130000
DTSTAMP:20260424T140920
CREATED:20220928T183531Z
LAST-MODIFIED:20230324T153811Z
UID:10016491-1708426800-1708434000@perinatalsupport.org
SUMMARY:This Is Not What I Expected
DESCRIPTION:Meeting Virtually the 1st and 3rd Tuesday of each month from 7-9pm on Microsoft Teams! Please contact parentbaby@evergreenhealth.com or call the HealthLine at 425-899-3000 for the meeting access code. \n“This is Not What I Expected” provides emotional support for families who are feeling overwhelmed\, distressed\, anxious\, sad or having trouble adjusting after the birth of their baby. Both parents are welcome\, as are babies and other family members or friends who are supporting you. \nYour Facilitators: Wendy Dean\, Early Parenting & Lactation Educator\, and Dawn Edwards\, MSW\, LASW. \nFor more information\, call the EvergreenHealth Postpartum Care Center (425.899.3602) or the HealthLine at 425-899-3000.
URL:https://perinatalsupport.org/event/kirkland-this-is-not-what-i-expected-2/2024-02-20/
LOCATION:EvergreenHealth\, 12333 NE 130th Lane Surgery & Physicians Pavilion\, Room TAN 134\, Kirkland\, WA\, United States
CATEGORIES:King,Support Group
ORGANIZER;CN="Tracy Van Den Boomen and Patricia Morgan":MAILTO:tvandenboomen@evergreenhealth.com
GEO:47.7161168;-122.1765109
X-APPLE-STRUCTURED-LOCATION;VALUE=URI;X-ADDRESS=EvergreenHealth 12333 NE 130th Lane Surgery & Physicians Pavilion Room TAN 134 Kirkland WA United States;X-APPLE-RADIUS=500;X-TITLE=12333 NE 130th Lane Surgery & Physicians Pavilion\, Room TAN 134:geo:-122.1765109,47.7161168
END:VEVENT
BEGIN:VEVENT
DTSTART;TZID=America/Vancouver:20240221T193000
DTEND;TZID=America/Vancouver:20240221T203000
DTSTAMP:20260424T140920
CREATED:20240807T230754Z
LAST-MODIFIED:20240807T232932Z
UID:10022343-1708543800-1708547400@perinatalsupport.org
SUMMARY:Seattle In Person Perinatal Loss Support Group
DESCRIPTION:*SEATTLE Parent Support Group\, \nin Person at Seattle Children’s Hospital in the Anna Clise Board Room – RB 3.614. \n7:30 p.m. Third Wednesday. \nContact Casey at Casey.Raker@gmail.com. \n 
URL:https://perinatalsupport.org/event/seattle-parent-support-group-2-3/2024-02-21/
CATEGORIES:King,Perinatal Loss Support,Support Group
END:VEVENT
END:VCALENDAR