BEGIN:VCALENDAR
VERSION:2.0
PRODID:-//Perinatal Support Washington - ECPv6.15.20//NONSGML v1.0//EN
CALSCALE:GREGORIAN
METHOD:PUBLISH
X-ORIGINAL-URL:https://perinatalsupport.org
X-WR-CALDESC:Events for Perinatal Support Washington
REFRESH-INTERVAL;VALUE=DURATION:PT1H
X-Robots-Tag:noindex
X-PUBLISHED-TTL:PT1H
BEGIN:VTIMEZONE
TZID:America/Vancouver
BEGIN:DAYLIGHT
TZOFFSETFROM:-0800
TZOFFSETTO:-0700
TZNAME:PDT
DTSTART:20230312T100000
END:DAYLIGHT
BEGIN:STANDARD
TZOFFSETFROM:-0700
TZOFFSETTO:-0800
TZNAME:PST
DTSTART:20231105T090000
END:STANDARD
BEGIN:DAYLIGHT
TZOFFSETFROM:-0800
TZOFFSETTO:-0700
TZNAME:PDT
DTSTART:20240310T100000
END:DAYLIGHT
BEGIN:STANDARD
TZOFFSETFROM:-0700
TZOFFSETTO:-0800
TZNAME:PST
DTSTART:20241103T090000
END:STANDARD
BEGIN:DAYLIGHT
TZOFFSETFROM:-0800
TZOFFSETTO:-0700
TZNAME:PDT
DTSTART:20250309T100000
END:DAYLIGHT
BEGIN:STANDARD
TZOFFSETFROM:-0700
TZOFFSETTO:-0800
TZNAME:PST
DTSTART:20251102T090000
END:STANDARD
END:VTIMEZONE
BEGIN:VEVENT
DTSTART;TZID=America/Vancouver:20240214T160000
DTEND;TZID=America/Vancouver:20240214T180000
DTSTAMP:20260424T194210
CREATED:20221027T191840Z
LAST-MODIFIED:20230302T031919Z
UID:10016303-1707926400-1707933600@perinatalsupport.org
SUMMARY:Perinatal Compassion Circle
DESCRIPTION:Perinatal Compassion Circle\nOn zoom\n2nd Wednesday of every month from 4PM – 6PM\n\nPerinatal Compassion Circle is EACS’ parent support service targeted for expecting parents and parents with infants and toddlers under the age of 3. The focus of the event is to provide a safe and trusted place for parents to voice the support that they need and changes that they would like to see in the way that the community responds to prenatal needs. The topics covered are tailored to community needs and directed at providing services to address the struggles and gaps that our community needs in terms of mental health support for mothers.  \n\n\n\nFacilitator: Rukia Ahmed and other home visitors\n\nEast African Community Service’s Seattle office: 7050 32nd Avenue S. Seattle\, WA 98118\n\n\n\n\nhttps://eastafricancs.org/prenatal-and-home-visiting/
URL:https://perinatalsupport.org/event/perinatal-compassion-circle/2024-02-14/
LOCATION:7050 32nd Avenue S Seattle\, 7050 32nd Avenue S.\, Seattle\, WA\, 98118\, United States
CATEGORIES:BIPOC,East African Community Services,King,Support Group
GEO:47.5391411;-122.290599
X-APPLE-STRUCTURED-LOCATION;VALUE=URI;X-ADDRESS=7050 32nd Avenue S Seattle 7050 32nd Avenue S. Seattle WA 98118 United States;X-APPLE-RADIUS=500;X-TITLE=7050 32nd Avenue S.:geo:-122.290599,47.5391411
END:VEVENT
END:VCALENDAR