BEGIN:VCALENDAR
VERSION:2.0
PRODID:-//Perinatal Support Washington - ECPv6.15.20//NONSGML v1.0//EN
CALSCALE:GREGORIAN
METHOD:PUBLISH
X-ORIGINAL-URL:https://perinatalsupport.org
X-WR-CALDESC:Events for Perinatal Support Washington
REFRESH-INTERVAL;VALUE=DURATION:PT1H
X-Robots-Tag:noindex
X-PUBLISHED-TTL:PT1H
BEGIN:VTIMEZONE
TZID:America/Vancouver
BEGIN:DAYLIGHT
TZOFFSETFROM:-0800
TZOFFSETTO:-0700
TZNAME:PDT
DTSTART:20270314T100000
END:DAYLIGHT
BEGIN:STANDARD
TZOFFSETFROM:-0700
TZOFFSETTO:-0800
TZNAME:PST
DTSTART:20271107T090000
END:STANDARD
BEGIN:DAYLIGHT
TZOFFSETFROM:-0800
TZOFFSETTO:-0700
TZNAME:PDT
DTSTART:20280312T100000
END:DAYLIGHT
BEGIN:STANDARD
TZOFFSETFROM:-0700
TZOFFSETTO:-0800
TZNAME:PST
DTSTART:20281105T090000
END:STANDARD
BEGIN:DAYLIGHT
TZOFFSETFROM:-0800
TZOFFSETTO:-0700
TZNAME:PDT
DTSTART:20290311T100000
END:DAYLIGHT
BEGIN:STANDARD
TZOFFSETFROM:-0700
TZOFFSETTO:-0800
TZNAME:PST
DTSTART:20291104T090000
END:STANDARD
BEGIN:DAYLIGHT
TZOFFSETFROM:-0800
TZOFFSETTO:-0700
TZNAME:PDT
DTSTART:20300310T100000
END:DAYLIGHT
BEGIN:STANDARD
TZOFFSETFROM:-0700
TZOFFSETTO:-0800
TZNAME:PST
DTSTART:20301103T090000
END:STANDARD
END:VTIMEZONE
BEGIN:VEVENT
DTSTART;TZID=America/Vancouver:20281107T180000
DTEND;TZID=America/Vancouver:20281107T190000
DTSTAMP:20260425T084805
CREATED:20240214T041528Z
LAST-MODIFIED:20240214T041528Z
UID:10019812-1857232800-1857236400@perinatalsupport.org
SUMMARY:Nurturing Beginnings
DESCRIPTION:The Nurturing Beginnings support group meets the First Tuesday of every month from 6:00pm -7:00pm at First Lutheran Church (512 N Ruby Street; Ellensburg\, WA). Childcare is always available. \nThe facilitators are Marie Marchand and Colleen Steward\, contact info: namikittitas@gmail.com or 360-977-0356.
URL:https://perinatalsupport.org/event/nurturing-beginnings/2028-11-07/
LOCATION:512 N Ruby Street; Ellensburg\, 512 N Ruby Street\, Ellensburg\, WA\, 98926\, United States
CATEGORIES:Kittitas,Support Group
GEO:46.9972954;-120.5443721
X-APPLE-STRUCTURED-LOCATION;VALUE=URI;X-ADDRESS=512 N Ruby Street; Ellensburg 512 N Ruby Street Ellensburg WA 98926 United States;X-APPLE-RADIUS=500;X-TITLE=512 N Ruby Street:geo:-120.5443721,46.9972954
END:VEVENT
BEGIN:VEVENT
DTSTART;TZID=America/Vancouver:20281120T183000
DTEND;TZID=America/Vancouver:20281120T200000
DTSTAMP:20260425T084805
CREATED:20240124T160459Z
LAST-MODIFIED:20240208T204338Z
UID:10019753-1858357800-1858363200@perinatalsupport.org
SUMMARY:Family Support Group hosted by NAMI
DESCRIPTION:NAMI Family Support Group is a peer-led support group for any adult with a loved one who has\nexperienced symptoms of a mental health condition. \nMeeting Days: \nThe 1st & 3rd Monday of each\nmonth\, starting February 5 \nMeeting Time:\n6:30 pm-8 pm \nLocation:\nFirst Lutheran Church\n512 N Ruby Street\nEllensburg\, WA \nYou can gain hope and develop supportive relationships by sharing your experiences in a safe setting. This group allows your voice to be heard and meet your personal needs. It encourages empathy\, productive discussion\, and a sense of community. You’ll benefit from others’ experiences\, discover your inner strength\, and empower yourself by sharing your experiences in a non-judgmental space. \nQuestions about the group?\nCall (509) 607-9252 to talk with our lead facilitator
URL:https://perinatalsupport.org/event/family-support-group-hosted-by-nami-2/2028-11-20/
LOCATION:First Lutheran Church 512 N Ruby Street Ellensburg\, WA\, 512 N Ruby Street\, Ellensburg\, WA\, 98926\, United States
CATEGORIES:Kittitas,Support Group
GEO:46.9972954;-120.5443721
X-APPLE-STRUCTURED-LOCATION;VALUE=URI;X-ADDRESS=First Lutheran Church 512 N Ruby Street Ellensburg WA 512 N Ruby Street Ellensburg WA 98926 United States;X-APPLE-RADIUS=500;X-TITLE=512 N Ruby Street:geo:-120.5443721,46.9972954
END:VEVENT
BEGIN:VEVENT
DTSTART;TZID=America/Vancouver:20281205T180000
DTEND;TZID=America/Vancouver:20281205T190000
DTSTAMP:20260425T084805
CREATED:20240214T041528Z
LAST-MODIFIED:20240214T041528Z
UID:10019813-1859652000-1859655600@perinatalsupport.org
SUMMARY:Nurturing Beginnings
DESCRIPTION:The Nurturing Beginnings support group meets the First Tuesday of every month from 6:00pm -7:00pm at First Lutheran Church (512 N Ruby Street; Ellensburg\, WA). Childcare is always available. \nThe facilitators are Marie Marchand and Colleen Steward\, contact info: namikittitas@gmail.com or 360-977-0356.
URL:https://perinatalsupport.org/event/nurturing-beginnings/2028-12-05/
LOCATION:512 N Ruby Street; Ellensburg\, 512 N Ruby Street\, Ellensburg\, WA\, 98926\, United States
CATEGORIES:Kittitas,Support Group
GEO:46.9972954;-120.5443721
X-APPLE-STRUCTURED-LOCATION;VALUE=URI;X-ADDRESS=512 N Ruby Street; Ellensburg 512 N Ruby Street Ellensburg WA 98926 United States;X-APPLE-RADIUS=500;X-TITLE=512 N Ruby Street:geo:-120.5443721,46.9972954
END:VEVENT
BEGIN:VEVENT
DTSTART;TZID=America/Vancouver:20281218T183000
DTEND;TZID=America/Vancouver:20281218T200000
DTSTAMP:20260425T084805
CREATED:20240124T160459Z
LAST-MODIFIED:20240208T204338Z
UID:10019754-1860777000-1860782400@perinatalsupport.org
SUMMARY:Family Support Group hosted by NAMI
DESCRIPTION:NAMI Family Support Group is a peer-led support group for any adult with a loved one who has\nexperienced symptoms of a mental health condition. \nMeeting Days: \nThe 1st & 3rd Monday of each\nmonth\, starting February 5 \nMeeting Time:\n6:30 pm-8 pm \nLocation:\nFirst Lutheran Church\n512 N Ruby Street\nEllensburg\, WA \nYou can gain hope and develop supportive relationships by sharing your experiences in a safe setting. This group allows your voice to be heard and meet your personal needs. It encourages empathy\, productive discussion\, and a sense of community. You’ll benefit from others’ experiences\, discover your inner strength\, and empower yourself by sharing your experiences in a non-judgmental space. \nQuestions about the group?\nCall (509) 607-9252 to talk with our lead facilitator
URL:https://perinatalsupport.org/event/family-support-group-hosted-by-nami-2/2028-12-18/
LOCATION:First Lutheran Church 512 N Ruby Street Ellensburg\, WA\, 512 N Ruby Street\, Ellensburg\, WA\, 98926\, United States
CATEGORIES:Kittitas,Support Group
GEO:46.9972954;-120.5443721
X-APPLE-STRUCTURED-LOCATION;VALUE=URI;X-ADDRESS=First Lutheran Church 512 N Ruby Street Ellensburg WA 512 N Ruby Street Ellensburg WA 98926 United States;X-APPLE-RADIUS=500;X-TITLE=512 N Ruby Street:geo:-120.5443721,46.9972954
END:VEVENT
BEGIN:VEVENT
DTSTART;TZID=America/Vancouver:20290102T180000
DTEND;TZID=America/Vancouver:20290102T190000
DTSTAMP:20260425T084805
CREATED:20240214T041528Z
LAST-MODIFIED:20240214T041528Z
UID:10019814-1862071200-1862074800@perinatalsupport.org
SUMMARY:Nurturing Beginnings
DESCRIPTION:The Nurturing Beginnings support group meets the First Tuesday of every month from 6:00pm -7:00pm at First Lutheran Church (512 N Ruby Street; Ellensburg\, WA). Childcare is always available. \nThe facilitators are Marie Marchand and Colleen Steward\, contact info: namikittitas@gmail.com or 360-977-0356.
URL:https://perinatalsupport.org/event/nurturing-beginnings/2029-01-02/
LOCATION:512 N Ruby Street; Ellensburg\, 512 N Ruby Street\, Ellensburg\, WA\, 98926\, United States
CATEGORIES:Kittitas,Support Group
GEO:46.9972954;-120.5443721
X-APPLE-STRUCTURED-LOCATION;VALUE=URI;X-ADDRESS=512 N Ruby Street; Ellensburg 512 N Ruby Street Ellensburg WA 98926 United States;X-APPLE-RADIUS=500;X-TITLE=512 N Ruby Street:geo:-120.5443721,46.9972954
END:VEVENT
BEGIN:VEVENT
DTSTART;TZID=America/Vancouver:20290115T183000
DTEND;TZID=America/Vancouver:20290115T200000
DTSTAMP:20260425T084805
CREATED:20240124T160459Z
LAST-MODIFIED:20240208T204338Z
UID:10019755-1863196200-1863201600@perinatalsupport.org
SUMMARY:Family Support Group hosted by NAMI
DESCRIPTION:NAMI Family Support Group is a peer-led support group for any adult with a loved one who has\nexperienced symptoms of a mental health condition. \nMeeting Days: \nThe 1st & 3rd Monday of each\nmonth\, starting February 5 \nMeeting Time:\n6:30 pm-8 pm \nLocation:\nFirst Lutheran Church\n512 N Ruby Street\nEllensburg\, WA \nYou can gain hope and develop supportive relationships by sharing your experiences in a safe setting. This group allows your voice to be heard and meet your personal needs. It encourages empathy\, productive discussion\, and a sense of community. You’ll benefit from others’ experiences\, discover your inner strength\, and empower yourself by sharing your experiences in a non-judgmental space. \nQuestions about the group?\nCall (509) 607-9252 to talk with our lead facilitator
URL:https://perinatalsupport.org/event/family-support-group-hosted-by-nami-2/2029-01-15/
LOCATION:First Lutheran Church 512 N Ruby Street Ellensburg\, WA\, 512 N Ruby Street\, Ellensburg\, WA\, 98926\, United States
CATEGORIES:Kittitas,Support Group
GEO:46.9972954;-120.5443721
X-APPLE-STRUCTURED-LOCATION;VALUE=URI;X-ADDRESS=First Lutheran Church 512 N Ruby Street Ellensburg WA 512 N Ruby Street Ellensburg WA 98926 United States;X-APPLE-RADIUS=500;X-TITLE=512 N Ruby Street:geo:-120.5443721,46.9972954
END:VEVENT
BEGIN:VEVENT
DTSTART;TZID=America/Vancouver:20290206T180000
DTEND;TZID=America/Vancouver:20290206T190000
DTSTAMP:20260425T084805
CREATED:20240214T041528Z
LAST-MODIFIED:20240214T041528Z
UID:10019815-1865095200-1865098800@perinatalsupport.org
SUMMARY:Nurturing Beginnings
DESCRIPTION:The Nurturing Beginnings support group meets the First Tuesday of every month from 6:00pm -7:00pm at First Lutheran Church (512 N Ruby Street; Ellensburg\, WA). Childcare is always available. \nThe facilitators are Marie Marchand and Colleen Steward\, contact info: namikittitas@gmail.com or 360-977-0356.
URL:https://perinatalsupport.org/event/nurturing-beginnings/2029-02-06/
LOCATION:512 N Ruby Street; Ellensburg\, 512 N Ruby Street\, Ellensburg\, WA\, 98926\, United States
CATEGORIES:Kittitas,Support Group
GEO:46.9972954;-120.5443721
X-APPLE-STRUCTURED-LOCATION;VALUE=URI;X-ADDRESS=512 N Ruby Street; Ellensburg 512 N Ruby Street Ellensburg WA 98926 United States;X-APPLE-RADIUS=500;X-TITLE=512 N Ruby Street:geo:-120.5443721,46.9972954
END:VEVENT
END:VCALENDAR