BEGIN:VCALENDAR
VERSION:2.0
PRODID:-//Perinatal Support Washington - ECPv6.15.20//NONSGML v1.0//EN
CALSCALE:GREGORIAN
METHOD:PUBLISH
X-ORIGINAL-URL:https://perinatalsupport.org
X-WR-CALDESC:Events for Perinatal Support Washington
REFRESH-INTERVAL;VALUE=DURATION:PT1H
X-Robots-Tag:noindex
X-PUBLISHED-TTL:PT1H
BEGIN:VTIMEZONE
TZID:America/Vancouver
BEGIN:DAYLIGHT
TZOFFSETFROM:-0800
TZOFFSETTO:-0700
TZNAME:PDT
DTSTART:20200308T100000
END:DAYLIGHT
BEGIN:STANDARD
TZOFFSETFROM:-0700
TZOFFSETTO:-0800
TZNAME:PST
DTSTART:20201101T090000
END:STANDARD
BEGIN:DAYLIGHT
TZOFFSETFROM:-0800
TZOFFSETTO:-0700
TZNAME:PDT
DTSTART:20210314T100000
END:DAYLIGHT
BEGIN:STANDARD
TZOFFSETFROM:-0700
TZOFFSETTO:-0800
TZNAME:PST
DTSTART:20211107T090000
END:STANDARD
BEGIN:DAYLIGHT
TZOFFSETFROM:-0800
TZOFFSETTO:-0700
TZNAME:PDT
DTSTART:20220313T100000
END:DAYLIGHT
BEGIN:STANDARD
TZOFFSETFROM:-0700
TZOFFSETTO:-0800
TZNAME:PST
DTSTART:20221106T090000
END:STANDARD
BEGIN:DAYLIGHT
TZOFFSETFROM:-0800
TZOFFSETTO:-0700
TZNAME:PDT
DTSTART:20230312T100000
END:DAYLIGHT
BEGIN:STANDARD
TZOFFSETFROM:-0700
TZOFFSETTO:-0800
TZNAME:PST
DTSTART:20231105T090000
END:STANDARD
END:VTIMEZONE
BEGIN:VEVENT
DTSTART;TZID=America/Vancouver:20210914T110000
DTEND;TZID=America/Vancouver:20210914T110000
DTSTAMP:20260425T080316
CREATED:20201111T064543Z
LAST-MODIFIED:20230302T032518Z
UID:10013570-1631617200-1631617200@perinatalsupport.org
SUMMARY:Apoyo Perinatal (Spanish-language)
DESCRIPTION:Nuestros grupos en el internet están aquí para ayudarle a conectar con otros padres\, hablar sobre sus experiencias\, y para aprender acerca de herramientas y recursos útiles. \nPara mayor información sobre la inscripción- ¡pulse aquí! \n 
URL:https://perinatalsupport.org/event/apoyo-perinatal-spanish-language/2021-09-14/
LOCATION:Online
CATEGORIES:BIPOC,Latinx,Spanish,Support Group
GEO:47.7510741;-120.7401385
END:VEVENT
BEGIN:VEVENT
DTSTART;TZID=America/Vancouver:20210921T110000
DTEND;TZID=America/Vancouver:20210921T110000
DTSTAMP:20260425T080316
CREATED:20201111T064543Z
LAST-MODIFIED:20230302T032518Z
UID:10013571-1632222000-1632222000@perinatalsupport.org
SUMMARY:Apoyo Perinatal (Spanish-language)
DESCRIPTION:Nuestros grupos en el internet están aquí para ayudarle a conectar con otros padres\, hablar sobre sus experiencias\, y para aprender acerca de herramientas y recursos útiles. \nPara mayor información sobre la inscripción- ¡pulse aquí! \n 
URL:https://perinatalsupport.org/event/apoyo-perinatal-spanish-language/2021-09-21/
LOCATION:Online
CATEGORIES:BIPOC,Latinx,Spanish,Support Group
GEO:47.7510741;-120.7401385
END:VEVENT
BEGIN:VEVENT
DTSTART;TZID=America/Vancouver:20210927T153000
DTEND;TZID=America/Vancouver:20210927T163000
DTSTAMP:20260425T080316
CREATED:20220928T183629Z
LAST-MODIFIED:20230302T031022Z
UID:10013955-1632756600-1632760200@perinatalsupport.org
SUMMARY:Mamás Unidas
DESCRIPTION:Un Grupo Virtual Comunitario \nCOMPARTIENDO \nCOMPRENDIENDO \nOFRECIERENDO APOYO \nY ANIMANDO \nAPRENDERIENDO \nREFLEXIONANDO \n¿Estas Sufriendo? ¿Estas Estresada? ¡Estamos aquí para ayudarte! LIBRE DE ASESORAMIENTO Y OPINIONES. \nMamás Solteras ~ Mamás con Experiencia ~ Mamás sin Experiencia \n¡Chongos\, Pijamas y Niños Bienvenidos! Como sea que te identifiques: mamá Latina\, Hispana\, o Latinx mom. Sesiones de 10 semanas. \nPremios y certificados se entregarán al final de las 10 sesiones. \nSegundo y cuarto lunes de 3:30 PM – 4:30 PM. \nLlama para registrarte a: Youth and Family Link \nPara Español (360) 751-4320
URL:https://perinatalsupport.org/event/mamas-unidas-4/2021-09-27/
LOCATION:Online
CATEGORIES:BIPOC,Latinx,Spanish,Support Group
GEO:47.7510741;-120.7401385
END:VEVENT
BEGIN:VEVENT
DTSTART;TZID=America/Vancouver:20210928T110000
DTEND;TZID=America/Vancouver:20210928T110000
DTSTAMP:20260425T080316
CREATED:20201111T064543Z
LAST-MODIFIED:20230302T032518Z
UID:10013572-1632826800-1632826800@perinatalsupport.org
SUMMARY:Apoyo Perinatal (Spanish-language)
DESCRIPTION:Nuestros grupos en el internet están aquí para ayudarle a conectar con otros padres\, hablar sobre sus experiencias\, y para aprender acerca de herramientas y recursos útiles. \nPara mayor información sobre la inscripción- ¡pulse aquí! \n 
URL:https://perinatalsupport.org/event/apoyo-perinatal-spanish-language/2021-09-28/
LOCATION:Online
CATEGORIES:BIPOC,Latinx,Spanish,Support Group
GEO:47.7510741;-120.7401385
END:VEVENT
BEGIN:VEVENT
DTSTART;TZID=America/Vancouver:20211005T110000
DTEND;TZID=America/Vancouver:20211005T110000
DTSTAMP:20260425T080316
CREATED:20201111T064543Z
LAST-MODIFIED:20230302T032518Z
UID:10013573-1633431600-1633431600@perinatalsupport.org
SUMMARY:Apoyo Perinatal (Spanish-language)
DESCRIPTION:Nuestros grupos en el internet están aquí para ayudarle a conectar con otros padres\, hablar sobre sus experiencias\, y para aprender acerca de herramientas y recursos útiles. \nPara mayor información sobre la inscripción- ¡pulse aquí! \n 
URL:https://perinatalsupport.org/event/apoyo-perinatal-spanish-language/2021-10-05/
LOCATION:Online
CATEGORIES:BIPOC,Latinx,Spanish,Support Group
GEO:47.7510741;-120.7401385
END:VEVENT
BEGIN:VEVENT
DTSTART;TZID=America/Vancouver:20211011T153000
DTEND;TZID=America/Vancouver:20211011T163000
DTSTAMP:20260425T080316
CREATED:20210611T180240Z
LAST-MODIFIED:20230302T031129Z
UID:10013928-1633966200-1633969800@perinatalsupport.org
SUMMARY:Mamás Unidas
DESCRIPTION:Un Grupo Virtual Comunitario \nCOMPARTIENDO \nCOMPRENDIENDO \nOFRECIERENDO APOYO \nY ANIMANDO \nAPRENDERIENDO \nREFLEXIONANDO \n¿Estas Sufriendo? ¿Estas Estresada? ¡Estamos aquí para ayudarte! LIBRE DE ASESORAMIENTO Y OPINIONES. \nMamás Solteras ~ Mamás con Experiencia ~ Mamás sin Experiencia \n¡Chongos\, Pijamas y Niños Bienvenidos! Como sea que te identifiques: mamá Latina\, Hispana\, o Latinx mom. Sesiones de 10 semanas. \nPremios y certificados se entregarán al final de las 10 sesiones. \nSegundo y cuarto lunes de 3:30 PM – 4:30 PM. \nLlama para registrarte a: Youth and Family Link \nPara Español (360) 751-4320
URL:https://perinatalsupport.org/event/mamas-unidas-5/2021-10-11/
LOCATION:Online
CATEGORIES:BIPOC,Latinx,Spanish,Support Group
GEO:47.7510741;-120.7401385
END:VEVENT
BEGIN:VEVENT
DTSTART;TZID=America/Vancouver:20211012T110000
DTEND;TZID=America/Vancouver:20211012T110000
DTSTAMP:20260425T080316
CREATED:20201111T064543Z
LAST-MODIFIED:20230302T032518Z
UID:10013574-1634036400-1634036400@perinatalsupport.org
SUMMARY:Apoyo Perinatal (Spanish-language)
DESCRIPTION:Nuestros grupos en el internet están aquí para ayudarle a conectar con otros padres\, hablar sobre sus experiencias\, y para aprender acerca de herramientas y recursos útiles. \nPara mayor información sobre la inscripción- ¡pulse aquí! \n 
URL:https://perinatalsupport.org/event/apoyo-perinatal-spanish-language/2021-10-12/
LOCATION:Online
CATEGORIES:BIPOC,Latinx,Spanish,Support Group
GEO:47.7510741;-120.7401385
END:VEVENT
BEGIN:VEVENT
DTSTART;TZID=America/Vancouver:20211019T110000
DTEND;TZID=America/Vancouver:20211019T110000
DTSTAMP:20260425T080316
CREATED:20201111T064543Z
LAST-MODIFIED:20230302T032518Z
UID:10013575-1634641200-1634641200@perinatalsupport.org
SUMMARY:Apoyo Perinatal (Spanish-language)
DESCRIPTION:Nuestros grupos en el internet están aquí para ayudarle a conectar con otros padres\, hablar sobre sus experiencias\, y para aprender acerca de herramientas y recursos útiles. \nPara mayor información sobre la inscripción- ¡pulse aquí! \n 
URL:https://perinatalsupport.org/event/apoyo-perinatal-spanish-language/2021-10-19/
LOCATION:Online
CATEGORIES:BIPOC,Latinx,Spanish,Support Group
GEO:47.7510741;-120.7401385
END:VEVENT
BEGIN:VEVENT
DTSTART;TZID=America/Vancouver:20211025T153000
DTEND;TZID=America/Vancouver:20211025T163000
DTSTAMP:20260425T080316
CREATED:20220928T183629Z
LAST-MODIFIED:20230302T031022Z
UID:10013956-1635175800-1635179400@perinatalsupport.org
SUMMARY:Mamás Unidas
DESCRIPTION:Un Grupo Virtual Comunitario \nCOMPARTIENDO \nCOMPRENDIENDO \nOFRECIERENDO APOYO \nY ANIMANDO \nAPRENDERIENDO \nREFLEXIONANDO \n¿Estas Sufriendo? ¿Estas Estresada? ¡Estamos aquí para ayudarte! LIBRE DE ASESORAMIENTO Y OPINIONES. \nMamás Solteras ~ Mamás con Experiencia ~ Mamás sin Experiencia \n¡Chongos\, Pijamas y Niños Bienvenidos! Como sea que te identifiques: mamá Latina\, Hispana\, o Latinx mom. Sesiones de 10 semanas. \nPremios y certificados se entregarán al final de las 10 sesiones. \nSegundo y cuarto lunes de 3:30 PM – 4:30 PM. \nLlama para registrarte a: Youth and Family Link \nPara Español (360) 751-4320
URL:https://perinatalsupport.org/event/mamas-unidas-4/2021-10-25/
LOCATION:Online
CATEGORIES:BIPOC,Latinx,Spanish,Support Group
GEO:47.7510741;-120.7401385
END:VEVENT
BEGIN:VEVENT
DTSTART;TZID=America/Vancouver:20211026T110000
DTEND;TZID=America/Vancouver:20211026T110000
DTSTAMP:20260425T080316
CREATED:20201111T064543Z
LAST-MODIFIED:20230302T032518Z
UID:10013576-1635246000-1635246000@perinatalsupport.org
SUMMARY:Apoyo Perinatal (Spanish-language)
DESCRIPTION:Nuestros grupos en el internet están aquí para ayudarle a conectar con otros padres\, hablar sobre sus experiencias\, y para aprender acerca de herramientas y recursos útiles. \nPara mayor información sobre la inscripción- ¡pulse aquí! \n 
URL:https://perinatalsupport.org/event/apoyo-perinatal-spanish-language/2021-10-26/
LOCATION:Online
CATEGORIES:BIPOC,Latinx,Spanish,Support Group
GEO:47.7510741;-120.7401385
END:VEVENT
BEGIN:VEVENT
DTSTART;TZID=America/Vancouver:20211102T110000
DTEND;TZID=America/Vancouver:20211102T110000
DTSTAMP:20260425T080316
CREATED:20201111T064543Z
LAST-MODIFIED:20230302T032518Z
UID:10013577-1635850800-1635850800@perinatalsupport.org
SUMMARY:Apoyo Perinatal (Spanish-language)
DESCRIPTION:Nuestros grupos en el internet están aquí para ayudarle a conectar con otros padres\, hablar sobre sus experiencias\, y para aprender acerca de herramientas y recursos útiles. \nPara mayor información sobre la inscripción- ¡pulse aquí! \n 
URL:https://perinatalsupport.org/event/apoyo-perinatal-spanish-language/2021-11-02/
LOCATION:Online
CATEGORIES:BIPOC,Latinx,Spanish,Support Group
GEO:47.7510741;-120.7401385
END:VEVENT
BEGIN:VEVENT
DTSTART;TZID=America/Vancouver:20211108T153000
DTEND;TZID=America/Vancouver:20211108T163000
DTSTAMP:20260425T080316
CREATED:20210611T180240Z
LAST-MODIFIED:20230302T031129Z
UID:10013929-1636385400-1636389000@perinatalsupport.org
SUMMARY:Mamás Unidas
DESCRIPTION:Un Grupo Virtual Comunitario \nCOMPARTIENDO \nCOMPRENDIENDO \nOFRECIERENDO APOYO \nY ANIMANDO \nAPRENDERIENDO \nREFLEXIONANDO \n¿Estas Sufriendo? ¿Estas Estresada? ¡Estamos aquí para ayudarte! LIBRE DE ASESORAMIENTO Y OPINIONES. \nMamás Solteras ~ Mamás con Experiencia ~ Mamás sin Experiencia \n¡Chongos\, Pijamas y Niños Bienvenidos! Como sea que te identifiques: mamá Latina\, Hispana\, o Latinx mom. Sesiones de 10 semanas. \nPremios y certificados se entregarán al final de las 10 sesiones. \nSegundo y cuarto lunes de 3:30 PM – 4:30 PM. \nLlama para registrarte a: Youth and Family Link \nPara Español (360) 751-4320
URL:https://perinatalsupport.org/event/mamas-unidas-5/2021-11-08/
LOCATION:Online
CATEGORIES:BIPOC,Latinx,Spanish,Support Group
GEO:47.7510741;-120.7401385
END:VEVENT
BEGIN:VEVENT
DTSTART;TZID=America/Vancouver:20211109T110000
DTEND;TZID=America/Vancouver:20211109T110000
DTSTAMP:20260425T080316
CREATED:20201111T064543Z
LAST-MODIFIED:20230302T032518Z
UID:10013578-1636455600-1636455600@perinatalsupport.org
SUMMARY:Apoyo Perinatal (Spanish-language)
DESCRIPTION:Nuestros grupos en el internet están aquí para ayudarle a conectar con otros padres\, hablar sobre sus experiencias\, y para aprender acerca de herramientas y recursos útiles. \nPara mayor información sobre la inscripción- ¡pulse aquí! \n 
URL:https://perinatalsupport.org/event/apoyo-perinatal-spanish-language/2021-11-09/
LOCATION:Online
CATEGORIES:BIPOC,Latinx,Spanish,Support Group
GEO:47.7510741;-120.7401385
END:VEVENT
BEGIN:VEVENT
DTSTART;TZID=America/Vancouver:20211116T110000
DTEND;TZID=America/Vancouver:20211116T110000
DTSTAMP:20260425T080316
CREATED:20201111T064543Z
LAST-MODIFIED:20230302T032518Z
UID:10013579-1637060400-1637060400@perinatalsupport.org
SUMMARY:Apoyo Perinatal (Spanish-language)
DESCRIPTION:Nuestros grupos en el internet están aquí para ayudarle a conectar con otros padres\, hablar sobre sus experiencias\, y para aprender acerca de herramientas y recursos útiles. \nPara mayor información sobre la inscripción- ¡pulse aquí! \n 
URL:https://perinatalsupport.org/event/apoyo-perinatal-spanish-language/2021-11-16/
LOCATION:Online
CATEGORIES:BIPOC,Latinx,Spanish,Support Group
GEO:47.7510741;-120.7401385
END:VEVENT
BEGIN:VEVENT
DTSTART;TZID=America/Vancouver:20211122T153000
DTEND;TZID=America/Vancouver:20211122T163000
DTSTAMP:20260425T080316
CREATED:20220928T183629Z
LAST-MODIFIED:20230302T031022Z
UID:10013957-1637595000-1637598600@perinatalsupport.org
SUMMARY:Mamás Unidas
DESCRIPTION:Un Grupo Virtual Comunitario \nCOMPARTIENDO \nCOMPRENDIENDO \nOFRECIERENDO APOYO \nY ANIMANDO \nAPRENDERIENDO \nREFLEXIONANDO \n¿Estas Sufriendo? ¿Estas Estresada? ¡Estamos aquí para ayudarte! LIBRE DE ASESORAMIENTO Y OPINIONES. \nMamás Solteras ~ Mamás con Experiencia ~ Mamás sin Experiencia \n¡Chongos\, Pijamas y Niños Bienvenidos! Como sea que te identifiques: mamá Latina\, Hispana\, o Latinx mom. Sesiones de 10 semanas. \nPremios y certificados se entregarán al final de las 10 sesiones. \nSegundo y cuarto lunes de 3:30 PM – 4:30 PM. \nLlama para registrarte a: Youth and Family Link \nPara Español (360) 751-4320
URL:https://perinatalsupport.org/event/mamas-unidas-4/2021-11-22/
LOCATION:Online
CATEGORIES:BIPOC,Latinx,Spanish,Support Group
GEO:47.7510741;-120.7401385
END:VEVENT
BEGIN:VEVENT
DTSTART;TZID=America/Vancouver:20211123T110000
DTEND;TZID=America/Vancouver:20211123T110000
DTSTAMP:20260425T080316
CREATED:20201111T064543Z
LAST-MODIFIED:20230302T032518Z
UID:10013580-1637665200-1637665200@perinatalsupport.org
SUMMARY:Apoyo Perinatal (Spanish-language)
DESCRIPTION:Nuestros grupos en el internet están aquí para ayudarle a conectar con otros padres\, hablar sobre sus experiencias\, y para aprender acerca de herramientas y recursos útiles. \nPara mayor información sobre la inscripción- ¡pulse aquí! \n 
URL:https://perinatalsupport.org/event/apoyo-perinatal-spanish-language/2021-11-23/
LOCATION:Online
CATEGORIES:BIPOC,Latinx,Spanish,Support Group
GEO:47.7510741;-120.7401385
END:VEVENT
BEGIN:VEVENT
DTSTART;TZID=America/Vancouver:20211130T110000
DTEND;TZID=America/Vancouver:20211130T110000
DTSTAMP:20260425T080316
CREATED:20201111T064543Z
LAST-MODIFIED:20230302T032518Z
UID:10013581-1638270000-1638270000@perinatalsupport.org
SUMMARY:Apoyo Perinatal (Spanish-language)
DESCRIPTION:Nuestros grupos en el internet están aquí para ayudarle a conectar con otros padres\, hablar sobre sus experiencias\, y para aprender acerca de herramientas y recursos útiles. \nPara mayor información sobre la inscripción- ¡pulse aquí! \n 
URL:https://perinatalsupport.org/event/apoyo-perinatal-spanish-language/2021-11-30/
LOCATION:Online
CATEGORIES:BIPOC,Latinx,Spanish,Support Group
GEO:47.7510741;-120.7401385
END:VEVENT
BEGIN:VEVENT
DTSTART;TZID=America/Vancouver:20211207T110000
DTEND;TZID=America/Vancouver:20211207T110000
DTSTAMP:20260425T080316
CREATED:20201111T064543Z
LAST-MODIFIED:20230302T032518Z
UID:10013582-1638874800-1638874800@perinatalsupport.org
SUMMARY:Apoyo Perinatal (Spanish-language)
DESCRIPTION:Nuestros grupos en el internet están aquí para ayudarle a conectar con otros padres\, hablar sobre sus experiencias\, y para aprender acerca de herramientas y recursos útiles. \nPara mayor información sobre la inscripción- ¡pulse aquí! \n 
URL:https://perinatalsupport.org/event/apoyo-perinatal-spanish-language/2021-12-07/
LOCATION:Online
CATEGORIES:BIPOC,Latinx,Spanish,Support Group
GEO:47.7510741;-120.7401385
END:VEVENT
BEGIN:VEVENT
DTSTART;TZID=America/Vancouver:20211213T153000
DTEND;TZID=America/Vancouver:20211213T163000
DTSTAMP:20260425T080316
CREATED:20210611T180240Z
LAST-MODIFIED:20230302T031129Z
UID:10013930-1639409400-1639413000@perinatalsupport.org
SUMMARY:Mamás Unidas
DESCRIPTION:Un Grupo Virtual Comunitario \nCOMPARTIENDO \nCOMPRENDIENDO \nOFRECIERENDO APOYO \nY ANIMANDO \nAPRENDERIENDO \nREFLEXIONANDO \n¿Estas Sufriendo? ¿Estas Estresada? ¡Estamos aquí para ayudarte! LIBRE DE ASESORAMIENTO Y OPINIONES. \nMamás Solteras ~ Mamás con Experiencia ~ Mamás sin Experiencia \n¡Chongos\, Pijamas y Niños Bienvenidos! Como sea que te identifiques: mamá Latina\, Hispana\, o Latinx mom. Sesiones de 10 semanas. \nPremios y certificados se entregarán al final de las 10 sesiones. \nSegundo y cuarto lunes de 3:30 PM – 4:30 PM. \nLlama para registrarte a: Youth and Family Link \nPara Español (360) 751-4320
URL:https://perinatalsupport.org/event/mamas-unidas-5/2021-12-13/
LOCATION:Online
CATEGORIES:BIPOC,Latinx,Spanish,Support Group
GEO:47.7510741;-120.7401385
END:VEVENT
BEGIN:VEVENT
DTSTART;TZID=America/Vancouver:20211214T110000
DTEND;TZID=America/Vancouver:20211214T110000
DTSTAMP:20260425T080316
CREATED:20201111T064543Z
LAST-MODIFIED:20230302T032518Z
UID:10013583-1639479600-1639479600@perinatalsupport.org
SUMMARY:Apoyo Perinatal (Spanish-language)
DESCRIPTION:Nuestros grupos en el internet están aquí para ayudarle a conectar con otros padres\, hablar sobre sus experiencias\, y para aprender acerca de herramientas y recursos útiles. \nPara mayor información sobre la inscripción- ¡pulse aquí! \n 
URL:https://perinatalsupport.org/event/apoyo-perinatal-spanish-language/2021-12-14/
LOCATION:Online
CATEGORIES:BIPOC,Latinx,Spanish,Support Group
GEO:47.7510741;-120.7401385
END:VEVENT
BEGIN:VEVENT
DTSTART;TZID=America/Vancouver:20211215T110000
DTEND;TZID=America/Vancouver:20211215T120000
DTSTAMP:20260425T080316
CREATED:20211215T222157Z
LAST-MODIFIED:20240702T201133Z
UID:10014428-1639566000-1639569600@perinatalsupport.org
SUMMARY:Entre Mamás
DESCRIPTION:Un grupo para mujeres embarazadas o mujeres que tienen niños menor de 6 años. \nHorario: Todos los Miércoles \nDirección: 1750 Calawah Way\, 27C Forks\, WA 98331\n*El cuarto de comunidad cerca de las lavadoras* \nContacto: 360-912-1455
URL:https://perinatalsupport.org/event/entre-mamas/2021-12-15/
LOCATION:1750 Calawah Way\, 1750 Calawah Way\, 27C\, Forks\, WA\, 98331\, United States
CATEGORIES:BIPOC,Clallam,Latinx,Spanish,Support Group
GEO:47.9549709;-124.3559339
X-APPLE-STRUCTURED-LOCATION;VALUE=URI;X-ADDRESS=1750 Calawah Way 1750 Calawah Way 27C Forks WA 98331 United States;X-APPLE-RADIUS=500;X-TITLE=1750 Calawah Way\, 27C:geo:-124.3559339,47.9549709
END:VEVENT
BEGIN:VEVENT
DTSTART;TZID=America/Vancouver:20211215T110000
DTEND;TZID=America/Vancouver:20211215T123000
DTSTAMP:20260425T080316
CREATED:20211118T191327Z
LAST-MODIFIED:20230302T164504Z
UID:10014224-1639566000-1639571400@perinatalsupport.org
SUMMARY:Círculo de Alianza Latina para la Maternidad Acompañada (CALMA)
DESCRIPTION:Círculo de Alianza Latina para la Maternidad Acompañada \n¿Estás embarazada o tienes un bebé?\nEl cambio suele ser complicado y la adaptación merece ser acompañada. Te invitamos al grupo de apoyo CALMA donde ofrecemos un espacio para ser escuchadas y honestas sobre los altibajos que conlleva navegar la nueva maternidad. Libre de costo.\nSolamente haz click al enlace ZOOM para participar. \nConéctate cada tercer miércoles del mes.\nHora: 11:00 AM- 12:30 PM PST \nZoom:\nhttps://us02web.zoom.us/j/81431803030 \n¿Preguntas? Escríbele a Sharleen apoyocalma@gmail.com
URL:https://perinatalsupport.org/event/circulo-de-alianza-latina-para-la-maternidad-acompanada-calma/2021-12-15/
LOCATION:Online
CATEGORIES:BIPOC,Latinx,Spanish,Support Group,Whatcom
ORGANIZER;CN="Sharleen Ortiz Rivera":MAILTO:apoyocalma@gmail.com
GEO:47.7510741;-120.7401385
END:VEVENT
BEGIN:VEVENT
DTSTART;TZID=America/Vancouver:20211221T110000
DTEND;TZID=America/Vancouver:20211221T110000
DTSTAMP:20260425T080316
CREATED:20201111T064543Z
LAST-MODIFIED:20230302T032518Z
UID:10013584-1640084400-1640084400@perinatalsupport.org
SUMMARY:Apoyo Perinatal (Spanish-language)
DESCRIPTION:Nuestros grupos en el internet están aquí para ayudarle a conectar con otros padres\, hablar sobre sus experiencias\, y para aprender acerca de herramientas y recursos útiles. \nPara mayor información sobre la inscripción- ¡pulse aquí! \n 
URL:https://perinatalsupport.org/event/apoyo-perinatal-spanish-language/2021-12-21/
LOCATION:Online
CATEGORIES:BIPOC,Latinx,Spanish,Support Group
GEO:47.7510741;-120.7401385
END:VEVENT
BEGIN:VEVENT
DTSTART;TZID=America/Vancouver:20211222T110000
DTEND;TZID=America/Vancouver:20211222T120000
DTSTAMP:20260425T080316
CREATED:20211215T222157Z
LAST-MODIFIED:20240702T201133Z
UID:10014429-1640170800-1640174400@perinatalsupport.org
SUMMARY:Entre Mamás
DESCRIPTION:Un grupo para mujeres embarazadas o mujeres que tienen niños menor de 6 años. \nHorario: Todos los Miércoles \nDirección: 1750 Calawah Way\, 27C Forks\, WA 98331\n*El cuarto de comunidad cerca de las lavadoras* \nContacto: 360-912-1455
URL:https://perinatalsupport.org/event/entre-mamas/2021-12-22/
LOCATION:1750 Calawah Way\, 1750 Calawah Way\, 27C\, Forks\, WA\, 98331\, United States
CATEGORIES:BIPOC,Clallam,Latinx,Spanish,Support Group
GEO:47.9549709;-124.3559339
X-APPLE-STRUCTURED-LOCATION;VALUE=URI;X-ADDRESS=1750 Calawah Way 1750 Calawah Way 27C Forks WA 98331 United States;X-APPLE-RADIUS=500;X-TITLE=1750 Calawah Way\, 27C:geo:-124.3559339,47.9549709
END:VEVENT
BEGIN:VEVENT
DTSTART;TZID=America/Vancouver:20211227T153000
DTEND;TZID=America/Vancouver:20211227T163000
DTSTAMP:20260425T080316
CREATED:20220928T183629Z
LAST-MODIFIED:20230302T031022Z
UID:10013958-1640619000-1640622600@perinatalsupport.org
SUMMARY:Mamás Unidas
DESCRIPTION:Un Grupo Virtual Comunitario \nCOMPARTIENDO \nCOMPRENDIENDO \nOFRECIERENDO APOYO \nY ANIMANDO \nAPRENDERIENDO \nREFLEXIONANDO \n¿Estas Sufriendo? ¿Estas Estresada? ¡Estamos aquí para ayudarte! LIBRE DE ASESORAMIENTO Y OPINIONES. \nMamás Solteras ~ Mamás con Experiencia ~ Mamás sin Experiencia \n¡Chongos\, Pijamas y Niños Bienvenidos! Como sea que te identifiques: mamá Latina\, Hispana\, o Latinx mom. Sesiones de 10 semanas. \nPremios y certificados se entregarán al final de las 10 sesiones. \nSegundo y cuarto lunes de 3:30 PM – 4:30 PM. \nLlama para registrarte a: Youth and Family Link \nPara Español (360) 751-4320
URL:https://perinatalsupport.org/event/mamas-unidas-4/2021-12-27/
LOCATION:Online
CATEGORIES:BIPOC,Latinx,Spanish,Support Group
GEO:47.7510741;-120.7401385
END:VEVENT
BEGIN:VEVENT
DTSTART;TZID=America/Vancouver:20211228T110000
DTEND;TZID=America/Vancouver:20211228T110000
DTSTAMP:20260425T080316
CREATED:20201111T064543Z
LAST-MODIFIED:20230302T032518Z
UID:10013585-1640689200-1640689200@perinatalsupport.org
SUMMARY:Apoyo Perinatal (Spanish-language)
DESCRIPTION:Nuestros grupos en el internet están aquí para ayudarle a conectar con otros padres\, hablar sobre sus experiencias\, y para aprender acerca de herramientas y recursos útiles. \nPara mayor información sobre la inscripción- ¡pulse aquí! \n 
URL:https://perinatalsupport.org/event/apoyo-perinatal-spanish-language/2021-12-28/
LOCATION:Online
CATEGORIES:BIPOC,Latinx,Spanish,Support Group
GEO:47.7510741;-120.7401385
END:VEVENT
BEGIN:VEVENT
DTSTART;TZID=America/Vancouver:20211229T110000
DTEND;TZID=America/Vancouver:20211229T120000
DTSTAMP:20260425T080316
CREATED:20211215T222157Z
LAST-MODIFIED:20240702T201133Z
UID:10014430-1640775600-1640779200@perinatalsupport.org
SUMMARY:Entre Mamás
DESCRIPTION:Un grupo para mujeres embarazadas o mujeres que tienen niños menor de 6 años. \nHorario: Todos los Miércoles \nDirección: 1750 Calawah Way\, 27C Forks\, WA 98331\n*El cuarto de comunidad cerca de las lavadoras* \nContacto: 360-912-1455
URL:https://perinatalsupport.org/event/entre-mamas/2021-12-29/
LOCATION:1750 Calawah Way\, 1750 Calawah Way\, 27C\, Forks\, WA\, 98331\, United States
CATEGORIES:BIPOC,Clallam,Latinx,Spanish,Support Group
GEO:47.9549709;-124.3559339
X-APPLE-STRUCTURED-LOCATION;VALUE=URI;X-ADDRESS=1750 Calawah Way 1750 Calawah Way 27C Forks WA 98331 United States;X-APPLE-RADIUS=500;X-TITLE=1750 Calawah Way\, 27C:geo:-124.3559339,47.9549709
END:VEVENT
BEGIN:VEVENT
DTSTART;TZID=America/Vancouver:20220104T110000
DTEND;TZID=America/Vancouver:20220104T110000
DTSTAMP:20260425T080316
CREATED:20201111T064543Z
LAST-MODIFIED:20230302T032518Z
UID:10013586-1641294000-1641294000@perinatalsupport.org
SUMMARY:Apoyo Perinatal (Spanish-language)
DESCRIPTION:Nuestros grupos en el internet están aquí para ayudarle a conectar con otros padres\, hablar sobre sus experiencias\, y para aprender acerca de herramientas y recursos útiles. \nPara mayor información sobre la inscripción- ¡pulse aquí! \n 
URL:https://perinatalsupport.org/event/apoyo-perinatal-spanish-language/2022-01-04/
LOCATION:Online
CATEGORIES:BIPOC,Latinx,Spanish,Support Group
GEO:47.7510741;-120.7401385
END:VEVENT
BEGIN:VEVENT
DTSTART;TZID=America/Vancouver:20220105T110000
DTEND;TZID=America/Vancouver:20220105T120000
DTSTAMP:20260425T080316
CREATED:20211215T222157Z
LAST-MODIFIED:20240702T201133Z
UID:10014431-1641380400-1641384000@perinatalsupport.org
SUMMARY:Entre Mamás
DESCRIPTION:Un grupo para mujeres embarazadas o mujeres que tienen niños menor de 6 años. \nHorario: Todos los Miércoles \nDirección: 1750 Calawah Way\, 27C Forks\, WA 98331\n*El cuarto de comunidad cerca de las lavadoras* \nContacto: 360-912-1455
URL:https://perinatalsupport.org/event/entre-mamas/2022-01-05/
LOCATION:1750 Calawah Way\, 1750 Calawah Way\, 27C\, Forks\, WA\, 98331\, United States
CATEGORIES:BIPOC,Clallam,Latinx,Spanish,Support Group
GEO:47.9549709;-124.3559339
X-APPLE-STRUCTURED-LOCATION;VALUE=URI;X-ADDRESS=1750 Calawah Way 1750 Calawah Way 27C Forks WA 98331 United States;X-APPLE-RADIUS=500;X-TITLE=1750 Calawah Way\, 27C:geo:-124.3559339,47.9549709
END:VEVENT
BEGIN:VEVENT
DTSTART;TZID=America/Vancouver:20220110T153000
DTEND;TZID=America/Vancouver:20220110T163000
DTSTAMP:20260425T080316
CREATED:20210611T180240Z
LAST-MODIFIED:20230302T031129Z
UID:10013931-1641828600-1641832200@perinatalsupport.org
SUMMARY:Mamás Unidas
DESCRIPTION:Un Grupo Virtual Comunitario \nCOMPARTIENDO \nCOMPRENDIENDO \nOFRECIERENDO APOYO \nY ANIMANDO \nAPRENDERIENDO \nREFLEXIONANDO \n¿Estas Sufriendo? ¿Estas Estresada? ¡Estamos aquí para ayudarte! LIBRE DE ASESORAMIENTO Y OPINIONES. \nMamás Solteras ~ Mamás con Experiencia ~ Mamás sin Experiencia \n¡Chongos\, Pijamas y Niños Bienvenidos! Como sea que te identifiques: mamá Latina\, Hispana\, o Latinx mom. Sesiones de 10 semanas. \nPremios y certificados se entregarán al final de las 10 sesiones. \nSegundo y cuarto lunes de 3:30 PM – 4:30 PM. \nLlama para registrarte a: Youth and Family Link \nPara Español (360) 751-4320
URL:https://perinatalsupport.org/event/mamas-unidas-5/2022-01-10/
LOCATION:Online
CATEGORIES:BIPOC,Latinx,Spanish,Support Group
GEO:47.7510741;-120.7401385
END:VEVENT
END:VCALENDAR