BEGIN:VCALENDAR
VERSION:2.0
PRODID:-//Perinatal Support Washington - ECPv6.15.20//NONSGML v1.0//EN
CALSCALE:GREGORIAN
METHOD:PUBLISH
X-WR-CALNAME:Perinatal Support Washington
X-ORIGINAL-URL:https://perinatalsupport.org
X-WR-CALDESC:Events for Perinatal Support Washington
REFRESH-INTERVAL;VALUE=DURATION:PT1H
X-Robots-Tag:noindex
X-PUBLISHED-TTL:PT1H
BEGIN:VTIMEZONE
TZID:America/Vancouver
BEGIN:DAYLIGHT
TZOFFSETFROM:-0800
TZOFFSETTO:-0700
TZNAME:PDT
DTSTART:20230312T100000
END:DAYLIGHT
BEGIN:STANDARD
TZOFFSETFROM:-0700
TZOFFSETTO:-0800
TZNAME:PST
DTSTART:20231105T090000
END:STANDARD
BEGIN:DAYLIGHT
TZOFFSETFROM:-0800
TZOFFSETTO:-0700
TZNAME:PDT
DTSTART:20240310T100000
END:DAYLIGHT
BEGIN:STANDARD
TZOFFSETFROM:-0700
TZOFFSETTO:-0800
TZNAME:PST
DTSTART:20241103T090000
END:STANDARD
BEGIN:DAYLIGHT
TZOFFSETFROM:-0800
TZOFFSETTO:-0700
TZNAME:PDT
DTSTART:20250309T100000
END:DAYLIGHT
BEGIN:STANDARD
TZOFFSETFROM:-0700
TZOFFSETTO:-0800
TZNAME:PST
DTSTART:20251102T090000
END:STANDARD
BEGIN:DAYLIGHT
TZOFFSETFROM:-0800
TZOFFSETTO:-0700
TZNAME:PDT
DTSTART:20260308T100000
END:DAYLIGHT
BEGIN:STANDARD
TZOFFSETFROM:-0700
TZOFFSETTO:-0800
TZNAME:PST
DTSTART:20261101T090000
END:STANDARD
END:VTIMEZONE
BEGIN:VEVENT
DTSTART;TZID=America/Vancouver:20250213T173000
DTEND;TZID=America/Vancouver:20250213T190000
DTSTAMP:20260422T041920
CREATED:20241120T195326Z
LAST-MODIFIED:20241120T195408Z
UID:10023718-1739467800-1739473200@perinatalsupport.org
SUMMARY:Thurston County Bereavement Support Group
DESCRIPTION:Empowering families affected by fetal\, infant\, or child loss. We welcome you to join our bereavement support group. Anyone who has been affected by a miscarriage\, stillbirth\, infant loss\, or child loss can attend. \n“Grief doesn’t have a timeline; it is a dynamic process that will ebb & flow.” \n\nWhen: 2nd Thursday of every month\n\nWhere: Public Health & Social Services; 412 Lilly Rd NE\, Olympia WA 98506\nTime: 5:30-7 pm\n\n\nhttps://www.thurstoncountywa.gov/events/thurston-county-bereavement-support-group\n\n\nFor more information visit our Fetal Infant Mortality Review & Prevention page. Call 360-867-2500 or email PHSS_FIMR@co.thurston.wa.us
URL:https://perinatalsupport.org/event/thurston-county-bereavement-support-group/2025-02-13/
LOCATION:412 Lilly Rd NE\, Olympia WA 98506\, Lilly Road Northeast 412\, Olympia\, WA\, 98506\, United States
CATEGORIES:perinatal loss,Perinatal Loss Support,Support Group
GEO:47.0520784;-122.8439102
X-APPLE-STRUCTURED-LOCATION;VALUE=URI;X-ADDRESS=412 Lilly Rd NE Olympia WA 98506 Lilly Road Northeast 412 Olympia WA 98506 United States;X-APPLE-RADIUS=500;X-TITLE=Lilly Road Northeast 412:geo:-122.8439102,47.0520784
END:VEVENT
BEGIN:VEVENT
DTSTART;TZID=America/Vancouver:20250210T193000
DTEND;TZID=America/Vancouver:20250210T203000
DTSTAMP:20260422T041920
CREATED:20221203T022515Z
LAST-MODIFIED:20240808T172602Z
UID:10022209-1739215800-1739219400@perinatalsupport.org
SUMMARY:VIRTUAL Perinatal Loss Support Group
DESCRIPTION:VIRTUAL Parent Support Group\, \nVirtual via Zoom click HERE to join.  7:30 p.m. Second Monday. \nContact: Liz at lizzylove1@aol.com.
URL:https://perinatalsupport.org/event/virtual-pregnancy-after-loss-support-group-3/2025-02-10/
LOCATION:Virtual
CATEGORIES:Perinatal Loss Support,Support Group
END:VEVENT
BEGIN:VEVENT
DTSTART;TZID=America/Vancouver:20250115T193000
DTEND;TZID=America/Vancouver:20250115T203000
DTSTAMP:20260422T041920
CREATED:20240807T230754Z
LAST-MODIFIED:20240807T232932Z
UID:10022354-1736969400-1736973000@perinatalsupport.org
SUMMARY:Seattle In Person Perinatal Loss Support Group
DESCRIPTION:*SEATTLE Parent Support Group\, \nin Person at Seattle Children’s Hospital in the Anna Clise Board Room – RB 3.614. \n7:30 p.m. Third Wednesday. \nContact Casey at Casey.Raker@gmail.com. \n 
URL:https://perinatalsupport.org/event/seattle-parent-support-group-2-3/2025-01-15/
CATEGORIES:King,Perinatal Loss Support,Support Group
END:VEVENT
BEGIN:VEVENT
DTSTART;TZID=America/Vancouver:20250113T193000
DTEND;TZID=America/Vancouver:20250113T203000
DTSTAMP:20260422T041920
CREATED:20221203T022515Z
LAST-MODIFIED:20240808T172602Z
UID:10022208-1736796600-1736800200@perinatalsupport.org
SUMMARY:VIRTUAL Perinatal Loss Support Group
DESCRIPTION:VIRTUAL Parent Support Group\, \nVirtual via Zoom click HERE to join.  7:30 p.m. Second Monday. \nContact: Liz at lizzylove1@aol.com.
URL:https://perinatalsupport.org/event/virtual-pregnancy-after-loss-support-group-3/2025-01-13/
LOCATION:Virtual
CATEGORIES:Perinatal Loss Support,Support Group
END:VEVENT
BEGIN:VEVENT
DTSTART;TZID=America/Vancouver:20250109T173000
DTEND;TZID=America/Vancouver:20250109T190000
DTSTAMP:20260422T041920
CREATED:20241120T195326Z
LAST-MODIFIED:20241120T195408Z
UID:10023717-1736443800-1736449200@perinatalsupport.org
SUMMARY:Thurston County Bereavement Support Group
DESCRIPTION:Empowering families affected by fetal\, infant\, or child loss. We welcome you to join our bereavement support group. Anyone who has been affected by a miscarriage\, stillbirth\, infant loss\, or child loss can attend. \n“Grief doesn’t have a timeline; it is a dynamic process that will ebb & flow.” \n\nWhen: 2nd Thursday of every month\n\nWhere: Public Health & Social Services; 412 Lilly Rd NE\, Olympia WA 98506\nTime: 5:30-7 pm\n\n\nhttps://www.thurstoncountywa.gov/events/thurston-county-bereavement-support-group\n\n\nFor more information visit our Fetal Infant Mortality Review & Prevention page. Call 360-867-2500 or email PHSS_FIMR@co.thurston.wa.us
URL:https://perinatalsupport.org/event/thurston-county-bereavement-support-group/2025-01-09/
LOCATION:412 Lilly Rd NE\, Olympia WA 98506\, Lilly Road Northeast 412\, Olympia\, WA\, 98506\, United States
CATEGORIES:perinatal loss,Perinatal Loss Support,Support Group
GEO:47.0520784;-122.8439102
X-APPLE-STRUCTURED-LOCATION;VALUE=URI;X-ADDRESS=412 Lilly Rd NE Olympia WA 98506 Lilly Road Northeast 412 Olympia WA 98506 United States;X-APPLE-RADIUS=500;X-TITLE=Lilly Road Northeast 412:geo:-122.8439102,47.0520784
END:VEVENT
BEGIN:VEVENT
DTSTART;TZID=America/Vancouver:20241218T193000
DTEND;TZID=America/Vancouver:20241218T203000
DTSTAMP:20260422T041920
CREATED:20240807T230754Z
LAST-MODIFIED:20240807T232932Z
UID:10022353-1734550200-1734553800@perinatalsupport.org
SUMMARY:Seattle In Person Perinatal Loss Support Group
DESCRIPTION:*SEATTLE Parent Support Group\, \nin Person at Seattle Children’s Hospital in the Anna Clise Board Room – RB 3.614. \n7:30 p.m. Third Wednesday. \nContact Casey at Casey.Raker@gmail.com. \n 
URL:https://perinatalsupport.org/event/seattle-parent-support-group-2-3/2024-12-18/
CATEGORIES:King,Perinatal Loss Support,Support Group
END:VEVENT
BEGIN:VEVENT
DTSTART;TZID=America/Vancouver:20241212T173000
DTEND;TZID=America/Vancouver:20241212T190000
DTSTAMP:20260422T041920
CREATED:20241120T195326Z
LAST-MODIFIED:20241120T195408Z
UID:10023716-1734024600-1734030000@perinatalsupport.org
SUMMARY:Thurston County Bereavement Support Group
DESCRIPTION:Empowering families affected by fetal\, infant\, or child loss. We welcome you to join our bereavement support group. Anyone who has been affected by a miscarriage\, stillbirth\, infant loss\, or child loss can attend. \n“Grief doesn’t have a timeline; it is a dynamic process that will ebb & flow.” \n\nWhen: 2nd Thursday of every month\n\nWhere: Public Health & Social Services; 412 Lilly Rd NE\, Olympia WA 98506\nTime: 5:30-7 pm\n\n\nhttps://www.thurstoncountywa.gov/events/thurston-county-bereavement-support-group\n\n\nFor more information visit our Fetal Infant Mortality Review & Prevention page. Call 360-867-2500 or email PHSS_FIMR@co.thurston.wa.us
URL:https://perinatalsupport.org/event/thurston-county-bereavement-support-group/2024-12-12/
LOCATION:412 Lilly Rd NE\, Olympia WA 98506\, Lilly Road Northeast 412\, Olympia\, WA\, 98506\, United States
CATEGORIES:perinatal loss,Perinatal Loss Support,Support Group
GEO:47.0520784;-122.8439102
X-APPLE-STRUCTURED-LOCATION;VALUE=URI;X-ADDRESS=412 Lilly Rd NE Olympia WA 98506 Lilly Road Northeast 412 Olympia WA 98506 United States;X-APPLE-RADIUS=500;X-TITLE=Lilly Road Northeast 412:geo:-122.8439102,47.0520784
END:VEVENT
BEGIN:VEVENT
DTSTART;TZID=America/Vancouver:20241209T193000
DTEND;TZID=America/Vancouver:20241209T203000
DTSTAMP:20260422T041920
CREATED:20221203T022515Z
LAST-MODIFIED:20240808T172602Z
UID:10022207-1733772600-1733776200@perinatalsupport.org
SUMMARY:VIRTUAL Perinatal Loss Support Group
DESCRIPTION:VIRTUAL Parent Support Group\, \nVirtual via Zoom click HERE to join.  7:30 p.m. Second Monday. \nContact: Liz at lizzylove1@aol.com.
URL:https://perinatalsupport.org/event/virtual-pregnancy-after-loss-support-group-3/2024-12-09/
LOCATION:Virtual
CATEGORIES:Perinatal Loss Support,Support Group
END:VEVENT
BEGIN:VEVENT
DTSTART;TZID=America/Vancouver:20241120T193000
DTEND;TZID=America/Vancouver:20241120T203000
DTSTAMP:20260422T041920
CREATED:20240807T230754Z
LAST-MODIFIED:20240807T232932Z
UID:10022352-1732131000-1732134600@perinatalsupport.org
SUMMARY:Seattle In Person Perinatal Loss Support Group
DESCRIPTION:*SEATTLE Parent Support Group\, \nin Person at Seattle Children’s Hospital in the Anna Clise Board Room – RB 3.614. \n7:30 p.m. Third Wednesday. \nContact Casey at Casey.Raker@gmail.com. \n 
URL:https://perinatalsupport.org/event/seattle-parent-support-group-2-3/2024-11-20/
CATEGORIES:King,Perinatal Loss Support,Support Group
END:VEVENT
BEGIN:VEVENT
DTSTART;TZID=America/Vancouver:20241111T193000
DTEND;TZID=America/Vancouver:20241111T203000
DTSTAMP:20260422T041920
CREATED:20221203T022515Z
LAST-MODIFIED:20240808T172602Z
UID:10022206-1731353400-1731357000@perinatalsupport.org
SUMMARY:VIRTUAL Perinatal Loss Support Group
DESCRIPTION:VIRTUAL Parent Support Group\, \nVirtual via Zoom click HERE to join.  7:30 p.m. Second Monday. \nContact: Liz at lizzylove1@aol.com.
URL:https://perinatalsupport.org/event/virtual-pregnancy-after-loss-support-group-3/2024-11-11/
LOCATION:Virtual
CATEGORIES:Perinatal Loss Support,Support Group
END:VEVENT
BEGIN:VEVENT
DTSTART;TZID=America/Vancouver:20241016T193000
DTEND;TZID=America/Vancouver:20241016T203000
DTSTAMP:20260422T041920
CREATED:20240807T230754Z
LAST-MODIFIED:20240807T232932Z
UID:10022351-1729107000-1729110600@perinatalsupport.org
SUMMARY:Seattle In Person Perinatal Loss Support Group
DESCRIPTION:*SEATTLE Parent Support Group\, \nin Person at Seattle Children’s Hospital in the Anna Clise Board Room – RB 3.614. \n7:30 p.m. Third Wednesday. \nContact Casey at Casey.Raker@gmail.com. \n 
URL:https://perinatalsupport.org/event/seattle-parent-support-group-2-3/2024-10-16/
CATEGORIES:King,Perinatal Loss Support,Support Group
END:VEVENT
BEGIN:VEVENT
DTSTART;TZID=America/Vancouver:20241014T193000
DTEND;TZID=America/Vancouver:20241014T203000
DTSTAMP:20260422T041920
CREATED:20221203T022515Z
LAST-MODIFIED:20240808T172602Z
UID:10022205-1728934200-1728937800@perinatalsupport.org
SUMMARY:VIRTUAL Perinatal Loss Support Group
DESCRIPTION:VIRTUAL Parent Support Group\, \nVirtual via Zoom click HERE to join.  7:30 p.m. Second Monday. \nContact: Liz at lizzylove1@aol.com.
URL:https://perinatalsupport.org/event/virtual-pregnancy-after-loss-support-group-3/2024-10-14/
LOCATION:Virtual
CATEGORIES:Perinatal Loss Support,Support Group
END:VEVENT
BEGIN:VEVENT
DTSTART;TZID=America/Vancouver:20240918T193000
DTEND;TZID=America/Vancouver:20240918T203000
DTSTAMP:20260422T041920
CREATED:20240807T230754Z
LAST-MODIFIED:20240807T232932Z
UID:10022350-1726687800-1726691400@perinatalsupport.org
SUMMARY:Seattle In Person Perinatal Loss Support Group
DESCRIPTION:*SEATTLE Parent Support Group\, \nin Person at Seattle Children’s Hospital in the Anna Clise Board Room – RB 3.614. \n7:30 p.m. Third Wednesday. \nContact Casey at Casey.Raker@gmail.com. \n 
URL:https://perinatalsupport.org/event/seattle-parent-support-group-2-3/2024-09-18/
CATEGORIES:King,Perinatal Loss Support,Support Group
END:VEVENT
BEGIN:VEVENT
DTSTART;TZID=America/Vancouver:20240909T193000
DTEND;TZID=America/Vancouver:20240909T203000
DTSTAMP:20260422T041920
CREATED:20221203T022515Z
LAST-MODIFIED:20240808T172602Z
UID:10022204-1725910200-1725913800@perinatalsupport.org
SUMMARY:VIRTUAL Perinatal Loss Support Group
DESCRIPTION:VIRTUAL Parent Support Group\, \nVirtual via Zoom click HERE to join.  7:30 p.m. Second Monday. \nContact: Liz at lizzylove1@aol.com.
URL:https://perinatalsupport.org/event/virtual-pregnancy-after-loss-support-group-3/2024-09-09/
LOCATION:Virtual
CATEGORIES:Perinatal Loss Support,Support Group
END:VEVENT
BEGIN:VEVENT
DTSTART;TZID=America/Vancouver:20240821T193000
DTEND;TZID=America/Vancouver:20240821T203000
DTSTAMP:20260422T041920
CREATED:20240807T230754Z
LAST-MODIFIED:20240807T232932Z
UID:10022349-1724268600-1724272200@perinatalsupport.org
SUMMARY:Seattle In Person Perinatal Loss Support Group
DESCRIPTION:*SEATTLE Parent Support Group\, \nin Person at Seattle Children’s Hospital in the Anna Clise Board Room – RB 3.614. \n7:30 p.m. Third Wednesday. \nContact Casey at Casey.Raker@gmail.com. \n 
URL:https://perinatalsupport.org/event/seattle-parent-support-group-2-3/2024-08-21/
CATEGORIES:King,Perinatal Loss Support,Support Group
END:VEVENT
BEGIN:VEVENT
DTSTART;TZID=America/Vancouver:20240812T193000
DTEND;TZID=America/Vancouver:20240812T203000
DTSTAMP:20260422T041920
CREATED:20221203T022515Z
LAST-MODIFIED:20240808T172602Z
UID:10022203-1723491000-1723494600@perinatalsupport.org
SUMMARY:VIRTUAL Perinatal Loss Support Group
DESCRIPTION:VIRTUAL Parent Support Group\, \nVirtual via Zoom click HERE to join.  7:30 p.m. Second Monday. \nContact: Liz at lizzylove1@aol.com.
URL:https://perinatalsupport.org/event/virtual-pregnancy-after-loss-support-group-3/2024-08-12/
LOCATION:Virtual
CATEGORIES:Perinatal Loss Support,Support Group
END:VEVENT
BEGIN:VEVENT
DTSTART;TZID=America/Vancouver:20240717T193000
DTEND;TZID=America/Vancouver:20240717T203000
DTSTAMP:20260422T041920
CREATED:20240807T230754Z
LAST-MODIFIED:20240807T232932Z
UID:10022348-1721244600-1721248200@perinatalsupport.org
SUMMARY:Seattle In Person Perinatal Loss Support Group
DESCRIPTION:*SEATTLE Parent Support Group\, \nin Person at Seattle Children’s Hospital in the Anna Clise Board Room – RB 3.614. \n7:30 p.m. Third Wednesday. \nContact Casey at Casey.Raker@gmail.com. \n 
URL:https://perinatalsupport.org/event/seattle-parent-support-group-2-3/2024-07-17/
CATEGORIES:King,Perinatal Loss Support,Support Group
END:VEVENT
BEGIN:VEVENT
DTSTART;TZID=America/Vancouver:20240708T193000
DTEND;TZID=America/Vancouver:20240708T203000
DTSTAMP:20260422T041920
CREATED:20221203T022515Z
LAST-MODIFIED:20240808T172602Z
UID:10022202-1720467000-1720470600@perinatalsupport.org
SUMMARY:VIRTUAL Perinatal Loss Support Group
DESCRIPTION:VIRTUAL Parent Support Group\, \nVirtual via Zoom click HERE to join.  7:30 p.m. Second Monday. \nContact: Liz at lizzylove1@aol.com.
URL:https://perinatalsupport.org/event/virtual-pregnancy-after-loss-support-group-3/2024-07-08/
LOCATION:Virtual
CATEGORIES:Perinatal Loss Support,Support Group
END:VEVENT
BEGIN:VEVENT
DTSTART;TZID=America/Vancouver:20240619T193000
DTEND;TZID=America/Vancouver:20240619T203000
DTSTAMP:20260422T041920
CREATED:20240807T230754Z
LAST-MODIFIED:20240807T232932Z
UID:10022347-1718825400-1718829000@perinatalsupport.org
SUMMARY:Seattle In Person Perinatal Loss Support Group
DESCRIPTION:*SEATTLE Parent Support Group\, \nin Person at Seattle Children’s Hospital in the Anna Clise Board Room – RB 3.614. \n7:30 p.m. Third Wednesday. \nContact Casey at Casey.Raker@gmail.com. \n 
URL:https://perinatalsupport.org/event/seattle-parent-support-group-2-3/2024-06-19/
CATEGORIES:King,Perinatal Loss Support,Support Group
END:VEVENT
BEGIN:VEVENT
DTSTART;TZID=America/Vancouver:20240610T193000
DTEND;TZID=America/Vancouver:20240610T203000
DTSTAMP:20260422T041920
CREATED:20221203T022515Z
LAST-MODIFIED:20240808T172602Z
UID:10022201-1718047800-1718051400@perinatalsupport.org
SUMMARY:VIRTUAL Perinatal Loss Support Group
DESCRIPTION:VIRTUAL Parent Support Group\, \nVirtual via Zoom click HERE to join.  7:30 p.m. Second Monday. \nContact: Liz at lizzylove1@aol.com.
URL:https://perinatalsupport.org/event/virtual-pregnancy-after-loss-support-group-3/2024-06-10/
LOCATION:Virtual
CATEGORIES:Perinatal Loss Support,Support Group
END:VEVENT
BEGIN:VEVENT
DTSTART;TZID=America/Vancouver:20240523T170000
DTEND;TZID=America/Vancouver:20240523T180000
DTSTAMP:20260422T041920
CREATED:20220928T183644Z
LAST-MODIFIED:20230526T183346Z
UID:10017258-1716483600-1716487200@perinatalsupport.org
SUMMARY:Black Moms in Loss Support Group
DESCRIPTION:The Black Moms in Loss Support Group provides connections for individuals that identify as Black mothers grieving the loss of a pregnancy or infant. This group intends to help bereaved mothers find support and provide helpful information to help them navigate the pain of their loss.  Losing a baby can be a lonely experience. PSI understands creating a safe space for Black moms is essential as they encounter unique experiences in miscarriage\, infant loss\, and infertility. We empower help seekers to share their journey to inspire others or utilize the group setting as an avenue for healing and hope. We are here to help\, and you are not alone. We do not allow group observations by students or professionals. Thank you for your cooperation and understanding. \n2nd & 4th Thursdays at 5pm PST \nRegister here
URL:https://perinatalsupport.org/event/black-moms-in-loss-support-group-2/2024-05-23/
CATEGORIES:BIPOC,Black African American,Perinatal Loss Support,Spokane,Support Group
END:VEVENT
BEGIN:VEVENT
DTSTART;TZID=America/Vancouver:20240515T193000
DTEND;TZID=America/Vancouver:20240515T203000
DTSTAMP:20260422T041920
CREATED:20240807T230754Z
LAST-MODIFIED:20240807T232932Z
UID:10022346-1715801400-1715805000@perinatalsupport.org
SUMMARY:Seattle In Person Perinatal Loss Support Group
DESCRIPTION:*SEATTLE Parent Support Group\, \nin Person at Seattle Children’s Hospital in the Anna Clise Board Room – RB 3.614. \n7:30 p.m. Third Wednesday. \nContact Casey at Casey.Raker@gmail.com. \n 
URL:https://perinatalsupport.org/event/seattle-parent-support-group-2-3/2024-05-15/
CATEGORIES:King,Perinatal Loss Support,Support Group
END:VEVENT
BEGIN:VEVENT
DTSTART;TZID=America/Vancouver:20240513T193000
DTEND;TZID=America/Vancouver:20240513T203000
DTSTAMP:20260422T041920
CREATED:20221203T022515Z
LAST-MODIFIED:20240808T172602Z
UID:10022200-1715628600-1715632200@perinatalsupport.org
SUMMARY:VIRTUAL Perinatal Loss Support Group
DESCRIPTION:VIRTUAL Parent Support Group\, \nVirtual via Zoom click HERE to join.  7:30 p.m. Second Monday. \nContact: Liz at lizzylove1@aol.com.
URL:https://perinatalsupport.org/event/virtual-pregnancy-after-loss-support-group-3/2024-05-13/
LOCATION:Virtual
CATEGORIES:Perinatal Loss Support,Support Group
END:VEVENT
BEGIN:VEVENT
DTSTART;TZID=America/Vancouver:20240425T170000
DTEND;TZID=America/Vancouver:20240425T180000
DTSTAMP:20260422T041920
CREATED:20220928T183644Z
LAST-MODIFIED:20230526T183346Z
UID:10017257-1714064400-1714068000@perinatalsupport.org
SUMMARY:Black Moms in Loss Support Group
DESCRIPTION:The Black Moms in Loss Support Group provides connections for individuals that identify as Black mothers grieving the loss of a pregnancy or infant. This group intends to help bereaved mothers find support and provide helpful information to help them navigate the pain of their loss.  Losing a baby can be a lonely experience. PSI understands creating a safe space for Black moms is essential as they encounter unique experiences in miscarriage\, infant loss\, and infertility. We empower help seekers to share their journey to inspire others or utilize the group setting as an avenue for healing and hope. We are here to help\, and you are not alone. We do not allow group observations by students or professionals. Thank you for your cooperation and understanding. \n2nd & 4th Thursdays at 5pm PST \nRegister here
URL:https://perinatalsupport.org/event/black-moms-in-loss-support-group-2/2024-04-25/
CATEGORIES:BIPOC,Black African American,Perinatal Loss Support,Spokane,Support Group
END:VEVENT
BEGIN:VEVENT
DTSTART;TZID=America/Vancouver:20240417T193000
DTEND;TZID=America/Vancouver:20240417T203000
DTSTAMP:20260422T041920
CREATED:20240807T230754Z
LAST-MODIFIED:20240807T232932Z
UID:10022345-1713382200-1713385800@perinatalsupport.org
SUMMARY:Seattle In Person Perinatal Loss Support Group
DESCRIPTION:*SEATTLE Parent Support Group\, \nin Person at Seattle Children’s Hospital in the Anna Clise Board Room – RB 3.614. \n7:30 p.m. Third Wednesday. \nContact Casey at Casey.Raker@gmail.com. \n 
URL:https://perinatalsupport.org/event/seattle-parent-support-group-2-3/2024-04-17/
CATEGORIES:King,Perinatal Loss Support,Support Group
END:VEVENT
BEGIN:VEVENT
DTSTART;TZID=America/Vancouver:20240408T193000
DTEND;TZID=America/Vancouver:20240408T203000
DTSTAMP:20260422T041920
CREATED:20221203T022515Z
LAST-MODIFIED:20240808T172602Z
UID:10022199-1712604600-1712608200@perinatalsupport.org
SUMMARY:VIRTUAL Perinatal Loss Support Group
DESCRIPTION:VIRTUAL Parent Support Group\, \nVirtual via Zoom click HERE to join.  7:30 p.m. Second Monday. \nContact: Liz at lizzylove1@aol.com.
URL:https://perinatalsupport.org/event/virtual-pregnancy-after-loss-support-group-3/2024-04-08/
LOCATION:Virtual
CATEGORIES:Perinatal Loss Support,Support Group
END:VEVENT
BEGIN:VEVENT
DTSTART;TZID=America/Vancouver:20240328T170000
DTEND;TZID=America/Vancouver:20240328T180000
DTSTAMP:20260422T041920
CREATED:20220928T183644Z
LAST-MODIFIED:20230526T183346Z
UID:10017256-1711645200-1711648800@perinatalsupport.org
SUMMARY:Black Moms in Loss Support Group
DESCRIPTION:The Black Moms in Loss Support Group provides connections for individuals that identify as Black mothers grieving the loss of a pregnancy or infant. This group intends to help bereaved mothers find support and provide helpful information to help them navigate the pain of their loss.  Losing a baby can be a lonely experience. PSI understands creating a safe space for Black moms is essential as they encounter unique experiences in miscarriage\, infant loss\, and infertility. We empower help seekers to share their journey to inspire others or utilize the group setting as an avenue for healing and hope. We are here to help\, and you are not alone. We do not allow group observations by students or professionals. Thank you for your cooperation and understanding. \n2nd & 4th Thursdays at 5pm PST \nRegister here
URL:https://perinatalsupport.org/event/black-moms-in-loss-support-group-2/2024-03-28/
CATEGORIES:BIPOC,Black African American,Perinatal Loss Support,Spokane,Support Group
END:VEVENT
BEGIN:VEVENT
DTSTART;TZID=America/Vancouver:20240321T170000
DTEND;TZID=America/Vancouver:20240321T180000
DTSTAMP:20260422T041920
CREATED:20230323T203739Z
LAST-MODIFIED:20230323T203739Z
UID:10016489-1711040400-1711044000@perinatalsupport.org
SUMMARY:Peer Support Group: Preparing for a Termination for Medical Reasons
DESCRIPTION:Drop-In Peer Support Group: Preparing for a Termination for Medical Reasons\nWho: For expecting parents who have been given a life-limiting or fatal diagnosis\, have decided to interrupt their pregnancy\, and are seeking support and guidance from peers who have navigated a similar path as they prepare for a very difficult outcome.\nDates: 1st and 3rd Thursdays of each month\, starting April 6th\nDay: Thursdays\nTime: 5:00-6:00pm PST/8:00-9:00pm EST\nFacilitator: Jessica Van Wyen
URL:https://perinatalsupport.org/event/peer-support-group-preparing-for-a-termination-for-medical-reasons-3/2024-03-21/
LOCATION:Online
CATEGORIES:perinatal loss,Perinatal Loss Support,Support Group
GEO:47.7510741;-120.7401385
END:VEVENT
BEGIN:VEVENT
DTSTART;TZID=America/Vancouver:20240320T193000
DTEND;TZID=America/Vancouver:20240320T203000
DTSTAMP:20260422T041920
CREATED:20240807T230754Z
LAST-MODIFIED:20240807T232932Z
UID:10022344-1710963000-1710966600@perinatalsupport.org
SUMMARY:Seattle In Person Perinatal Loss Support Group
DESCRIPTION:*SEATTLE Parent Support Group\, \nin Person at Seattle Children’s Hospital in the Anna Clise Board Room – RB 3.614. \n7:30 p.m. Third Wednesday. \nContact Casey at Casey.Raker@gmail.com. \n 
URL:https://perinatalsupport.org/event/seattle-parent-support-group-2-3/2024-03-20/
CATEGORIES:King,Perinatal Loss Support,Support Group
END:VEVENT
BEGIN:VEVENT
DTSTART;TZID=America/Vancouver:20240311T193000
DTEND;TZID=America/Vancouver:20240311T203000
DTSTAMP:20260422T041920
CREATED:20221203T022515Z
LAST-MODIFIED:20240808T172602Z
UID:10022198-1710185400-1710189000@perinatalsupport.org
SUMMARY:VIRTUAL Perinatal Loss Support Group
DESCRIPTION:VIRTUAL Parent Support Group\, \nVirtual via Zoom click HERE to join.  7:30 p.m. Second Monday. \nContact: Liz at lizzylove1@aol.com.
URL:https://perinatalsupport.org/event/virtual-pregnancy-after-loss-support-group-3/2024-03-11/
LOCATION:Virtual
CATEGORIES:Perinatal Loss Support,Support Group
END:VEVENT
END:VCALENDAR