BEGIN:VCALENDAR
VERSION:2.0
PRODID:-//Perinatal Support Washington - ECPv6.15.20//NONSGML v1.0//EN
CALSCALE:GREGORIAN
METHOD:PUBLISH
X-ORIGINAL-URL:https://perinatalsupport.org
X-WR-CALDESC:Events for Perinatal Support Washington
REFRESH-INTERVAL;VALUE=DURATION:PT1H
X-Robots-Tag:noindex
X-PUBLISHED-TTL:PT1H
BEGIN:VTIMEZONE
TZID:America/Vancouver
BEGIN:DAYLIGHT
TZOFFSETFROM:-0800
TZOFFSETTO:-0700
TZNAME:PDT
DTSTART:20250309T100000
END:DAYLIGHT
BEGIN:STANDARD
TZOFFSETFROM:-0700
TZOFFSETTO:-0800
TZNAME:PST
DTSTART:20251102T090000
END:STANDARD
BEGIN:DAYLIGHT
TZOFFSETFROM:-0800
TZOFFSETTO:-0700
TZNAME:PDT
DTSTART:20260308T100000
END:DAYLIGHT
BEGIN:STANDARD
TZOFFSETFROM:-0700
TZOFFSETTO:-0800
TZNAME:PST
DTSTART:20261101T090000
END:STANDARD
BEGIN:DAYLIGHT
TZOFFSETFROM:-0800
TZOFFSETTO:-0700
TZNAME:PDT
DTSTART:20270314T100000
END:DAYLIGHT
BEGIN:STANDARD
TZOFFSETFROM:-0700
TZOFFSETTO:-0800
TZNAME:PST
DTSTART:20271107T090000
END:STANDARD
END:VTIMEZONE
BEGIN:VEVENT
DTSTART;TZID=America/Vancouver:20260209T100000
DTEND;TZID=America/Vancouver:20260209T110000
DTSTAMP:20260422T032227
CREATED:20260115T183539Z
LAST-MODIFIED:20260115T185347Z
UID:10025626-1770631200-1770634800@perinatalsupport.org
SUMMARY:Perinatal Loss Support Group
DESCRIPTION:A safe\, compassionate space to honor your loss and find connection. \n\n10 virtual sessions for 1 hour\, every Monday starting January 26\, 2026 from 10am-11am PT.\nFacilitated by Chanel Harry\, MSW Clinical Therapy Intern\, hosted by PS-WA.\n\nGrief after perinatal loss is deeply personal – and you don’t have to walk through it alone. Join PS-WA’s Perinatal Loss Support Group\, a 10-session\, trauma-informed\, and culturally responsive space for individuals who have experienced miscarriage\, stillbirth\, TFMR\, or neonatal loss. Together\, we’ll explore healing through connection\, remembrance\, and gentle self-compassion. \nRegister: bit.ly/PSWAloss \nThis group honors all paths to healing and welcomes participants of all races\, genders\, and cultural background.
URL:https://perinatalsupport.org/event/perinatal-loss-support-group-chanel-jan-march2026/2026-02-09/
LOCATION:Online
CATEGORIES:Affiliated Support Group,perinatal loss,Perinatal Loss Support,Support Group
ORGANIZER;CN="Perinatal Support Washington":MAILTO:training@perinatalsupport.org
GEO:47.7510741;-120.7401385
END:VEVENT
BEGIN:VEVENT
DTSTART;TZID=America/Vancouver:20260212T173000
DTEND;TZID=America/Vancouver:20260212T190000
DTSTAMP:20260422T032227
CREATED:20241120T195326Z
LAST-MODIFIED:20241120T195408Z
UID:10023730-1770917400-1770922800@perinatalsupport.org
SUMMARY:Thurston County Bereavement Support Group
DESCRIPTION:Empowering families affected by fetal\, infant\, or child loss. We welcome you to join our bereavement support group. Anyone who has been affected by a miscarriage\, stillbirth\, infant loss\, or child loss can attend. \n“Grief doesn’t have a timeline; it is a dynamic process that will ebb & flow.” \n\nWhen: 2nd Thursday of every month\n\nWhere: Public Health & Social Services; 412 Lilly Rd NE\, Olympia WA 98506\nTime: 5:30-7 pm\n\n\nhttps://www.thurstoncountywa.gov/events/thurston-county-bereavement-support-group\n\n\nFor more information visit our Fetal Infant Mortality Review & Prevention page. Call 360-867-2500 or email PHSS_FIMR@co.thurston.wa.us
URL:https://perinatalsupport.org/event/thurston-county-bereavement-support-group/2026-02-12/
LOCATION:412 Lilly Rd NE\, Olympia WA 98506\, Lilly Road Northeast 412\, Olympia\, WA\, 98506\, United States
CATEGORIES:perinatal loss,Perinatal Loss Support,Support Group
GEO:47.0520784;-122.8439102
X-APPLE-STRUCTURED-LOCATION;VALUE=URI;X-ADDRESS=412 Lilly Rd NE Olympia WA 98506 Lilly Road Northeast 412 Olympia WA 98506 United States;X-APPLE-RADIUS=500;X-TITLE=Lilly Road Northeast 412:geo:-122.8439102,47.0520784
END:VEVENT
END:VCALENDAR