BEGIN:VCALENDAR
VERSION:2.0
PRODID:-//Perinatal Support Washington - ECPv6.15.20//NONSGML v1.0//EN
CALSCALE:GREGORIAN
METHOD:PUBLISH
X-WR-CALNAME:Perinatal Support Washington
X-ORIGINAL-URL:https://perinatalsupport.org
X-WR-CALDESC:Events for Perinatal Support Washington
REFRESH-INTERVAL;VALUE=DURATION:PT1H
X-Robots-Tag:noindex
X-PUBLISHED-TTL:PT1H
BEGIN:VTIMEZONE
TZID:America/Vancouver
BEGIN:DAYLIGHT
TZOFFSETFROM:-0800
TZOFFSETTO:-0700
TZNAME:PDT
DTSTART:20250309T100000
END:DAYLIGHT
BEGIN:STANDARD
TZOFFSETFROM:-0700
TZOFFSETTO:-0800
TZNAME:PST
DTSTART:20251102T090000
END:STANDARD
BEGIN:DAYLIGHT
TZOFFSETFROM:-0800
TZOFFSETTO:-0700
TZNAME:PDT
DTSTART:20260308T100000
END:DAYLIGHT
BEGIN:STANDARD
TZOFFSETFROM:-0700
TZOFFSETTO:-0800
TZNAME:PST
DTSTART:20261101T090000
END:STANDARD
BEGIN:DAYLIGHT
TZOFFSETFROM:-0800
TZOFFSETTO:-0700
TZNAME:PDT
DTSTART:20270314T100000
END:DAYLIGHT
BEGIN:STANDARD
TZOFFSETFROM:-0700
TZOFFSETTO:-0800
TZNAME:PST
DTSTART:20271107T090000
END:STANDARD
END:VTIMEZONE
BEGIN:VEVENT
DTSTART;TZID=America/Vancouver:20260422T110000
DTEND;TZID=America/Vancouver:20260422T120000
DTSTAMP:20260421T094803
CREATED:20211215T222157Z
LAST-MODIFIED:20240702T201133Z
UID:10020937-1776855600-1776859200@perinatalsupport.org
SUMMARY:Entre Mamás
DESCRIPTION:Un grupo para mujeres embarazadas o mujeres que tienen niños menor de 6 años. \nHorario: Todos los Miércoles \nDirección: 1750 Calawah Way\, 27C Forks\, WA 98331\n*El cuarto de comunidad cerca de las lavadoras* \nContacto: 360-912-1455
URL:https://perinatalsupport.org/event/entre-mamas/2026-04-22/
LOCATION:1750 Calawah Way\, 1750 Calawah Way\, 27C\, Forks\, WA\, 98331\, United States
CATEGORIES:BIPOC,Clallam,Latinx,Spanish,Support Group
GEO:47.9549709;-124.3559339
X-APPLE-STRUCTURED-LOCATION;VALUE=URI;X-ADDRESS=1750 Calawah Way 1750 Calawah Way 27C Forks WA 98331 United States;X-APPLE-RADIUS=500;X-TITLE=1750 Calawah Way\, 27C:geo:-124.3559339,47.9549709
END:VEVENT
BEGIN:VEVENT
DTSTART;TZID=America/Vancouver:20260429T110000
DTEND;TZID=America/Vancouver:20260429T120000
DTSTAMP:20260421T094803
CREATED:20211215T222157Z
LAST-MODIFIED:20240702T201133Z
UID:10020938-1777460400-1777464000@perinatalsupport.org
SUMMARY:Entre Mamás
DESCRIPTION:Un grupo para mujeres embarazadas o mujeres que tienen niños menor de 6 años. \nHorario: Todos los Miércoles \nDirección: 1750 Calawah Way\, 27C Forks\, WA 98331\n*El cuarto de comunidad cerca de las lavadoras* \nContacto: 360-912-1455
URL:https://perinatalsupport.org/event/entre-mamas/2026-04-29/
LOCATION:1750 Calawah Way\, 1750 Calawah Way\, 27C\, Forks\, WA\, 98331\, United States
CATEGORIES:BIPOC,Clallam,Latinx,Spanish,Support Group
GEO:47.9549709;-124.3559339
X-APPLE-STRUCTURED-LOCATION;VALUE=URI;X-ADDRESS=1750 Calawah Way 1750 Calawah Way 27C Forks WA 98331 United States;X-APPLE-RADIUS=500;X-TITLE=1750 Calawah Way\, 27C:geo:-124.3559339,47.9549709
END:VEVENT
BEGIN:VEVENT
DTSTART;TZID=America/Vancouver:20260506T110000
DTEND;TZID=America/Vancouver:20260506T120000
DTSTAMP:20260421T094803
CREATED:20211215T222157Z
LAST-MODIFIED:20240702T201133Z
UID:10020939-1778065200-1778068800@perinatalsupport.org
SUMMARY:Entre Mamás
DESCRIPTION:Un grupo para mujeres embarazadas o mujeres que tienen niños menor de 6 años. \nHorario: Todos los Miércoles \nDirección: 1750 Calawah Way\, 27C Forks\, WA 98331\n*El cuarto de comunidad cerca de las lavadoras* \nContacto: 360-912-1455
URL:https://perinatalsupport.org/event/entre-mamas/2026-05-06/
LOCATION:1750 Calawah Way\, 1750 Calawah Way\, 27C\, Forks\, WA\, 98331\, United States
CATEGORIES:BIPOC,Clallam,Latinx,Spanish,Support Group
GEO:47.9549709;-124.3559339
X-APPLE-STRUCTURED-LOCATION;VALUE=URI;X-ADDRESS=1750 Calawah Way 1750 Calawah Way 27C Forks WA 98331 United States;X-APPLE-RADIUS=500;X-TITLE=1750 Calawah Way\, 27C:geo:-124.3559339,47.9549709
END:VEVENT
BEGIN:VEVENT
DTSTART;TZID=America/Vancouver:20260513T110000
DTEND;TZID=America/Vancouver:20260513T120000
DTSTAMP:20260421T094803
CREATED:20211215T222157Z
LAST-MODIFIED:20240702T201133Z
UID:10020940-1778670000-1778673600@perinatalsupport.org
SUMMARY:Entre Mamás
DESCRIPTION:Un grupo para mujeres embarazadas o mujeres que tienen niños menor de 6 años. \nHorario: Todos los Miércoles \nDirección: 1750 Calawah Way\, 27C Forks\, WA 98331\n*El cuarto de comunidad cerca de las lavadoras* \nContacto: 360-912-1455
URL:https://perinatalsupport.org/event/entre-mamas/2026-05-13/
LOCATION:1750 Calawah Way\, 1750 Calawah Way\, 27C\, Forks\, WA\, 98331\, United States
CATEGORIES:BIPOC,Clallam,Latinx,Spanish,Support Group
GEO:47.9549709;-124.3559339
X-APPLE-STRUCTURED-LOCATION;VALUE=URI;X-ADDRESS=1750 Calawah Way 1750 Calawah Way 27C Forks WA 98331 United States;X-APPLE-RADIUS=500;X-TITLE=1750 Calawah Way\, 27C:geo:-124.3559339,47.9549709
END:VEVENT
BEGIN:VEVENT
DTSTART;TZID=America/Vancouver:20260520T110000
DTEND;TZID=America/Vancouver:20260520T120000
DTSTAMP:20260421T094803
CREATED:20211215T222157Z
LAST-MODIFIED:20240702T201133Z
UID:10020941-1779274800-1779278400@perinatalsupport.org
SUMMARY:Entre Mamás
DESCRIPTION:Un grupo para mujeres embarazadas o mujeres que tienen niños menor de 6 años. \nHorario: Todos los Miércoles \nDirección: 1750 Calawah Way\, 27C Forks\, WA 98331\n*El cuarto de comunidad cerca de las lavadoras* \nContacto: 360-912-1455
URL:https://perinatalsupport.org/event/entre-mamas/2026-05-20/
LOCATION:1750 Calawah Way\, 1750 Calawah Way\, 27C\, Forks\, WA\, 98331\, United States
CATEGORIES:BIPOC,Clallam,Latinx,Spanish,Support Group
GEO:47.9549709;-124.3559339
X-APPLE-STRUCTURED-LOCATION;VALUE=URI;X-ADDRESS=1750 Calawah Way 1750 Calawah Way 27C Forks WA 98331 United States;X-APPLE-RADIUS=500;X-TITLE=1750 Calawah Way\, 27C:geo:-124.3559339,47.9549709
END:VEVENT
BEGIN:VEVENT
DTSTART;TZID=America/Vancouver:20260527T110000
DTEND;TZID=America/Vancouver:20260527T120000
DTSTAMP:20260421T094803
CREATED:20211215T222157Z
LAST-MODIFIED:20240702T201133Z
UID:10020942-1779879600-1779883200@perinatalsupport.org
SUMMARY:Entre Mamás
DESCRIPTION:Un grupo para mujeres embarazadas o mujeres que tienen niños menor de 6 años. \nHorario: Todos los Miércoles \nDirección: 1750 Calawah Way\, 27C Forks\, WA 98331\n*El cuarto de comunidad cerca de las lavadoras* \nContacto: 360-912-1455
URL:https://perinatalsupport.org/event/entre-mamas/2026-05-27/
LOCATION:1750 Calawah Way\, 1750 Calawah Way\, 27C\, Forks\, WA\, 98331\, United States
CATEGORIES:BIPOC,Clallam,Latinx,Spanish,Support Group
GEO:47.9549709;-124.3559339
X-APPLE-STRUCTURED-LOCATION;VALUE=URI;X-ADDRESS=1750 Calawah Way 1750 Calawah Way 27C Forks WA 98331 United States;X-APPLE-RADIUS=500;X-TITLE=1750 Calawah Way\, 27C:geo:-124.3559339,47.9549709
END:VEVENT
BEGIN:VEVENT
DTSTART;TZID=America/Vancouver:20260603T110000
DTEND;TZID=America/Vancouver:20260603T120000
DTSTAMP:20260421T094803
CREATED:20211215T222157Z
LAST-MODIFIED:20240702T201133Z
UID:10020943-1780484400-1780488000@perinatalsupport.org
SUMMARY:Entre Mamás
DESCRIPTION:Un grupo para mujeres embarazadas o mujeres que tienen niños menor de 6 años. \nHorario: Todos los Miércoles \nDirección: 1750 Calawah Way\, 27C Forks\, WA 98331\n*El cuarto de comunidad cerca de las lavadoras* \nContacto: 360-912-1455
URL:https://perinatalsupport.org/event/entre-mamas/2026-06-03/
LOCATION:1750 Calawah Way\, 1750 Calawah Way\, 27C\, Forks\, WA\, 98331\, United States
CATEGORIES:BIPOC,Clallam,Latinx,Spanish,Support Group
GEO:47.9549709;-124.3559339
X-APPLE-STRUCTURED-LOCATION;VALUE=URI;X-ADDRESS=1750 Calawah Way 1750 Calawah Way 27C Forks WA 98331 United States;X-APPLE-RADIUS=500;X-TITLE=1750 Calawah Way\, 27C:geo:-124.3559339,47.9549709
END:VEVENT
BEGIN:VEVENT
DTSTART;TZID=America/Vancouver:20260610T110000
DTEND;TZID=America/Vancouver:20260610T120000
DTSTAMP:20260421T094803
CREATED:20211215T222157Z
LAST-MODIFIED:20240702T201133Z
UID:10020944-1781089200-1781092800@perinatalsupport.org
SUMMARY:Entre Mamás
DESCRIPTION:Un grupo para mujeres embarazadas o mujeres que tienen niños menor de 6 años. \nHorario: Todos los Miércoles \nDirección: 1750 Calawah Way\, 27C Forks\, WA 98331\n*El cuarto de comunidad cerca de las lavadoras* \nContacto: 360-912-1455
URL:https://perinatalsupport.org/event/entre-mamas/2026-06-10/
LOCATION:1750 Calawah Way\, 1750 Calawah Way\, 27C\, Forks\, WA\, 98331\, United States
CATEGORIES:BIPOC,Clallam,Latinx,Spanish,Support Group
GEO:47.9549709;-124.3559339
X-APPLE-STRUCTURED-LOCATION;VALUE=URI;X-ADDRESS=1750 Calawah Way 1750 Calawah Way 27C Forks WA 98331 United States;X-APPLE-RADIUS=500;X-TITLE=1750 Calawah Way\, 27C:geo:-124.3559339,47.9549709
END:VEVENT
BEGIN:VEVENT
DTSTART;TZID=America/Vancouver:20260617T110000
DTEND;TZID=America/Vancouver:20260617T120000
DTSTAMP:20260421T094803
CREATED:20211215T222157Z
LAST-MODIFIED:20240702T201133Z
UID:10020945-1781694000-1781697600@perinatalsupport.org
SUMMARY:Entre Mamás
DESCRIPTION:Un grupo para mujeres embarazadas o mujeres que tienen niños menor de 6 años. \nHorario: Todos los Miércoles \nDirección: 1750 Calawah Way\, 27C Forks\, WA 98331\n*El cuarto de comunidad cerca de las lavadoras* \nContacto: 360-912-1455
URL:https://perinatalsupport.org/event/entre-mamas/2026-06-17/
LOCATION:1750 Calawah Way\, 1750 Calawah Way\, 27C\, Forks\, WA\, 98331\, United States
CATEGORIES:BIPOC,Clallam,Latinx,Spanish,Support Group
GEO:47.9549709;-124.3559339
X-APPLE-STRUCTURED-LOCATION;VALUE=URI;X-ADDRESS=1750 Calawah Way 1750 Calawah Way 27C Forks WA 98331 United States;X-APPLE-RADIUS=500;X-TITLE=1750 Calawah Way\, 27C:geo:-124.3559339,47.9549709
END:VEVENT
BEGIN:VEVENT
DTSTART;TZID=America/Vancouver:20260624T110000
DTEND;TZID=America/Vancouver:20260624T120000
DTSTAMP:20260421T094803
CREATED:20211215T222157Z
LAST-MODIFIED:20240702T201133Z
UID:10020946-1782298800-1782302400@perinatalsupport.org
SUMMARY:Entre Mamás
DESCRIPTION:Un grupo para mujeres embarazadas o mujeres que tienen niños menor de 6 años. \nHorario: Todos los Miércoles \nDirección: 1750 Calawah Way\, 27C Forks\, WA 98331\n*El cuarto de comunidad cerca de las lavadoras* \nContacto: 360-912-1455
URL:https://perinatalsupport.org/event/entre-mamas/2026-06-24/
LOCATION:1750 Calawah Way\, 1750 Calawah Way\, 27C\, Forks\, WA\, 98331\, United States
CATEGORIES:BIPOC,Clallam,Latinx,Spanish,Support Group
GEO:47.9549709;-124.3559339
X-APPLE-STRUCTURED-LOCATION;VALUE=URI;X-ADDRESS=1750 Calawah Way 1750 Calawah Way 27C Forks WA 98331 United States;X-APPLE-RADIUS=500;X-TITLE=1750 Calawah Way\, 27C:geo:-124.3559339,47.9549709
END:VEVENT
BEGIN:VEVENT
DTSTART;TZID=America/Vancouver:20260701T110000
DTEND;TZID=America/Vancouver:20260701T120000
DTSTAMP:20260421T094803
CREATED:20211215T222157Z
LAST-MODIFIED:20240702T201133Z
UID:10020947-1782903600-1782907200@perinatalsupport.org
SUMMARY:Entre Mamás
DESCRIPTION:Un grupo para mujeres embarazadas o mujeres que tienen niños menor de 6 años. \nHorario: Todos los Miércoles \nDirección: 1750 Calawah Way\, 27C Forks\, WA 98331\n*El cuarto de comunidad cerca de las lavadoras* \nContacto: 360-912-1455
URL:https://perinatalsupport.org/event/entre-mamas/2026-07-01/
LOCATION:1750 Calawah Way\, 1750 Calawah Way\, 27C\, Forks\, WA\, 98331\, United States
CATEGORIES:BIPOC,Clallam,Latinx,Spanish,Support Group
GEO:47.9549709;-124.3559339
X-APPLE-STRUCTURED-LOCATION;VALUE=URI;X-ADDRESS=1750 Calawah Way 1750 Calawah Way 27C Forks WA 98331 United States;X-APPLE-RADIUS=500;X-TITLE=1750 Calawah Way\, 27C:geo:-124.3559339,47.9549709
END:VEVENT
BEGIN:VEVENT
DTSTART;TZID=America/Vancouver:20260708T110000
DTEND;TZID=America/Vancouver:20260708T120000
DTSTAMP:20260421T094803
CREATED:20211215T222157Z
LAST-MODIFIED:20240702T201133Z
UID:10020948-1783508400-1783512000@perinatalsupport.org
SUMMARY:Entre Mamás
DESCRIPTION:Un grupo para mujeres embarazadas o mujeres que tienen niños menor de 6 años. \nHorario: Todos los Miércoles \nDirección: 1750 Calawah Way\, 27C Forks\, WA 98331\n*El cuarto de comunidad cerca de las lavadoras* \nContacto: 360-912-1455
URL:https://perinatalsupport.org/event/entre-mamas/2026-07-08/
LOCATION:1750 Calawah Way\, 1750 Calawah Way\, 27C\, Forks\, WA\, 98331\, United States
CATEGORIES:BIPOC,Clallam,Latinx,Spanish,Support Group
GEO:47.9549709;-124.3559339
X-APPLE-STRUCTURED-LOCATION;VALUE=URI;X-ADDRESS=1750 Calawah Way 1750 Calawah Way 27C Forks WA 98331 United States;X-APPLE-RADIUS=500;X-TITLE=1750 Calawah Way\, 27C:geo:-124.3559339,47.9549709
END:VEVENT
BEGIN:VEVENT
DTSTART;TZID=America/Vancouver:20260715T110000
DTEND;TZID=America/Vancouver:20260715T120000
DTSTAMP:20260421T094803
CREATED:20211215T222157Z
LAST-MODIFIED:20240702T201133Z
UID:10020949-1784113200-1784116800@perinatalsupport.org
SUMMARY:Entre Mamás
DESCRIPTION:Un grupo para mujeres embarazadas o mujeres que tienen niños menor de 6 años. \nHorario: Todos los Miércoles \nDirección: 1750 Calawah Way\, 27C Forks\, WA 98331\n*El cuarto de comunidad cerca de las lavadoras* \nContacto: 360-912-1455
URL:https://perinatalsupport.org/event/entre-mamas/2026-07-15/
LOCATION:1750 Calawah Way\, 1750 Calawah Way\, 27C\, Forks\, WA\, 98331\, United States
CATEGORIES:BIPOC,Clallam,Latinx,Spanish,Support Group
GEO:47.9549709;-124.3559339
X-APPLE-STRUCTURED-LOCATION;VALUE=URI;X-ADDRESS=1750 Calawah Way 1750 Calawah Way 27C Forks WA 98331 United States;X-APPLE-RADIUS=500;X-TITLE=1750 Calawah Way\, 27C:geo:-124.3559339,47.9549709
END:VEVENT
BEGIN:VEVENT
DTSTART;TZID=America/Vancouver:20260722T110000
DTEND;TZID=America/Vancouver:20260722T120000
DTSTAMP:20260421T094803
CREATED:20211215T222157Z
LAST-MODIFIED:20240702T201133Z
UID:10020950-1784718000-1784721600@perinatalsupport.org
SUMMARY:Entre Mamás
DESCRIPTION:Un grupo para mujeres embarazadas o mujeres que tienen niños menor de 6 años. \nHorario: Todos los Miércoles \nDirección: 1750 Calawah Way\, 27C Forks\, WA 98331\n*El cuarto de comunidad cerca de las lavadoras* \nContacto: 360-912-1455
URL:https://perinatalsupport.org/event/entre-mamas/2026-07-22/
LOCATION:1750 Calawah Way\, 1750 Calawah Way\, 27C\, Forks\, WA\, 98331\, United States
CATEGORIES:BIPOC,Clallam,Latinx,Spanish,Support Group
GEO:47.9549709;-124.3559339
X-APPLE-STRUCTURED-LOCATION;VALUE=URI;X-ADDRESS=1750 Calawah Way 1750 Calawah Way 27C Forks WA 98331 United States;X-APPLE-RADIUS=500;X-TITLE=1750 Calawah Way\, 27C:geo:-124.3559339,47.9549709
END:VEVENT
BEGIN:VEVENT
DTSTART;TZID=America/Vancouver:20260729T110000
DTEND;TZID=America/Vancouver:20260729T120000
DTSTAMP:20260421T094803
CREATED:20211215T222157Z
LAST-MODIFIED:20240702T201133Z
UID:10020951-1785322800-1785326400@perinatalsupport.org
SUMMARY:Entre Mamás
DESCRIPTION:Un grupo para mujeres embarazadas o mujeres que tienen niños menor de 6 años. \nHorario: Todos los Miércoles \nDirección: 1750 Calawah Way\, 27C Forks\, WA 98331\n*El cuarto de comunidad cerca de las lavadoras* \nContacto: 360-912-1455
URL:https://perinatalsupport.org/event/entre-mamas/2026-07-29/
LOCATION:1750 Calawah Way\, 1750 Calawah Way\, 27C\, Forks\, WA\, 98331\, United States
CATEGORIES:BIPOC,Clallam,Latinx,Spanish,Support Group
GEO:47.9549709;-124.3559339
X-APPLE-STRUCTURED-LOCATION;VALUE=URI;X-ADDRESS=1750 Calawah Way 1750 Calawah Way 27C Forks WA 98331 United States;X-APPLE-RADIUS=500;X-TITLE=1750 Calawah Way\, 27C:geo:-124.3559339,47.9549709
END:VEVENT
BEGIN:VEVENT
DTSTART;TZID=America/Vancouver:20260805T110000
DTEND;TZID=America/Vancouver:20260805T120000
DTSTAMP:20260421T094803
CREATED:20211215T222157Z
LAST-MODIFIED:20240702T201133Z
UID:10020952-1785927600-1785931200@perinatalsupport.org
SUMMARY:Entre Mamás
DESCRIPTION:Un grupo para mujeres embarazadas o mujeres que tienen niños menor de 6 años. \nHorario: Todos los Miércoles \nDirección: 1750 Calawah Way\, 27C Forks\, WA 98331\n*El cuarto de comunidad cerca de las lavadoras* \nContacto: 360-912-1455
URL:https://perinatalsupport.org/event/entre-mamas/2026-08-05/
LOCATION:1750 Calawah Way\, 1750 Calawah Way\, 27C\, Forks\, WA\, 98331\, United States
CATEGORIES:BIPOC,Clallam,Latinx,Spanish,Support Group
GEO:47.9549709;-124.3559339
X-APPLE-STRUCTURED-LOCATION;VALUE=URI;X-ADDRESS=1750 Calawah Way 1750 Calawah Way 27C Forks WA 98331 United States;X-APPLE-RADIUS=500;X-TITLE=1750 Calawah Way\, 27C:geo:-124.3559339,47.9549709
END:VEVENT
BEGIN:VEVENT
DTSTART;TZID=America/Vancouver:20260812T110000
DTEND;TZID=America/Vancouver:20260812T120000
DTSTAMP:20260421T094803
CREATED:20211215T222157Z
LAST-MODIFIED:20240702T201133Z
UID:10020953-1786532400-1786536000@perinatalsupport.org
SUMMARY:Entre Mamás
DESCRIPTION:Un grupo para mujeres embarazadas o mujeres que tienen niños menor de 6 años. \nHorario: Todos los Miércoles \nDirección: 1750 Calawah Way\, 27C Forks\, WA 98331\n*El cuarto de comunidad cerca de las lavadoras* \nContacto: 360-912-1455
URL:https://perinatalsupport.org/event/entre-mamas/2026-08-12/
LOCATION:1750 Calawah Way\, 1750 Calawah Way\, 27C\, Forks\, WA\, 98331\, United States
CATEGORIES:BIPOC,Clallam,Latinx,Spanish,Support Group
GEO:47.9549709;-124.3559339
X-APPLE-STRUCTURED-LOCATION;VALUE=URI;X-ADDRESS=1750 Calawah Way 1750 Calawah Way 27C Forks WA 98331 United States;X-APPLE-RADIUS=500;X-TITLE=1750 Calawah Way\, 27C:geo:-124.3559339,47.9549709
END:VEVENT
BEGIN:VEVENT
DTSTART;TZID=America/Vancouver:20260819T110000
DTEND;TZID=America/Vancouver:20260819T120000
DTSTAMP:20260421T094803
CREATED:20211215T222157Z
LAST-MODIFIED:20240702T201133Z
UID:10020954-1787137200-1787140800@perinatalsupport.org
SUMMARY:Entre Mamás
DESCRIPTION:Un grupo para mujeres embarazadas o mujeres que tienen niños menor de 6 años. \nHorario: Todos los Miércoles \nDirección: 1750 Calawah Way\, 27C Forks\, WA 98331\n*El cuarto de comunidad cerca de las lavadoras* \nContacto: 360-912-1455
URL:https://perinatalsupport.org/event/entre-mamas/2026-08-19/
LOCATION:1750 Calawah Way\, 1750 Calawah Way\, 27C\, Forks\, WA\, 98331\, United States
CATEGORIES:BIPOC,Clallam,Latinx,Spanish,Support Group
GEO:47.9549709;-124.3559339
X-APPLE-STRUCTURED-LOCATION;VALUE=URI;X-ADDRESS=1750 Calawah Way 1750 Calawah Way 27C Forks WA 98331 United States;X-APPLE-RADIUS=500;X-TITLE=1750 Calawah Way\, 27C:geo:-124.3559339,47.9549709
END:VEVENT
BEGIN:VEVENT
DTSTART;TZID=America/Vancouver:20260826T110000
DTEND;TZID=America/Vancouver:20260826T120000
DTSTAMP:20260421T094803
CREATED:20211215T222157Z
LAST-MODIFIED:20240702T201133Z
UID:10020955-1787742000-1787745600@perinatalsupport.org
SUMMARY:Entre Mamás
DESCRIPTION:Un grupo para mujeres embarazadas o mujeres que tienen niños menor de 6 años. \nHorario: Todos los Miércoles \nDirección: 1750 Calawah Way\, 27C Forks\, WA 98331\n*El cuarto de comunidad cerca de las lavadoras* \nContacto: 360-912-1455
URL:https://perinatalsupport.org/event/entre-mamas/2026-08-26/
LOCATION:1750 Calawah Way\, 1750 Calawah Way\, 27C\, Forks\, WA\, 98331\, United States
CATEGORIES:BIPOC,Clallam,Latinx,Spanish,Support Group
GEO:47.9549709;-124.3559339
X-APPLE-STRUCTURED-LOCATION;VALUE=URI;X-ADDRESS=1750 Calawah Way 1750 Calawah Way 27C Forks WA 98331 United States;X-APPLE-RADIUS=500;X-TITLE=1750 Calawah Way\, 27C:geo:-124.3559339,47.9549709
END:VEVENT
BEGIN:VEVENT
DTSTART;TZID=America/Vancouver:20260902T110000
DTEND;TZID=America/Vancouver:20260902T120000
DTSTAMP:20260421T094803
CREATED:20211215T222157Z
LAST-MODIFIED:20240702T201133Z
UID:10020956-1788346800-1788350400@perinatalsupport.org
SUMMARY:Entre Mamás
DESCRIPTION:Un grupo para mujeres embarazadas o mujeres que tienen niños menor de 6 años. \nHorario: Todos los Miércoles \nDirección: 1750 Calawah Way\, 27C Forks\, WA 98331\n*El cuarto de comunidad cerca de las lavadoras* \nContacto: 360-912-1455
URL:https://perinatalsupport.org/event/entre-mamas/2026-09-02/
LOCATION:1750 Calawah Way\, 1750 Calawah Way\, 27C\, Forks\, WA\, 98331\, United States
CATEGORIES:BIPOC,Clallam,Latinx,Spanish,Support Group
GEO:47.9549709;-124.3559339
X-APPLE-STRUCTURED-LOCATION;VALUE=URI;X-ADDRESS=1750 Calawah Way 1750 Calawah Way 27C Forks WA 98331 United States;X-APPLE-RADIUS=500;X-TITLE=1750 Calawah Way\, 27C:geo:-124.3559339,47.9549709
END:VEVENT
BEGIN:VEVENT
DTSTART;TZID=America/Vancouver:20260909T110000
DTEND;TZID=America/Vancouver:20260909T120000
DTSTAMP:20260421T094803
CREATED:20211215T222157Z
LAST-MODIFIED:20240702T201133Z
UID:10020957-1788951600-1788955200@perinatalsupport.org
SUMMARY:Entre Mamás
DESCRIPTION:Un grupo para mujeres embarazadas o mujeres que tienen niños menor de 6 años. \nHorario: Todos los Miércoles \nDirección: 1750 Calawah Way\, 27C Forks\, WA 98331\n*El cuarto de comunidad cerca de las lavadoras* \nContacto: 360-912-1455
URL:https://perinatalsupport.org/event/entre-mamas/2026-09-09/
LOCATION:1750 Calawah Way\, 1750 Calawah Way\, 27C\, Forks\, WA\, 98331\, United States
CATEGORIES:BIPOC,Clallam,Latinx,Spanish,Support Group
GEO:47.9549709;-124.3559339
X-APPLE-STRUCTURED-LOCATION;VALUE=URI;X-ADDRESS=1750 Calawah Way 1750 Calawah Way 27C Forks WA 98331 United States;X-APPLE-RADIUS=500;X-TITLE=1750 Calawah Way\, 27C:geo:-124.3559339,47.9549709
END:VEVENT
BEGIN:VEVENT
DTSTART;TZID=America/Vancouver:20260916T110000
DTEND;TZID=America/Vancouver:20260916T120000
DTSTAMP:20260421T094803
CREATED:20211215T222157Z
LAST-MODIFIED:20240702T201133Z
UID:10020958-1789556400-1789560000@perinatalsupport.org
SUMMARY:Entre Mamás
DESCRIPTION:Un grupo para mujeres embarazadas o mujeres que tienen niños menor de 6 años. \nHorario: Todos los Miércoles \nDirección: 1750 Calawah Way\, 27C Forks\, WA 98331\n*El cuarto de comunidad cerca de las lavadoras* \nContacto: 360-912-1455
URL:https://perinatalsupport.org/event/entre-mamas/2026-09-16/
LOCATION:1750 Calawah Way\, 1750 Calawah Way\, 27C\, Forks\, WA\, 98331\, United States
CATEGORIES:BIPOC,Clallam,Latinx,Spanish,Support Group
GEO:47.9549709;-124.3559339
X-APPLE-STRUCTURED-LOCATION;VALUE=URI;X-ADDRESS=1750 Calawah Way 1750 Calawah Way 27C Forks WA 98331 United States;X-APPLE-RADIUS=500;X-TITLE=1750 Calawah Way\, 27C:geo:-124.3559339,47.9549709
END:VEVENT
BEGIN:VEVENT
DTSTART;TZID=America/Vancouver:20260923T110000
DTEND;TZID=America/Vancouver:20260923T120000
DTSTAMP:20260421T094803
CREATED:20211215T222157Z
LAST-MODIFIED:20240702T201133Z
UID:10020959-1790161200-1790164800@perinatalsupport.org
SUMMARY:Entre Mamás
DESCRIPTION:Un grupo para mujeres embarazadas o mujeres que tienen niños menor de 6 años. \nHorario: Todos los Miércoles \nDirección: 1750 Calawah Way\, 27C Forks\, WA 98331\n*El cuarto de comunidad cerca de las lavadoras* \nContacto: 360-912-1455
URL:https://perinatalsupport.org/event/entre-mamas/2026-09-23/
LOCATION:1750 Calawah Way\, 1750 Calawah Way\, 27C\, Forks\, WA\, 98331\, United States
CATEGORIES:BIPOC,Clallam,Latinx,Spanish,Support Group
GEO:47.9549709;-124.3559339
X-APPLE-STRUCTURED-LOCATION;VALUE=URI;X-ADDRESS=1750 Calawah Way 1750 Calawah Way 27C Forks WA 98331 United States;X-APPLE-RADIUS=500;X-TITLE=1750 Calawah Way\, 27C:geo:-124.3559339,47.9549709
END:VEVENT
BEGIN:VEVENT
DTSTART;TZID=America/Vancouver:20260930T110000
DTEND;TZID=America/Vancouver:20260930T120000
DTSTAMP:20260421T094803
CREATED:20211215T222157Z
LAST-MODIFIED:20240702T201133Z
UID:10020960-1790766000-1790769600@perinatalsupport.org
SUMMARY:Entre Mamás
DESCRIPTION:Un grupo para mujeres embarazadas o mujeres que tienen niños menor de 6 años. \nHorario: Todos los Miércoles \nDirección: 1750 Calawah Way\, 27C Forks\, WA 98331\n*El cuarto de comunidad cerca de las lavadoras* \nContacto: 360-912-1455
URL:https://perinatalsupport.org/event/entre-mamas/2026-09-30/
LOCATION:1750 Calawah Way\, 1750 Calawah Way\, 27C\, Forks\, WA\, 98331\, United States
CATEGORIES:BIPOC,Clallam,Latinx,Spanish,Support Group
GEO:47.9549709;-124.3559339
X-APPLE-STRUCTURED-LOCATION;VALUE=URI;X-ADDRESS=1750 Calawah Way 1750 Calawah Way 27C Forks WA 98331 United States;X-APPLE-RADIUS=500;X-TITLE=1750 Calawah Way\, 27C:geo:-124.3559339,47.9549709
END:VEVENT
BEGIN:VEVENT
DTSTART;TZID=America/Vancouver:20261007T110000
DTEND;TZID=America/Vancouver:20261007T120000
DTSTAMP:20260421T094803
CREATED:20211215T222157Z
LAST-MODIFIED:20240702T201133Z
UID:10020961-1791370800-1791374400@perinatalsupport.org
SUMMARY:Entre Mamás
DESCRIPTION:Un grupo para mujeres embarazadas o mujeres que tienen niños menor de 6 años. \nHorario: Todos los Miércoles \nDirección: 1750 Calawah Way\, 27C Forks\, WA 98331\n*El cuarto de comunidad cerca de las lavadoras* \nContacto: 360-912-1455
URL:https://perinatalsupport.org/event/entre-mamas/2026-10-07/
LOCATION:1750 Calawah Way\, 1750 Calawah Way\, 27C\, Forks\, WA\, 98331\, United States
CATEGORIES:BIPOC,Clallam,Latinx,Spanish,Support Group
GEO:47.9549709;-124.3559339
X-APPLE-STRUCTURED-LOCATION;VALUE=URI;X-ADDRESS=1750 Calawah Way 1750 Calawah Way 27C Forks WA 98331 United States;X-APPLE-RADIUS=500;X-TITLE=1750 Calawah Way\, 27C:geo:-124.3559339,47.9549709
END:VEVENT
BEGIN:VEVENT
DTSTART;TZID=America/Vancouver:20261014T110000
DTEND;TZID=America/Vancouver:20261014T120000
DTSTAMP:20260421T094803
CREATED:20211215T222157Z
LAST-MODIFIED:20240702T201133Z
UID:10020962-1791975600-1791979200@perinatalsupport.org
SUMMARY:Entre Mamás
DESCRIPTION:Un grupo para mujeres embarazadas o mujeres que tienen niños menor de 6 años. \nHorario: Todos los Miércoles \nDirección: 1750 Calawah Way\, 27C Forks\, WA 98331\n*El cuarto de comunidad cerca de las lavadoras* \nContacto: 360-912-1455
URL:https://perinatalsupport.org/event/entre-mamas/2026-10-14/
LOCATION:1750 Calawah Way\, 1750 Calawah Way\, 27C\, Forks\, WA\, 98331\, United States
CATEGORIES:BIPOC,Clallam,Latinx,Spanish,Support Group
GEO:47.9549709;-124.3559339
X-APPLE-STRUCTURED-LOCATION;VALUE=URI;X-ADDRESS=1750 Calawah Way 1750 Calawah Way 27C Forks WA 98331 United States;X-APPLE-RADIUS=500;X-TITLE=1750 Calawah Way\, 27C:geo:-124.3559339,47.9549709
END:VEVENT
BEGIN:VEVENT
DTSTART;TZID=America/Vancouver:20261021T110000
DTEND;TZID=America/Vancouver:20261021T120000
DTSTAMP:20260421T094803
CREATED:20211215T222157Z
LAST-MODIFIED:20240702T201133Z
UID:10020963-1792580400-1792584000@perinatalsupport.org
SUMMARY:Entre Mamás
DESCRIPTION:Un grupo para mujeres embarazadas o mujeres que tienen niños menor de 6 años. \nHorario: Todos los Miércoles \nDirección: 1750 Calawah Way\, 27C Forks\, WA 98331\n*El cuarto de comunidad cerca de las lavadoras* \nContacto: 360-912-1455
URL:https://perinatalsupport.org/event/entre-mamas/2026-10-21/
LOCATION:1750 Calawah Way\, 1750 Calawah Way\, 27C\, Forks\, WA\, 98331\, United States
CATEGORIES:BIPOC,Clallam,Latinx,Spanish,Support Group
GEO:47.9549709;-124.3559339
X-APPLE-STRUCTURED-LOCATION;VALUE=URI;X-ADDRESS=1750 Calawah Way 1750 Calawah Way 27C Forks WA 98331 United States;X-APPLE-RADIUS=500;X-TITLE=1750 Calawah Way\, 27C:geo:-124.3559339,47.9549709
END:VEVENT
BEGIN:VEVENT
DTSTART;TZID=America/Vancouver:20261028T110000
DTEND;TZID=America/Vancouver:20261028T120000
DTSTAMP:20260421T094803
CREATED:20211215T222157Z
LAST-MODIFIED:20240702T201133Z
UID:10020964-1793185200-1793188800@perinatalsupport.org
SUMMARY:Entre Mamás
DESCRIPTION:Un grupo para mujeres embarazadas o mujeres que tienen niños menor de 6 años. \nHorario: Todos los Miércoles \nDirección: 1750 Calawah Way\, 27C Forks\, WA 98331\n*El cuarto de comunidad cerca de las lavadoras* \nContacto: 360-912-1455
URL:https://perinatalsupport.org/event/entre-mamas/2026-10-28/
LOCATION:1750 Calawah Way\, 1750 Calawah Way\, 27C\, Forks\, WA\, 98331\, United States
CATEGORIES:BIPOC,Clallam,Latinx,Spanish,Support Group
GEO:47.9549709;-124.3559339
X-APPLE-STRUCTURED-LOCATION;VALUE=URI;X-ADDRESS=1750 Calawah Way 1750 Calawah Way 27C Forks WA 98331 United States;X-APPLE-RADIUS=500;X-TITLE=1750 Calawah Way\, 27C:geo:-124.3559339,47.9549709
END:VEVENT
BEGIN:VEVENT
DTSTART;TZID=America/Vancouver:20261104T110000
DTEND;TZID=America/Vancouver:20261104T120000
DTSTAMP:20260421T094803
CREATED:20211215T222157Z
LAST-MODIFIED:20240702T201133Z
UID:10020965-1793790000-1793793600@perinatalsupport.org
SUMMARY:Entre Mamás
DESCRIPTION:Un grupo para mujeres embarazadas o mujeres que tienen niños menor de 6 años. \nHorario: Todos los Miércoles \nDirección: 1750 Calawah Way\, 27C Forks\, WA 98331\n*El cuarto de comunidad cerca de las lavadoras* \nContacto: 360-912-1455
URL:https://perinatalsupport.org/event/entre-mamas/2026-11-04/
LOCATION:1750 Calawah Way\, 1750 Calawah Way\, 27C\, Forks\, WA\, 98331\, United States
CATEGORIES:BIPOC,Clallam,Latinx,Spanish,Support Group
GEO:47.9549709;-124.3559339
X-APPLE-STRUCTURED-LOCATION;VALUE=URI;X-ADDRESS=1750 Calawah Way 1750 Calawah Way 27C Forks WA 98331 United States;X-APPLE-RADIUS=500;X-TITLE=1750 Calawah Way\, 27C:geo:-124.3559339,47.9549709
END:VEVENT
BEGIN:VEVENT
DTSTART;TZID=America/Vancouver:20261111T110000
DTEND;TZID=America/Vancouver:20261111T120000
DTSTAMP:20260421T094803
CREATED:20211215T222157Z
LAST-MODIFIED:20240702T201133Z
UID:10020966-1794394800-1794398400@perinatalsupport.org
SUMMARY:Entre Mamás
DESCRIPTION:Un grupo para mujeres embarazadas o mujeres que tienen niños menor de 6 años. \nHorario: Todos los Miércoles \nDirección: 1750 Calawah Way\, 27C Forks\, WA 98331\n*El cuarto de comunidad cerca de las lavadoras* \nContacto: 360-912-1455
URL:https://perinatalsupport.org/event/entre-mamas/2026-11-11/
LOCATION:1750 Calawah Way\, 1750 Calawah Way\, 27C\, Forks\, WA\, 98331\, United States
CATEGORIES:BIPOC,Clallam,Latinx,Spanish,Support Group
GEO:47.9549709;-124.3559339
X-APPLE-STRUCTURED-LOCATION;VALUE=URI;X-ADDRESS=1750 Calawah Way 1750 Calawah Way 27C Forks WA 98331 United States;X-APPLE-RADIUS=500;X-TITLE=1750 Calawah Way\, 27C:geo:-124.3559339,47.9549709
END:VEVENT
END:VCALENDAR