BEGIN:VCALENDAR
VERSION:2.0
PRODID:-//Perinatal Support Washington - ECPv6.15.20//NONSGML v1.0//EN
CALSCALE:GREGORIAN
METHOD:PUBLISH
X-WR-CALNAME:Perinatal Support Washington
X-ORIGINAL-URL:https://perinatalsupport.org
X-WR-CALDESC:Events for Perinatal Support Washington
REFRESH-INTERVAL;VALUE=DURATION:PT1H
X-Robots-Tag:noindex
X-PUBLISHED-TTL:PT1H
BEGIN:VTIMEZONE
TZID:America/Vancouver
BEGIN:DAYLIGHT
TZOFFSETFROM:-0800
TZOFFSETTO:-0700
TZNAME:PDT
DTSTART:20240310T100000
END:DAYLIGHT
BEGIN:STANDARD
TZOFFSETFROM:-0700
TZOFFSETTO:-0800
TZNAME:PST
DTSTART:20241103T090000
END:STANDARD
BEGIN:DAYLIGHT
TZOFFSETFROM:-0800
TZOFFSETTO:-0700
TZNAME:PDT
DTSTART:20250309T100000
END:DAYLIGHT
BEGIN:STANDARD
TZOFFSETFROM:-0700
TZOFFSETTO:-0800
TZNAME:PST
DTSTART:20251102T090000
END:STANDARD
BEGIN:DAYLIGHT
TZOFFSETFROM:-0800
TZOFFSETTO:-0700
TZNAME:PDT
DTSTART:20260308T100000
END:DAYLIGHT
BEGIN:STANDARD
TZOFFSETFROM:-0700
TZOFFSETTO:-0800
TZNAME:PST
DTSTART:20261101T090000
END:STANDARD
END:VTIMEZONE
BEGIN:VEVENT
DTSTART;TZID=America/Vancouver:20250201T100000
DTEND;TZID=America/Vancouver:20250201T113000
DTSTAMP:20260423T175610
CREATED:20230216T200635Z
LAST-MODIFIED:20240702T200551Z
UID:10020316-1738404000-1738409400@perinatalsupport.org
SUMMARY:Caminemos Juntos
DESCRIPTION:Te invitamos a participar en un groupo de apoyo: Caminemos Juntos. \nEn caminemos Juntos tratemos temas como: \n\nEl camino de ser madre/padre\nCuidado personal\nSalud mental\nCompartir experiencias y situaciones\nCrear una comunidad juntos\n\nParticipantes tendran su nombre inscrito en el sorteo del fin del mes! \nTodas las sesiones se realizarán por Zoom cada otro: \nJueves 6:15PM-7:30PM (PT) \ny Sábado de 10:00AM-11:30AM (PT) \nMándanos un mensaje de texto al telefono: (971) 258-2426 \nInstagram: @caminemosjuntoswa \nFacebook: @caminemosjuntoswashington
URL:https://perinatalsupport.org/event/caminemos-juntos/2025-02-01/
LOCATION:Online
CATEGORIES:BIPOC,Latinx,Pierce,Spanish,Support Group
GEO:47.7510741;-120.7401385
END:VEVENT
BEGIN:VEVENT
DTSTART;TZID=America/Vancouver:20250205T110000
DTEND;TZID=America/Vancouver:20250205T120000
DTSTAMP:20260423T175610
CREATED:20211215T222157Z
LAST-MODIFIED:20240702T201133Z
UID:10020874-1738753200-1738756800@perinatalsupport.org
SUMMARY:Entre Mamás
DESCRIPTION:Un grupo para mujeres embarazadas o mujeres que tienen niños menor de 6 años. \nHorario: Todos los Miércoles \nDirección: 1750 Calawah Way\, 27C Forks\, WA 98331\n*El cuarto de comunidad cerca de las lavadoras* \nContacto: 360-912-1455
URL:https://perinatalsupport.org/event/entre-mamas/2025-02-05/
LOCATION:1750 Calawah Way\, 1750 Calawah Way\, 27C\, Forks\, WA\, 98331\, United States
CATEGORIES:BIPOC,Clallam,Latinx,Spanish,Support Group
GEO:47.9549709;-124.3559339
X-APPLE-STRUCTURED-LOCATION;VALUE=URI;X-ADDRESS=1750 Calawah Way 1750 Calawah Way 27C Forks WA 98331 United States;X-APPLE-RADIUS=500;X-TITLE=1750 Calawah Way\, 27C:geo:-124.3559339,47.9549709
END:VEVENT
BEGIN:VEVENT
DTSTART;TZID=America/Vancouver:20250206T170000
DTEND;TZID=America/Vancouver:20250206T183000
DTSTAMP:20260423T175610
CREATED:20230706T164156Z
LAST-MODIFIED:20230706T164211Z
UID:10018126-1738861200-1738866600@perinatalsupport.org
SUMMARY:Coffee & Cradleboards
DESCRIPTION:Group Peer Support \nIt is a place to listen and learn from the experience of others\, to realize that we are not alone\, and that others understand what we are experiencing. It is a precious and rare opportunity to hear the power of our voice\, to feel that inner strength and intelligence that is in the heart of each one of us. \nEvery first and third Thursday at 5pm PST \nLocation: \nOCCDA Fiscal/HR Office\n670 Riverside Drive\, \nOmak\, WA 98841 \nFor more information on dates and times\, contact Shannon Nakkour (509) 322-7053 and Jill Moomaw at jnanpuya@gmail.com
URL:https://perinatalsupport.org/event/coffee-cradleboards-2/2025-02-06/
LOCATION:OCCDA Fiscal/HR Office\, 670 Riverside Drive\, Omak\, 98841
CATEGORIES:BIPOC,Indigenous,Okanogan,Support Group
GEO:48.41648;-119.5128871
X-APPLE-STRUCTURED-LOCATION;VALUE=URI;X-ADDRESS=OCCDA Fiscal/HR Office 670 Riverside Drive Omak 98841;X-APPLE-RADIUS=500;X-TITLE=670 Riverside Drive:geo:-119.5128871,48.41648
END:VEVENT
BEGIN:VEVENT
DTSTART;TZID=America/Vancouver:20250206T181500
DTEND;TZID=America/Vancouver:20250206T193000
DTSTAMP:20260423T175610
CREATED:20230216T202428Z
LAST-MODIFIED:20240702T200617Z
UID:10020596-1738865700-1738870200@perinatalsupport.org
SUMMARY:Caminemos Juntos
DESCRIPTION:Te invitamos a participar en un groupo de apoyo: Caminemos Juntos. \nEn caminemos Juntos tratemos temas como: \n\nEl camino de ser madre/padre\nCuidado personal\nSalud mental\nCompartir experiencias y situaciones\nCrear una comunidad juntos\n\nParticipantes tendran su nombre inscrito en el sorteo del fin del mes! \nTodas las sesiones se realizarán por Zoom cada otro: \nJueves 6:15PM-7:30PM (PT) \ny Sábado de 10:00AM-11:30AM (PT) \nMándanos un mensaje de texto al telefono: (971) 258-2426 \nInstagram: @caminemosjuntoswa \nFacebook: @caminemosjuntoswashington
URL:https://perinatalsupport.org/event/caminemos-juntos-2/2025-02-06/
LOCATION:Online
CATEGORIES:BIPOC,Latinx,Pierce,Spanish,Support Group
GEO:47.7510741;-120.7401385
END:VEVENT
BEGIN:VEVENT
DTSTART;TZID=America/Vancouver:20250208T100000
DTEND;TZID=America/Vancouver:20250208T113000
DTSTAMP:20260423T175610
CREATED:20230216T200635Z
LAST-MODIFIED:20240702T200551Z
UID:10020317-1739008800-1739014200@perinatalsupport.org
SUMMARY:Caminemos Juntos
DESCRIPTION:Te invitamos a participar en un groupo de apoyo: Caminemos Juntos. \nEn caminemos Juntos tratemos temas como: \n\nEl camino de ser madre/padre\nCuidado personal\nSalud mental\nCompartir experiencias y situaciones\nCrear una comunidad juntos\n\nParticipantes tendran su nombre inscrito en el sorteo del fin del mes! \nTodas las sesiones se realizarán por Zoom cada otro: \nJueves 6:15PM-7:30PM (PT) \ny Sábado de 10:00AM-11:30AM (PT) \nMándanos un mensaje de texto al telefono: (971) 258-2426 \nInstagram: @caminemosjuntoswa \nFacebook: @caminemosjuntoswashington
URL:https://perinatalsupport.org/event/caminemos-juntos/2025-02-08/
LOCATION:Online
CATEGORIES:BIPOC,Latinx,Pierce,Spanish,Support Group
GEO:47.7510741;-120.7401385
END:VEVENT
BEGIN:VEVENT
DTSTART;TZID=America/Vancouver:20250212T110000
DTEND;TZID=America/Vancouver:20250212T120000
DTSTAMP:20260423T175610
CREATED:20211215T222157Z
LAST-MODIFIED:20240702T201133Z
UID:10020875-1739358000-1739361600@perinatalsupport.org
SUMMARY:Entre Mamás
DESCRIPTION:Un grupo para mujeres embarazadas o mujeres que tienen niños menor de 6 años. \nHorario: Todos los Miércoles \nDirección: 1750 Calawah Way\, 27C Forks\, WA 98331\n*El cuarto de comunidad cerca de las lavadoras* \nContacto: 360-912-1455
URL:https://perinatalsupport.org/event/entre-mamas/2025-02-12/
LOCATION:1750 Calawah Way\, 1750 Calawah Way\, 27C\, Forks\, WA\, 98331\, United States
CATEGORIES:BIPOC,Clallam,Latinx,Spanish,Support Group
GEO:47.9549709;-124.3559339
X-APPLE-STRUCTURED-LOCATION;VALUE=URI;X-ADDRESS=1750 Calawah Way 1750 Calawah Way 27C Forks WA 98331 United States;X-APPLE-RADIUS=500;X-TITLE=1750 Calawah Way\, 27C:geo:-124.3559339,47.9549709
END:VEVENT
BEGIN:VEVENT
DTSTART;TZID=America/Vancouver:20250213T181500
DTEND;TZID=America/Vancouver:20250213T193000
DTSTAMP:20260423T175610
CREATED:20230216T202428Z
LAST-MODIFIED:20240702T200617Z
UID:10020597-1739470500-1739475000@perinatalsupport.org
SUMMARY:Caminemos Juntos
DESCRIPTION:Te invitamos a participar en un groupo de apoyo: Caminemos Juntos. \nEn caminemos Juntos tratemos temas como: \n\nEl camino de ser madre/padre\nCuidado personal\nSalud mental\nCompartir experiencias y situaciones\nCrear una comunidad juntos\n\nParticipantes tendran su nombre inscrito en el sorteo del fin del mes! \nTodas las sesiones se realizarán por Zoom cada otro: \nJueves 6:15PM-7:30PM (PT) \ny Sábado de 10:00AM-11:30AM (PT) \nMándanos un mensaje de texto al telefono: (971) 258-2426 \nInstagram: @caminemosjuntoswa \nFacebook: @caminemosjuntoswashington
URL:https://perinatalsupport.org/event/caminemos-juntos-2/2025-02-13/
LOCATION:Online
CATEGORIES:BIPOC,Latinx,Pierce,Spanish,Support Group
GEO:47.7510741;-120.7401385
END:VEVENT
BEGIN:VEVENT
DTSTART;TZID=America/Vancouver:20250215T100000
DTEND;TZID=America/Vancouver:20250215T113000
DTSTAMP:20260423T175610
CREATED:20230216T200635Z
LAST-MODIFIED:20240702T200551Z
UID:10020318-1739613600-1739619000@perinatalsupport.org
SUMMARY:Caminemos Juntos
DESCRIPTION:Te invitamos a participar en un groupo de apoyo: Caminemos Juntos. \nEn caminemos Juntos tratemos temas como: \n\nEl camino de ser madre/padre\nCuidado personal\nSalud mental\nCompartir experiencias y situaciones\nCrear una comunidad juntos\n\nParticipantes tendran su nombre inscrito en el sorteo del fin del mes! \nTodas las sesiones se realizarán por Zoom cada otro: \nJueves 6:15PM-7:30PM (PT) \ny Sábado de 10:00AM-11:30AM (PT) \nMándanos un mensaje de texto al telefono: (971) 258-2426 \nInstagram: @caminemosjuntoswa \nFacebook: @caminemosjuntoswashington
URL:https://perinatalsupport.org/event/caminemos-juntos/2025-02-15/
LOCATION:Online
CATEGORIES:BIPOC,Latinx,Pierce,Spanish,Support Group
GEO:47.7510741;-120.7401385
END:VEVENT
BEGIN:VEVENT
DTSTART;TZID=America/Vancouver:20250219T110000
DTEND;TZID=America/Vancouver:20250219T120000
DTSTAMP:20260423T175610
CREATED:20211215T222157Z
LAST-MODIFIED:20240702T201133Z
UID:10020876-1739962800-1739966400@perinatalsupport.org
SUMMARY:Entre Mamás
DESCRIPTION:Un grupo para mujeres embarazadas o mujeres que tienen niños menor de 6 años. \nHorario: Todos los Miércoles \nDirección: 1750 Calawah Way\, 27C Forks\, WA 98331\n*El cuarto de comunidad cerca de las lavadoras* \nContacto: 360-912-1455
URL:https://perinatalsupport.org/event/entre-mamas/2025-02-19/
LOCATION:1750 Calawah Way\, 1750 Calawah Way\, 27C\, Forks\, WA\, 98331\, United States
CATEGORIES:BIPOC,Clallam,Latinx,Spanish,Support Group
GEO:47.9549709;-124.3559339
X-APPLE-STRUCTURED-LOCATION;VALUE=URI;X-ADDRESS=1750 Calawah Way 1750 Calawah Way 27C Forks WA 98331 United States;X-APPLE-RADIUS=500;X-TITLE=1750 Calawah Way\, 27C:geo:-124.3559339,47.9549709
END:VEVENT
BEGIN:VEVENT
DTSTART;TZID=America/Vancouver:20250219T110000
DTEND;TZID=America/Vancouver:20250219T123000
DTSTAMP:20260423T175610
CREATED:20240313T161113Z
LAST-MODIFIED:20240702T200350Z
UID:10020213-1739962800-1739968200@perinatalsupport.org
SUMMARY:Círculo de Alianza Latina para la Maternidad Acompañada (CALMA)
DESCRIPTION:Círculo de Alianza Latina para la Maternidad Acompañada (C.A.L.M.A.) \n¿Cuándo? Cada tercer miércoles del mes: comenzando a las 11:00 AM hasta las 12:30 PM (PST) \n¿Dónde? Virtual. Para participar descarga la aplicación gratis de ZOOM y visita el siguiente enlace:  \nhttps://us02web.zoom.us/j/81431803030 \nLos cambios suelen ser complicados y la adaptación a la nueva realidad merece ser acompañada. Te invitamos al grupo CALMA donde ofrecemos un espacio para ser escuchadas y honestas sobre los altibajos que conlleva navegar la maternidad. Si estás embarazada\, tienes un bebé y/o cuidas de niños(as) pequeños(as) este grupo fue creado contigo en mente. ¿Quieres conocer más información? Escríbele a Sharleen apoyocalma@gmail.com
URL:https://perinatalsupport.org/event/circulo-de-alianza-latina-para-la-maternidad-acompanada-calma-2-2/2025-02-19/
CATEGORIES:BIPOC,Latinx,Spanish,Support Group,Whatcom
ORGANIZER;CN="Sharleen Ortiz Rivera":MAILTO:apoyocalma@gmail.com
END:VEVENT
BEGIN:VEVENT
DTSTART;TZID=America/Vancouver:20250220T170000
DTEND;TZID=America/Vancouver:20250220T183000
DTSTAMP:20260423T175610
CREATED:20230706T164425Z
LAST-MODIFIED:20230706T164425Z
UID:10018248-1740070800-1740076200@perinatalsupport.org
SUMMARY:Coffee & Cradleboards
DESCRIPTION:Group Peer Support \nIt is a place to listen and learn from the experience of others\, to realize that we are not alone\, and that others understand what we are experiencing. It is a precious and rare opportunity to hear the power of our voice\, to feel that inner strength and intelligence that is in the heart of each one of us. \nEvery first and third Thursday at 5pm PST \nLocation: \nOCCDA Fiscal/HR Office\n670 Riverside Drive\, \nOmak\, WA 98841 \nFor more information on dates and times\, contact Shannon Nakkour (509) 322-7053 and Jill Moomaw at jnanpuya@gmail.com
URL:https://perinatalsupport.org/event/coffee-cradleboards-3/2025-02-20/
LOCATION:OCCDA Fiscal/HR Office\, 670 Riverside Drive\, Omak\, 98841
CATEGORIES:BIPOC,Indigenous,Okanogan,Support Group
GEO:48.41648;-119.5128871
X-APPLE-STRUCTURED-LOCATION;VALUE=URI;X-ADDRESS=OCCDA Fiscal/HR Office 670 Riverside Drive Omak 98841;X-APPLE-RADIUS=500;X-TITLE=670 Riverside Drive:geo:-119.5128871,48.41648
END:VEVENT
BEGIN:VEVENT
DTSTART;TZID=America/Vancouver:20250220T181500
DTEND;TZID=America/Vancouver:20250220T193000
DTSTAMP:20260423T175610
CREATED:20230216T202428Z
LAST-MODIFIED:20240702T200617Z
UID:10020598-1740075300-1740079800@perinatalsupport.org
SUMMARY:Caminemos Juntos
DESCRIPTION:Te invitamos a participar en un groupo de apoyo: Caminemos Juntos. \nEn caminemos Juntos tratemos temas como: \n\nEl camino de ser madre/padre\nCuidado personal\nSalud mental\nCompartir experiencias y situaciones\nCrear una comunidad juntos\n\nParticipantes tendran su nombre inscrito en el sorteo del fin del mes! \nTodas las sesiones se realizarán por Zoom cada otro: \nJueves 6:15PM-7:30PM (PT) \ny Sábado de 10:00AM-11:30AM (PT) \nMándanos un mensaje de texto al telefono: (971) 258-2426 \nInstagram: @caminemosjuntoswa \nFacebook: @caminemosjuntoswashington
URL:https://perinatalsupport.org/event/caminemos-juntos-2/2025-02-20/
LOCATION:Online
CATEGORIES:BIPOC,Latinx,Pierce,Spanish,Support Group
GEO:47.7510741;-120.7401385
END:VEVENT
BEGIN:VEVENT
DTSTART;TZID=America/Vancouver:20250221T153000
DTEND;TZID=America/Vancouver:20250221T163000
DTSTAMP:20260423T175610
CREATED:20230410T151041Z
LAST-MODIFIED:20250417T181406Z
UID:10024791-1740151800-1740155400@perinatalsupport.org
SUMMARY:Grupo Español de Apoyo Para Nuevos Padres
DESCRIPTION:Comienza el 7 de abril. \nUn grupo para mujeres embarazadas o mujeres que tienen niños menor de 2 años. Liderada por una madre bilingüe capacitada. \nÚnete con nosotros el 1 y 3 viernes de cada mes a las 3:30pm  \nEdificio detrás de la oficina de correos en White Salmon \n501 NE Washington St\, White Salmon\, WA \nAbajo en la sala de reuniones White Salmon \n\n\nThe group will be meeting every 1st and 3rd Friday of the month. Starting on April 7.\nThe group will be held 3:30-4:30pm\n\nDirections to the room are as follows:\n\nBuilding Behind the Post\nOffice in White Salmon\n501 NE Washington St\,\nWhite Salmon\, WA\nDownstairs in the White\nSalmon Meeting Room\n\nContact Argentina at 509-250-1516\n\nPlease see our flyer for additional information as well as our website
URL:https://perinatalsupport.org/event/grupo-espanol-de-apoyo-para-nuevos-padres-2/2025-02-21/
LOCATION:501 NE Washington St\, White Salmon\, WA\, 501 NE Washington St\, White Salmon\, WA\, 98672\, United States
CATEGORIES:BIPOC,Klickitat/Skamania,Latinx,Spanish,Support Group
GEO:45.729461;-121.4807031
X-APPLE-STRUCTURED-LOCATION;VALUE=URI;X-ADDRESS=501 NE Washington St White Salmon WA 501 NE Washington St White Salmon WA 98672 United States;X-APPLE-RADIUS=500;X-TITLE=501 NE Washington St:geo:-121.4807031,45.729461
END:VEVENT
BEGIN:VEVENT
DTSTART;TZID=America/Vancouver:20250222T100000
DTEND;TZID=America/Vancouver:20250222T113000
DTSTAMP:20260423T175610
CREATED:20230216T200635Z
LAST-MODIFIED:20240702T200551Z
UID:10020319-1740218400-1740223800@perinatalsupport.org
SUMMARY:Caminemos Juntos
DESCRIPTION:Te invitamos a participar en un groupo de apoyo: Caminemos Juntos. \nEn caminemos Juntos tratemos temas como: \n\nEl camino de ser madre/padre\nCuidado personal\nSalud mental\nCompartir experiencias y situaciones\nCrear una comunidad juntos\n\nParticipantes tendran su nombre inscrito en el sorteo del fin del mes! \nTodas las sesiones se realizarán por Zoom cada otro: \nJueves 6:15PM-7:30PM (PT) \ny Sábado de 10:00AM-11:30AM (PT) \nMándanos un mensaje de texto al telefono: (971) 258-2426 \nInstagram: @caminemosjuntoswa \nFacebook: @caminemosjuntoswashington
URL:https://perinatalsupport.org/event/caminemos-juntos/2025-02-22/
LOCATION:Online
CATEGORIES:BIPOC,Latinx,Pierce,Spanish,Support Group
GEO:47.7510741;-120.7401385
END:VEVENT
BEGIN:VEVENT
DTSTART;TZID=America/Vancouver:20250226T110000
DTEND;TZID=America/Vancouver:20250226T120000
DTSTAMP:20260423T175610
CREATED:20211215T222157Z
LAST-MODIFIED:20240702T201133Z
UID:10020877-1740567600-1740571200@perinatalsupport.org
SUMMARY:Entre Mamás
DESCRIPTION:Un grupo para mujeres embarazadas o mujeres que tienen niños menor de 6 años. \nHorario: Todos los Miércoles \nDirección: 1750 Calawah Way\, 27C Forks\, WA 98331\n*El cuarto de comunidad cerca de las lavadoras* \nContacto: 360-912-1455
URL:https://perinatalsupport.org/event/entre-mamas/2025-02-26/
LOCATION:1750 Calawah Way\, 1750 Calawah Way\, 27C\, Forks\, WA\, 98331\, United States
CATEGORIES:BIPOC,Clallam,Latinx,Spanish,Support Group
GEO:47.9549709;-124.3559339
X-APPLE-STRUCTURED-LOCATION;VALUE=URI;X-ADDRESS=1750 Calawah Way 1750 Calawah Way 27C Forks WA 98331 United States;X-APPLE-RADIUS=500;X-TITLE=1750 Calawah Way\, 27C:geo:-124.3559339,47.9549709
END:VEVENT
BEGIN:VEVENT
DTSTART;TZID=America/Vancouver:20250227T181500
DTEND;TZID=America/Vancouver:20250227T193000
DTSTAMP:20260423T175610
CREATED:20230216T202428Z
LAST-MODIFIED:20240702T200617Z
UID:10020599-1740680100-1740684600@perinatalsupport.org
SUMMARY:Caminemos Juntos
DESCRIPTION:Te invitamos a participar en un groupo de apoyo: Caminemos Juntos. \nEn caminemos Juntos tratemos temas como: \n\nEl camino de ser madre/padre\nCuidado personal\nSalud mental\nCompartir experiencias y situaciones\nCrear una comunidad juntos\n\nParticipantes tendran su nombre inscrito en el sorteo del fin del mes! \nTodas las sesiones se realizarán por Zoom cada otro: \nJueves 6:15PM-7:30PM (PT) \ny Sábado de 10:00AM-11:30AM (PT) \nMándanos un mensaje de texto al telefono: (971) 258-2426 \nInstagram: @caminemosjuntoswa \nFacebook: @caminemosjuntoswashington
URL:https://perinatalsupport.org/event/caminemos-juntos-2/2025-02-27/
LOCATION:Online
CATEGORIES:BIPOC,Latinx,Pierce,Spanish,Support Group
GEO:47.7510741;-120.7401385
END:VEVENT
END:VCALENDAR