BEGIN:VCALENDAR
VERSION:2.0
PRODID:-//Perinatal Support Washington - ECPv6.15.20//NONSGML v1.0//EN
CALSCALE:GREGORIAN
METHOD:PUBLISH
X-ORIGINAL-URL:https://perinatalsupport.org
X-WR-CALDESC:Events for Perinatal Support Washington
REFRESH-INTERVAL;VALUE=DURATION:PT1H
X-Robots-Tag:noindex
X-PUBLISHED-TTL:PT1H
BEGIN:VTIMEZONE
TZID:America/Vancouver
BEGIN:DAYLIGHT
TZOFFSETFROM:-0800
TZOFFSETTO:-0700
TZNAME:PDT
DTSTART:20270314T100000
END:DAYLIGHT
BEGIN:STANDARD
TZOFFSETFROM:-0700
TZOFFSETTO:-0800
TZNAME:PST
DTSTART:20271107T090000
END:STANDARD
BEGIN:DAYLIGHT
TZOFFSETFROM:-0800
TZOFFSETTO:-0700
TZNAME:PDT
DTSTART:20280312T100000
END:DAYLIGHT
BEGIN:STANDARD
TZOFFSETFROM:-0700
TZOFFSETTO:-0800
TZNAME:PST
DTSTART:20281105T090000
END:STANDARD
BEGIN:DAYLIGHT
TZOFFSETFROM:-0800
TZOFFSETTO:-0700
TZNAME:PDT
DTSTART:20290311T100000
END:DAYLIGHT
BEGIN:STANDARD
TZOFFSETFROM:-0700
TZOFFSETTO:-0800
TZNAME:PST
DTSTART:20291104T090000
END:STANDARD
BEGIN:DAYLIGHT
TZOFFSETFROM:-0800
TZOFFSETTO:-0700
TZNAME:PDT
DTSTART:20300310T100000
END:DAYLIGHT
BEGIN:STANDARD
TZOFFSETFROM:-0700
TZOFFSETTO:-0800
TZNAME:PST
DTSTART:20301103T090000
END:STANDARD
END:VTIMEZONE
BEGIN:VEVENT
DTSTART;TZID=America/Vancouver:20281109T173000
DTEND;TZID=America/Vancouver:20281109T190000
DTSTAMP:20260423T003735
CREATED:20241120T195326Z
LAST-MODIFIED:20241120T195408Z
UID:10023763-1857403800-1857409200@perinatalsupport.org
SUMMARY:Thurston County Bereavement Support Group
DESCRIPTION:Empowering families affected by fetal\, infant\, or child loss. We welcome you to join our bereavement support group. Anyone who has been affected by a miscarriage\, stillbirth\, infant loss\, or child loss can attend. \n“Grief doesn’t have a timeline; it is a dynamic process that will ebb & flow.” \n\nWhen: 2nd Thursday of every month\n\nWhere: Public Health & Social Services; 412 Lilly Rd NE\, Olympia WA 98506\nTime: 5:30-7 pm\n\n\nhttps://www.thurstoncountywa.gov/events/thurston-county-bereavement-support-group\n\n\nFor more information visit our Fetal Infant Mortality Review & Prevention page. Call 360-867-2500 or email PHSS_FIMR@co.thurston.wa.us
URL:https://perinatalsupport.org/event/thurston-county-bereavement-support-group/2028-11-09/
LOCATION:412 Lilly Rd NE\, Olympia WA 98506\, Lilly Road Northeast 412\, Olympia\, WA\, 98506\, United States
CATEGORIES:perinatal loss,Perinatal Loss Support,Support Group
GEO:47.0520784;-122.8439102
X-APPLE-STRUCTURED-LOCATION;VALUE=URI;X-ADDRESS=412 Lilly Rd NE Olympia WA 98506 Lilly Road Northeast 412 Olympia WA 98506 United States;X-APPLE-RADIUS=500;X-TITLE=Lilly Road Northeast 412:geo:-122.8439102,47.0520784
END:VEVENT
BEGIN:VEVENT
DTSTART;TZID=America/Vancouver:20281113T193000
DTEND;TZID=America/Vancouver:20281113T203000
DTSTAMP:20260423T003735
CREATED:20250929T172025Z
LAST-MODIFIED:20250929T172025Z
UID:10022254-1857756600-1857760200@perinatalsupport.org
SUMMARY:VIRTUAL Perinatal Loss Support Group
DESCRIPTION:VIRTUAL Parent Support Group\, \nVirtual via Zoom click HERE to join.  7:30 p.m. Second Monday. \nContact: Liz at lizzylove1@aol.com.
URL:https://perinatalsupport.org/event/virtual-pregnancy-after-loss-support-group-3-2/2028-11-13/
LOCATION:Virtual
CATEGORIES:Perinatal Loss Support,Support Group
END:VEVENT
BEGIN:VEVENT
DTSTART;TZID=America/Vancouver:20281115T193000
DTEND;TZID=America/Vancouver:20281115T203000
DTSTAMP:20260423T003735
CREATED:20240807T230754Z
LAST-MODIFIED:20240807T232932Z
UID:10022400-1857929400-1857933000@perinatalsupport.org
SUMMARY:Seattle In Person Perinatal Loss Support Group
DESCRIPTION:*SEATTLE Parent Support Group\, \nin Person at Seattle Children’s Hospital in the Anna Clise Board Room – RB 3.614. \n7:30 p.m. Third Wednesday. \nContact Casey at Casey.Raker@gmail.com. \n 
URL:https://perinatalsupport.org/event/seattle-parent-support-group-2-3/2028-11-15/
LOCATION:Washington
CATEGORIES:King,Perinatal Loss Support,Support Group
END:VEVENT
BEGIN:VEVENT
DTSTART;TZID=America/Vancouver:20281211T193000
DTEND;TZID=America/Vancouver:20281211T203000
DTSTAMP:20260423T003735
CREATED:20250929T172025Z
LAST-MODIFIED:20250929T172025Z
UID:10022255-1860175800-1860179400@perinatalsupport.org
SUMMARY:VIRTUAL Perinatal Loss Support Group
DESCRIPTION:VIRTUAL Parent Support Group\, \nVirtual via Zoom click HERE to join.  7:30 p.m. Second Monday. \nContact: Liz at lizzylove1@aol.com.
URL:https://perinatalsupport.org/event/virtual-pregnancy-after-loss-support-group-3-2/2028-12-11/
LOCATION:Virtual
CATEGORIES:Perinatal Loss Support,Support Group
END:VEVENT
BEGIN:VEVENT
DTSTART;TZID=America/Vancouver:20281214T173000
DTEND;TZID=America/Vancouver:20281214T190000
DTSTAMP:20260423T003735
CREATED:20241120T195326Z
LAST-MODIFIED:20241120T195408Z
UID:10023764-1860427800-1860433200@perinatalsupport.org
SUMMARY:Thurston County Bereavement Support Group
DESCRIPTION:Empowering families affected by fetal\, infant\, or child loss. We welcome you to join our bereavement support group. Anyone who has been affected by a miscarriage\, stillbirth\, infant loss\, or child loss can attend. \n“Grief doesn’t have a timeline; it is a dynamic process that will ebb & flow.” \n\nWhen: 2nd Thursday of every month\n\nWhere: Public Health & Social Services; 412 Lilly Rd NE\, Olympia WA 98506\nTime: 5:30-7 pm\n\n\nhttps://www.thurstoncountywa.gov/events/thurston-county-bereavement-support-group\n\n\nFor more information visit our Fetal Infant Mortality Review & Prevention page. Call 360-867-2500 or email PHSS_FIMR@co.thurston.wa.us
URL:https://perinatalsupport.org/event/thurston-county-bereavement-support-group/2028-12-14/
LOCATION:412 Lilly Rd NE\, Olympia WA 98506\, Lilly Road Northeast 412\, Olympia\, WA\, 98506\, United States
CATEGORIES:perinatal loss,Perinatal Loss Support,Support Group
GEO:47.0520784;-122.8439102
X-APPLE-STRUCTURED-LOCATION;VALUE=URI;X-ADDRESS=412 Lilly Rd NE Olympia WA 98506 Lilly Road Northeast 412 Olympia WA 98506 United States;X-APPLE-RADIUS=500;X-TITLE=Lilly Road Northeast 412:geo:-122.8439102,47.0520784
END:VEVENT
BEGIN:VEVENT
DTSTART;TZID=America/Vancouver:20281220T193000
DTEND;TZID=America/Vancouver:20281220T203000
DTSTAMP:20260423T003735
CREATED:20240807T230754Z
LAST-MODIFIED:20240807T232932Z
UID:10022401-1860953400-1860957000@perinatalsupport.org
SUMMARY:Seattle In Person Perinatal Loss Support Group
DESCRIPTION:*SEATTLE Parent Support Group\, \nin Person at Seattle Children’s Hospital in the Anna Clise Board Room – RB 3.614. \n7:30 p.m. Third Wednesday. \nContact Casey at Casey.Raker@gmail.com. \n 
URL:https://perinatalsupport.org/event/seattle-parent-support-group-2-3/2028-12-20/
LOCATION:Washington
CATEGORIES:King,Perinatal Loss Support,Support Group
END:VEVENT
BEGIN:VEVENT
DTSTART;TZID=America/Vancouver:20290108T193000
DTEND;TZID=America/Vancouver:20290108T203000
DTSTAMP:20260423T003735
CREATED:20250929T172025Z
LAST-MODIFIED:20250929T172025Z
UID:10022256-1862595000-1862598600@perinatalsupport.org
SUMMARY:VIRTUAL Perinatal Loss Support Group
DESCRIPTION:VIRTUAL Parent Support Group\, \nVirtual via Zoom click HERE to join.  7:30 p.m. Second Monday. \nContact: Liz at lizzylove1@aol.com.
URL:https://perinatalsupport.org/event/virtual-pregnancy-after-loss-support-group-3-2/2029-01-08/
LOCATION:Virtual
CATEGORIES:Perinatal Loss Support,Support Group
END:VEVENT
BEGIN:VEVENT
DTSTART;TZID=America/Vancouver:20290111T173000
DTEND;TZID=America/Vancouver:20290111T190000
DTSTAMP:20260423T003735
CREATED:20241120T195326Z
LAST-MODIFIED:20241120T195408Z
UID:10023765-1862847000-1862852400@perinatalsupport.org
SUMMARY:Thurston County Bereavement Support Group
DESCRIPTION:Empowering families affected by fetal\, infant\, or child loss. We welcome you to join our bereavement support group. Anyone who has been affected by a miscarriage\, stillbirth\, infant loss\, or child loss can attend. \n“Grief doesn’t have a timeline; it is a dynamic process that will ebb & flow.” \n\nWhen: 2nd Thursday of every month\n\nWhere: Public Health & Social Services; 412 Lilly Rd NE\, Olympia WA 98506\nTime: 5:30-7 pm\n\n\nhttps://www.thurstoncountywa.gov/events/thurston-county-bereavement-support-group\n\n\nFor more information visit our Fetal Infant Mortality Review & Prevention page. Call 360-867-2500 or email PHSS_FIMR@co.thurston.wa.us
URL:https://perinatalsupport.org/event/thurston-county-bereavement-support-group/2029-01-11/
LOCATION:412 Lilly Rd NE\, Olympia WA 98506\, Lilly Road Northeast 412\, Olympia\, WA\, 98506\, United States
CATEGORIES:perinatal loss,Perinatal Loss Support,Support Group
GEO:47.0520784;-122.8439102
X-APPLE-STRUCTURED-LOCATION;VALUE=URI;X-ADDRESS=412 Lilly Rd NE Olympia WA 98506 Lilly Road Northeast 412 Olympia WA 98506 United States;X-APPLE-RADIUS=500;X-TITLE=Lilly Road Northeast 412:geo:-122.8439102,47.0520784
END:VEVENT
BEGIN:VEVENT
DTSTART;TZID=America/Vancouver:20290117T193000
DTEND;TZID=America/Vancouver:20290117T203000
DTSTAMP:20260423T003735
CREATED:20240807T230754Z
LAST-MODIFIED:20240807T232932Z
UID:10022402-1863372600-1863376200@perinatalsupport.org
SUMMARY:Seattle In Person Perinatal Loss Support Group
DESCRIPTION:*SEATTLE Parent Support Group\, \nin Person at Seattle Children’s Hospital in the Anna Clise Board Room – RB 3.614. \n7:30 p.m. Third Wednesday. \nContact Casey at Casey.Raker@gmail.com. \n 
URL:https://perinatalsupport.org/event/seattle-parent-support-group-2-3/2029-01-17/
LOCATION:Washington
CATEGORIES:King,Perinatal Loss Support,Support Group
END:VEVENT
BEGIN:VEVENT
DTSTART;TZID=America/Vancouver:20290208T173000
DTEND;TZID=America/Vancouver:20290208T190000
DTSTAMP:20260423T003735
CREATED:20241120T195326Z
LAST-MODIFIED:20241120T195408Z
UID:10023766-1865266200-1865271600@perinatalsupport.org
SUMMARY:Thurston County Bereavement Support Group
DESCRIPTION:Empowering families affected by fetal\, infant\, or child loss. We welcome you to join our bereavement support group. Anyone who has been affected by a miscarriage\, stillbirth\, infant loss\, or child loss can attend. \n“Grief doesn’t have a timeline; it is a dynamic process that will ebb & flow.” \n\nWhen: 2nd Thursday of every month\n\nWhere: Public Health & Social Services; 412 Lilly Rd NE\, Olympia WA 98506\nTime: 5:30-7 pm\n\n\nhttps://www.thurstoncountywa.gov/events/thurston-county-bereavement-support-group\n\n\nFor more information visit our Fetal Infant Mortality Review & Prevention page. Call 360-867-2500 or email PHSS_FIMR@co.thurston.wa.us
URL:https://perinatalsupport.org/event/thurston-county-bereavement-support-group/2029-02-08/
LOCATION:412 Lilly Rd NE\, Olympia WA 98506\, Lilly Road Northeast 412\, Olympia\, WA\, 98506\, United States
CATEGORIES:perinatal loss,Perinatal Loss Support,Support Group
GEO:47.0520784;-122.8439102
X-APPLE-STRUCTURED-LOCATION;VALUE=URI;X-ADDRESS=412 Lilly Rd NE Olympia WA 98506 Lilly Road Northeast 412 Olympia WA 98506 United States;X-APPLE-RADIUS=500;X-TITLE=Lilly Road Northeast 412:geo:-122.8439102,47.0520784
END:VEVENT
BEGIN:VEVENT
DTSTART;TZID=America/Vancouver:20290212T193000
DTEND;TZID=America/Vancouver:20290212T203000
DTSTAMP:20260423T003735
CREATED:20250929T172025Z
LAST-MODIFIED:20250929T172025Z
UID:10022257-1865619000-1865622600@perinatalsupport.org
SUMMARY:VIRTUAL Perinatal Loss Support Group
DESCRIPTION:VIRTUAL Parent Support Group\, \nVirtual via Zoom click HERE to join.  7:30 p.m. Second Monday. \nContact: Liz at lizzylove1@aol.com.
URL:https://perinatalsupport.org/event/virtual-pregnancy-after-loss-support-group-3-2/2029-02-12/
LOCATION:Virtual
CATEGORIES:Perinatal Loss Support,Support Group
END:VEVENT
BEGIN:VEVENT
DTSTART;TZID=America/Vancouver:20290221T193000
DTEND;TZID=America/Vancouver:20290221T203000
DTSTAMP:20260423T003735
CREATED:20240807T230754Z
LAST-MODIFIED:20240807T232932Z
UID:10022403-1866396600-1866400200@perinatalsupport.org
SUMMARY:Seattle In Person Perinatal Loss Support Group
DESCRIPTION:*SEATTLE Parent Support Group\, \nin Person at Seattle Children’s Hospital in the Anna Clise Board Room – RB 3.614. \n7:30 p.m. Third Wednesday. \nContact Casey at Casey.Raker@gmail.com. \n 
URL:https://perinatalsupport.org/event/seattle-parent-support-group-2-3/2029-02-21/
LOCATION:Washington
CATEGORIES:King,Perinatal Loss Support,Support Group
END:VEVENT
BEGIN:VEVENT
DTSTART;TZID=America/Vancouver:20290308T173000
DTEND;TZID=America/Vancouver:20290308T190000
DTSTAMP:20260423T003735
CREATED:20241120T195326Z
LAST-MODIFIED:20241120T195408Z
UID:10023767-1867685400-1867690800@perinatalsupport.org
SUMMARY:Thurston County Bereavement Support Group
DESCRIPTION:Empowering families affected by fetal\, infant\, or child loss. We welcome you to join our bereavement support group. Anyone who has been affected by a miscarriage\, stillbirth\, infant loss\, or child loss can attend. \n“Grief doesn’t have a timeline; it is a dynamic process that will ebb & flow.” \n\nWhen: 2nd Thursday of every month\n\nWhere: Public Health & Social Services; 412 Lilly Rd NE\, Olympia WA 98506\nTime: 5:30-7 pm\n\n\nhttps://www.thurstoncountywa.gov/events/thurston-county-bereavement-support-group\n\n\nFor more information visit our Fetal Infant Mortality Review & Prevention page. Call 360-867-2500 or email PHSS_FIMR@co.thurston.wa.us
URL:https://perinatalsupport.org/event/thurston-county-bereavement-support-group/2029-03-08/
LOCATION:412 Lilly Rd NE\, Olympia WA 98506\, Lilly Road Northeast 412\, Olympia\, WA\, 98506\, United States
CATEGORIES:perinatal loss,Perinatal Loss Support,Support Group
GEO:47.0520784;-122.8439102
X-APPLE-STRUCTURED-LOCATION;VALUE=URI;X-ADDRESS=412 Lilly Rd NE Olympia WA 98506 Lilly Road Northeast 412 Olympia WA 98506 United States;X-APPLE-RADIUS=500;X-TITLE=Lilly Road Northeast 412:geo:-122.8439102,47.0520784
END:VEVENT
BEGIN:VEVENT
DTSTART;TZID=America/Vancouver:20290312T193000
DTEND;TZID=America/Vancouver:20290312T203000
DTSTAMP:20260423T003735
CREATED:20250929T172025Z
LAST-MODIFIED:20250929T172025Z
UID:10022258-1868038200-1868041800@perinatalsupport.org
SUMMARY:VIRTUAL Perinatal Loss Support Group
DESCRIPTION:VIRTUAL Parent Support Group\, \nVirtual via Zoom click HERE to join.  7:30 p.m. Second Monday. \nContact: Liz at lizzylove1@aol.com.
URL:https://perinatalsupport.org/event/virtual-pregnancy-after-loss-support-group-3-2/2029-03-12/
LOCATION:Virtual
CATEGORIES:Perinatal Loss Support,Support Group
END:VEVENT
BEGIN:VEVENT
DTSTART;TZID=America/Vancouver:20290321T193000
DTEND;TZID=America/Vancouver:20290321T203000
DTSTAMP:20260423T003735
CREATED:20240807T230754Z
LAST-MODIFIED:20240807T232932Z
UID:10022404-1868815800-1868819400@perinatalsupport.org
SUMMARY:Seattle In Person Perinatal Loss Support Group
DESCRIPTION:*SEATTLE Parent Support Group\, \nin Person at Seattle Children’s Hospital in the Anna Clise Board Room – RB 3.614. \n7:30 p.m. Third Wednesday. \nContact Casey at Casey.Raker@gmail.com. \n 
URL:https://perinatalsupport.org/event/seattle-parent-support-group-2-3/2029-03-21/
LOCATION:Washington
CATEGORIES:King,Perinatal Loss Support,Support Group
END:VEVENT
BEGIN:VEVENT
DTSTART;TZID=America/Vancouver:20290409T193000
DTEND;TZID=America/Vancouver:20290409T203000
DTSTAMP:20260423T003735
CREATED:20250929T172025Z
LAST-MODIFIED:20250929T172025Z
UID:10022259-1870457400-1870461000@perinatalsupport.org
SUMMARY:VIRTUAL Perinatal Loss Support Group
DESCRIPTION:VIRTUAL Parent Support Group\, \nVirtual via Zoom click HERE to join.  7:30 p.m. Second Monday. \nContact: Liz at lizzylove1@aol.com.
URL:https://perinatalsupport.org/event/virtual-pregnancy-after-loss-support-group-3-2/2029-04-09/
LOCATION:Virtual
CATEGORIES:Perinatal Loss Support,Support Group
END:VEVENT
BEGIN:VEVENT
DTSTART;TZID=America/Vancouver:20290412T173000
DTEND;TZID=America/Vancouver:20290412T190000
DTSTAMP:20260423T003735
CREATED:20241120T195326Z
LAST-MODIFIED:20241120T195408Z
UID:10023768-1870709400-1870714800@perinatalsupport.org
SUMMARY:Thurston County Bereavement Support Group
DESCRIPTION:Empowering families affected by fetal\, infant\, or child loss. We welcome you to join our bereavement support group. Anyone who has been affected by a miscarriage\, stillbirth\, infant loss\, or child loss can attend. \n“Grief doesn’t have a timeline; it is a dynamic process that will ebb & flow.” \n\nWhen: 2nd Thursday of every month\n\nWhere: Public Health & Social Services; 412 Lilly Rd NE\, Olympia WA 98506\nTime: 5:30-7 pm\n\n\nhttps://www.thurstoncountywa.gov/events/thurston-county-bereavement-support-group\n\n\nFor more information visit our Fetal Infant Mortality Review & Prevention page. Call 360-867-2500 or email PHSS_FIMR@co.thurston.wa.us
URL:https://perinatalsupport.org/event/thurston-county-bereavement-support-group/2029-04-12/
LOCATION:412 Lilly Rd NE\, Olympia WA 98506\, Lilly Road Northeast 412\, Olympia\, WA\, 98506\, United States
CATEGORIES:perinatal loss,Perinatal Loss Support,Support Group
GEO:47.0520784;-122.8439102
X-APPLE-STRUCTURED-LOCATION;VALUE=URI;X-ADDRESS=412 Lilly Rd NE Olympia WA 98506 Lilly Road Northeast 412 Olympia WA 98506 United States;X-APPLE-RADIUS=500;X-TITLE=Lilly Road Northeast 412:geo:-122.8439102,47.0520784
END:VEVENT
BEGIN:VEVENT
DTSTART;TZID=America/Vancouver:20290418T193000
DTEND;TZID=America/Vancouver:20290418T203000
DTSTAMP:20260423T003735
CREATED:20240807T230754Z
LAST-MODIFIED:20240807T232932Z
UID:10022405-1871235000-1871238600@perinatalsupport.org
SUMMARY:Seattle In Person Perinatal Loss Support Group
DESCRIPTION:*SEATTLE Parent Support Group\, \nin Person at Seattle Children’s Hospital in the Anna Clise Board Room – RB 3.614. \n7:30 p.m. Third Wednesday. \nContact Casey at Casey.Raker@gmail.com. \n 
URL:https://perinatalsupport.org/event/seattle-parent-support-group-2-3/2029-04-18/
LOCATION:Washington
CATEGORIES:King,Perinatal Loss Support,Support Group
END:VEVENT
BEGIN:VEVENT
DTSTART;TZID=America/Vancouver:20290510T173000
DTEND;TZID=America/Vancouver:20290510T190000
DTSTAMP:20260423T003735
CREATED:20241120T195326Z
LAST-MODIFIED:20241120T195408Z
UID:10023769-1873128600-1873134000@perinatalsupport.org
SUMMARY:Thurston County Bereavement Support Group
DESCRIPTION:Empowering families affected by fetal\, infant\, or child loss. We welcome you to join our bereavement support group. Anyone who has been affected by a miscarriage\, stillbirth\, infant loss\, or child loss can attend. \n“Grief doesn’t have a timeline; it is a dynamic process that will ebb & flow.” \n\nWhen: 2nd Thursday of every month\n\nWhere: Public Health & Social Services; 412 Lilly Rd NE\, Olympia WA 98506\nTime: 5:30-7 pm\n\n\nhttps://www.thurstoncountywa.gov/events/thurston-county-bereavement-support-group\n\n\nFor more information visit our Fetal Infant Mortality Review & Prevention page. Call 360-867-2500 or email PHSS_FIMR@co.thurston.wa.us
URL:https://perinatalsupport.org/event/thurston-county-bereavement-support-group/2029-05-10/
LOCATION:412 Lilly Rd NE\, Olympia WA 98506\, Lilly Road Northeast 412\, Olympia\, WA\, 98506\, United States
CATEGORIES:perinatal loss,Perinatal Loss Support,Support Group
GEO:47.0520784;-122.8439102
X-APPLE-STRUCTURED-LOCATION;VALUE=URI;X-ADDRESS=412 Lilly Rd NE Olympia WA 98506 Lilly Road Northeast 412 Olympia WA 98506 United States;X-APPLE-RADIUS=500;X-TITLE=Lilly Road Northeast 412:geo:-122.8439102,47.0520784
END:VEVENT
BEGIN:VEVENT
DTSTART;TZID=America/Vancouver:20290514T193000
DTEND;TZID=America/Vancouver:20290514T203000
DTSTAMP:20260423T003735
CREATED:20250929T172025Z
LAST-MODIFIED:20250929T172025Z
UID:10022260-1873481400-1873485000@perinatalsupport.org
SUMMARY:VIRTUAL Perinatal Loss Support Group
DESCRIPTION:VIRTUAL Parent Support Group\, \nVirtual via Zoom click HERE to join.  7:30 p.m. Second Monday. \nContact: Liz at lizzylove1@aol.com.
URL:https://perinatalsupport.org/event/virtual-pregnancy-after-loss-support-group-3-2/2029-05-14/
LOCATION:Virtual
CATEGORIES:Perinatal Loss Support,Support Group
END:VEVENT
BEGIN:VEVENT
DTSTART;TZID=America/Vancouver:20290516T193000
DTEND;TZID=America/Vancouver:20290516T203000
DTSTAMP:20260423T003735
CREATED:20240807T230754Z
LAST-MODIFIED:20240807T232932Z
UID:10022406-1873654200-1873657800@perinatalsupport.org
SUMMARY:Seattle In Person Perinatal Loss Support Group
DESCRIPTION:*SEATTLE Parent Support Group\, \nin Person at Seattle Children’s Hospital in the Anna Clise Board Room – RB 3.614. \n7:30 p.m. Third Wednesday. \nContact Casey at Casey.Raker@gmail.com. \n 
URL:https://perinatalsupport.org/event/seattle-parent-support-group-2-3/2029-05-16/
LOCATION:Washington
CATEGORIES:King,Perinatal Loss Support,Support Group
END:VEVENT
BEGIN:VEVENT
DTSTART;TZID=America/Vancouver:20290611T193000
DTEND;TZID=America/Vancouver:20290611T203000
DTSTAMP:20260423T003735
CREATED:20250929T172025Z
LAST-MODIFIED:20250929T172025Z
UID:10022261-1875900600-1875904200@perinatalsupport.org
SUMMARY:VIRTUAL Perinatal Loss Support Group
DESCRIPTION:VIRTUAL Parent Support Group\, \nVirtual via Zoom click HERE to join.  7:30 p.m. Second Monday. \nContact: Liz at lizzylove1@aol.com.
URL:https://perinatalsupport.org/event/virtual-pregnancy-after-loss-support-group-3-2/2029-06-11/
LOCATION:Virtual
CATEGORIES:Perinatal Loss Support,Support Group
END:VEVENT
BEGIN:VEVENT
DTSTART;TZID=America/Vancouver:20290614T173000
DTEND;TZID=America/Vancouver:20290614T190000
DTSTAMP:20260423T003735
CREATED:20241120T195326Z
LAST-MODIFIED:20241120T195408Z
UID:10023770-1876152600-1876158000@perinatalsupport.org
SUMMARY:Thurston County Bereavement Support Group
DESCRIPTION:Empowering families affected by fetal\, infant\, or child loss. We welcome you to join our bereavement support group. Anyone who has been affected by a miscarriage\, stillbirth\, infant loss\, or child loss can attend. \n“Grief doesn’t have a timeline; it is a dynamic process that will ebb & flow.” \n\nWhen: 2nd Thursday of every month\n\nWhere: Public Health & Social Services; 412 Lilly Rd NE\, Olympia WA 98506\nTime: 5:30-7 pm\n\n\nhttps://www.thurstoncountywa.gov/events/thurston-county-bereavement-support-group\n\n\nFor more information visit our Fetal Infant Mortality Review & Prevention page. Call 360-867-2500 or email PHSS_FIMR@co.thurston.wa.us
URL:https://perinatalsupport.org/event/thurston-county-bereavement-support-group/2029-06-14/
LOCATION:412 Lilly Rd NE\, Olympia WA 98506\, Lilly Road Northeast 412\, Olympia\, WA\, 98506\, United States
CATEGORIES:perinatal loss,Perinatal Loss Support,Support Group
GEO:47.0520784;-122.8439102
X-APPLE-STRUCTURED-LOCATION;VALUE=URI;X-ADDRESS=412 Lilly Rd NE Olympia WA 98506 Lilly Road Northeast 412 Olympia WA 98506 United States;X-APPLE-RADIUS=500;X-TITLE=Lilly Road Northeast 412:geo:-122.8439102,47.0520784
END:VEVENT
BEGIN:VEVENT
DTSTART;TZID=America/Vancouver:20290620T193000
DTEND;TZID=America/Vancouver:20290620T203000
DTSTAMP:20260423T003735
CREATED:20240807T230754Z
LAST-MODIFIED:20240807T232932Z
UID:10022407-1876678200-1876681800@perinatalsupport.org
SUMMARY:Seattle In Person Perinatal Loss Support Group
DESCRIPTION:*SEATTLE Parent Support Group\, \nin Person at Seattle Children’s Hospital in the Anna Clise Board Room – RB 3.614. \n7:30 p.m. Third Wednesday. \nContact Casey at Casey.Raker@gmail.com. \n 
URL:https://perinatalsupport.org/event/seattle-parent-support-group-2-3/2029-06-20/
LOCATION:Washington
CATEGORIES:King,Perinatal Loss Support,Support Group
END:VEVENT
BEGIN:VEVENT
DTSTART;TZID=America/Vancouver:20290709T193000
DTEND;TZID=America/Vancouver:20290709T203000
DTSTAMP:20260423T003735
CREATED:20250929T172025Z
LAST-MODIFIED:20250929T172025Z
UID:10022262-1878319800-1878323400@perinatalsupport.org
SUMMARY:VIRTUAL Perinatal Loss Support Group
DESCRIPTION:VIRTUAL Parent Support Group\, \nVirtual via Zoom click HERE to join.  7:30 p.m. Second Monday. \nContact: Liz at lizzylove1@aol.com.
URL:https://perinatalsupport.org/event/virtual-pregnancy-after-loss-support-group-3-2/2029-07-09/
LOCATION:Virtual
CATEGORIES:Perinatal Loss Support,Support Group
END:VEVENT
BEGIN:VEVENT
DTSTART;TZID=America/Vancouver:20290712T173000
DTEND;TZID=America/Vancouver:20290712T190000
DTSTAMP:20260423T003735
CREATED:20241120T195326Z
LAST-MODIFIED:20241120T195408Z
UID:10023771-1878571800-1878577200@perinatalsupport.org
SUMMARY:Thurston County Bereavement Support Group
DESCRIPTION:Empowering families affected by fetal\, infant\, or child loss. We welcome you to join our bereavement support group. Anyone who has been affected by a miscarriage\, stillbirth\, infant loss\, or child loss can attend. \n“Grief doesn’t have a timeline; it is a dynamic process that will ebb & flow.” \n\nWhen: 2nd Thursday of every month\n\nWhere: Public Health & Social Services; 412 Lilly Rd NE\, Olympia WA 98506\nTime: 5:30-7 pm\n\n\nhttps://www.thurstoncountywa.gov/events/thurston-county-bereavement-support-group\n\n\nFor more information visit our Fetal Infant Mortality Review & Prevention page. Call 360-867-2500 or email PHSS_FIMR@co.thurston.wa.us
URL:https://perinatalsupport.org/event/thurston-county-bereavement-support-group/2029-07-12/
LOCATION:412 Lilly Rd NE\, Olympia WA 98506\, Lilly Road Northeast 412\, Olympia\, WA\, 98506\, United States
CATEGORIES:perinatal loss,Perinatal Loss Support,Support Group
GEO:47.0520784;-122.8439102
X-APPLE-STRUCTURED-LOCATION;VALUE=URI;X-ADDRESS=412 Lilly Rd NE Olympia WA 98506 Lilly Road Northeast 412 Olympia WA 98506 United States;X-APPLE-RADIUS=500;X-TITLE=Lilly Road Northeast 412:geo:-122.8439102,47.0520784
END:VEVENT
BEGIN:VEVENT
DTSTART;TZID=America/Vancouver:20290718T193000
DTEND;TZID=America/Vancouver:20290718T203000
DTSTAMP:20260423T003735
CREATED:20240807T230754Z
LAST-MODIFIED:20240807T232932Z
UID:10022408-1879097400-1879101000@perinatalsupport.org
SUMMARY:Seattle In Person Perinatal Loss Support Group
DESCRIPTION:*SEATTLE Parent Support Group\, \nin Person at Seattle Children’s Hospital in the Anna Clise Board Room – RB 3.614. \n7:30 p.m. Third Wednesday. \nContact Casey at Casey.Raker@gmail.com. \n 
URL:https://perinatalsupport.org/event/seattle-parent-support-group-2-3/2029-07-18/
LOCATION:Washington
CATEGORIES:King,Perinatal Loss Support,Support Group
END:VEVENT
BEGIN:VEVENT
DTSTART;TZID=America/Vancouver:20290809T173000
DTEND;TZID=America/Vancouver:20290809T190000
DTSTAMP:20260423T003735
CREATED:20241120T195326Z
LAST-MODIFIED:20241120T195408Z
UID:10023772-1880991000-1880996400@perinatalsupport.org
SUMMARY:Thurston County Bereavement Support Group
DESCRIPTION:Empowering families affected by fetal\, infant\, or child loss. We welcome you to join our bereavement support group. Anyone who has been affected by a miscarriage\, stillbirth\, infant loss\, or child loss can attend. \n“Grief doesn’t have a timeline; it is a dynamic process that will ebb & flow.” \n\nWhen: 2nd Thursday of every month\n\nWhere: Public Health & Social Services; 412 Lilly Rd NE\, Olympia WA 98506\nTime: 5:30-7 pm\n\n\nhttps://www.thurstoncountywa.gov/events/thurston-county-bereavement-support-group\n\n\nFor more information visit our Fetal Infant Mortality Review & Prevention page. Call 360-867-2500 or email PHSS_FIMR@co.thurston.wa.us
URL:https://perinatalsupport.org/event/thurston-county-bereavement-support-group/2029-08-09/
LOCATION:412 Lilly Rd NE\, Olympia WA 98506\, Lilly Road Northeast 412\, Olympia\, WA\, 98506\, United States
CATEGORIES:perinatal loss,Perinatal Loss Support,Support Group
GEO:47.0520784;-122.8439102
X-APPLE-STRUCTURED-LOCATION;VALUE=URI;X-ADDRESS=412 Lilly Rd NE Olympia WA 98506 Lilly Road Northeast 412 Olympia WA 98506 United States;X-APPLE-RADIUS=500;X-TITLE=Lilly Road Northeast 412:geo:-122.8439102,47.0520784
END:VEVENT
BEGIN:VEVENT
DTSTART;TZID=America/Vancouver:20290813T193000
DTEND;TZID=America/Vancouver:20290813T203000
DTSTAMP:20260423T003735
CREATED:20250929T172025Z
LAST-MODIFIED:20250929T172025Z
UID:10025602-1881343800-1881347400@perinatalsupport.org
SUMMARY:VIRTUAL Perinatal Loss Support Group
DESCRIPTION:VIRTUAL Parent Support Group\, \nVirtual via Zoom click HERE to join.  7:30 p.m. Second Monday. \nContact: Liz at lizzylove1@aol.com.
URL:https://perinatalsupport.org/event/virtual-pregnancy-after-loss-support-group-3-2/2029-08-13/
LOCATION:Virtual
CATEGORIES:Perinatal Loss Support,Support Group
END:VEVENT
BEGIN:VEVENT
DTSTART;TZID=America/Vancouver:20290910T193000
DTEND;TZID=America/Vancouver:20290910T203000
DTSTAMP:20260423T003735
CREATED:20250929T172025Z
LAST-MODIFIED:20250929T172025Z
UID:10025603-1883763000-1883766600@perinatalsupport.org
SUMMARY:VIRTUAL Perinatal Loss Support Group
DESCRIPTION:VIRTUAL Parent Support Group\, \nVirtual via Zoom click HERE to join.  7:30 p.m. Second Monday. \nContact: Liz at lizzylove1@aol.com.
URL:https://perinatalsupport.org/event/virtual-pregnancy-after-loss-support-group-3-2/2029-09-10/
LOCATION:Virtual
CATEGORIES:Perinatal Loss Support,Support Group
END:VEVENT
END:VCALENDAR