BEGIN:VCALENDAR
VERSION:2.0
PRODID:-//Perinatal Support Washington - ECPv6.15.20//NONSGML v1.0//EN
CALSCALE:GREGORIAN
METHOD:PUBLISH
X-WR-CALNAME:Perinatal Support Washington
X-ORIGINAL-URL:https://perinatalsupport.org
X-WR-CALDESC:Events for Perinatal Support Washington
REFRESH-INTERVAL;VALUE=DURATION:PT1H
X-Robots-Tag:noindex
X-PUBLISHED-TTL:PT1H
BEGIN:VTIMEZONE
TZID:America/Vancouver
BEGIN:DAYLIGHT
TZOFFSETFROM:-0800
TZOFFSETTO:-0700
TZNAME:PDT
DTSTART:20260308T100000
END:DAYLIGHT
BEGIN:STANDARD
TZOFFSETFROM:-0700
TZOFFSETTO:-0800
TZNAME:PST
DTSTART:20261101T090000
END:STANDARD
BEGIN:DAYLIGHT
TZOFFSETFROM:-0800
TZOFFSETTO:-0700
TZNAME:PDT
DTSTART:20270314T100000
END:DAYLIGHT
BEGIN:STANDARD
TZOFFSETFROM:-0700
TZOFFSETTO:-0800
TZNAME:PST
DTSTART:20271107T090000
END:STANDARD
BEGIN:DAYLIGHT
TZOFFSETFROM:-0800
TZOFFSETTO:-0700
TZNAME:PDT
DTSTART:20280312T100000
END:DAYLIGHT
BEGIN:STANDARD
TZOFFSETFROM:-0700
TZOFFSETTO:-0800
TZNAME:PST
DTSTART:20281105T090000
END:STANDARD
END:VTIMEZONE
BEGIN:VEVENT
DTSTART;TZID=America/Vancouver:20270308T193000
DTEND;TZID=America/Vancouver:20270308T203000
DTSTAMP:20260422T024116
CREATED:20250929T172025Z
LAST-MODIFIED:20250929T172025Z
UID:10022234-1804534200-1804537800@perinatalsupport.org
SUMMARY:VIRTUAL Perinatal Loss Support Group
DESCRIPTION:VIRTUAL Parent Support Group\, \nVirtual via Zoom click HERE to join.  7:30 p.m. Second Monday. \nContact: Liz at lizzylove1@aol.com.
URL:https://perinatalsupport.org/event/virtual-pregnancy-after-loss-support-group-3-2/2027-03-08/
LOCATION:Virtual
CATEGORIES:Perinatal Loss Support,Support Group
END:VEVENT
BEGIN:VEVENT
DTSTART;TZID=America/Vancouver:20270311T173000
DTEND;TZID=America/Vancouver:20270311T190000
DTSTAMP:20260422T024116
CREATED:20241120T195326Z
LAST-MODIFIED:20241120T195408Z
UID:10023743-1804786200-1804791600@perinatalsupport.org
SUMMARY:Thurston County Bereavement Support Group
DESCRIPTION:Empowering families affected by fetal\, infant\, or child loss. We welcome you to join our bereavement support group. Anyone who has been affected by a miscarriage\, stillbirth\, infant loss\, or child loss can attend. \n“Grief doesn’t have a timeline; it is a dynamic process that will ebb & flow.” \n\nWhen: 2nd Thursday of every month\n\nWhere: Public Health & Social Services; 412 Lilly Rd NE\, Olympia WA 98506\nTime: 5:30-7 pm\n\n\nhttps://www.thurstoncountywa.gov/events/thurston-county-bereavement-support-group\n\n\nFor more information visit our Fetal Infant Mortality Review & Prevention page. Call 360-867-2500 or email PHSS_FIMR@co.thurston.wa.us
URL:https://perinatalsupport.org/event/thurston-county-bereavement-support-group/2027-03-11/
LOCATION:412 Lilly Rd NE\, Olympia WA 98506\, Lilly Road Northeast 412\, Olympia\, WA\, 98506\, United States
CATEGORIES:perinatal loss,Perinatal Loss Support,Support Group
GEO:47.0520784;-122.8439102
X-APPLE-STRUCTURED-LOCATION;VALUE=URI;X-ADDRESS=412 Lilly Rd NE Olympia WA 98506 Lilly Road Northeast 412 Olympia WA 98506 United States;X-APPLE-RADIUS=500;X-TITLE=Lilly Road Northeast 412:geo:-122.8439102,47.0520784
END:VEVENT
BEGIN:VEVENT
DTSTART;TZID=America/Vancouver:20270317T193000
DTEND;TZID=America/Vancouver:20270317T203000
DTSTAMP:20260422T024116
CREATED:20240807T230754Z
LAST-MODIFIED:20240807T232932Z
UID:10022380-1805311800-1805315400@perinatalsupport.org
SUMMARY:Seattle In Person Perinatal Loss Support Group
DESCRIPTION:*SEATTLE Parent Support Group\, \nin Person at Seattle Children’s Hospital in the Anna Clise Board Room – RB 3.614. \n7:30 p.m. Third Wednesday. \nContact Casey at Casey.Raker@gmail.com. \n 
URL:https://perinatalsupport.org/event/seattle-parent-support-group-2-3/2027-03-17/
CATEGORIES:King,Perinatal Loss Support,Support Group
END:VEVENT
BEGIN:VEVENT
DTSTART;TZID=America/Vancouver:20270408T173000
DTEND;TZID=America/Vancouver:20270408T190000
DTSTAMP:20260422T024116
CREATED:20241120T195326Z
LAST-MODIFIED:20241120T195408Z
UID:10023744-1807205400-1807210800@perinatalsupport.org
SUMMARY:Thurston County Bereavement Support Group
DESCRIPTION:Empowering families affected by fetal\, infant\, or child loss. We welcome you to join our bereavement support group. Anyone who has been affected by a miscarriage\, stillbirth\, infant loss\, or child loss can attend. \n“Grief doesn’t have a timeline; it is a dynamic process that will ebb & flow.” \n\nWhen: 2nd Thursday of every month\n\nWhere: Public Health & Social Services; 412 Lilly Rd NE\, Olympia WA 98506\nTime: 5:30-7 pm\n\n\nhttps://www.thurstoncountywa.gov/events/thurston-county-bereavement-support-group\n\n\nFor more information visit our Fetal Infant Mortality Review & Prevention page. Call 360-867-2500 or email PHSS_FIMR@co.thurston.wa.us
URL:https://perinatalsupport.org/event/thurston-county-bereavement-support-group/2027-04-08/
LOCATION:412 Lilly Rd NE\, Olympia WA 98506\, Lilly Road Northeast 412\, Olympia\, WA\, 98506\, United States
CATEGORIES:perinatal loss,Perinatal Loss Support,Support Group
GEO:47.0520784;-122.8439102
X-APPLE-STRUCTURED-LOCATION;VALUE=URI;X-ADDRESS=412 Lilly Rd NE Olympia WA 98506 Lilly Road Northeast 412 Olympia WA 98506 United States;X-APPLE-RADIUS=500;X-TITLE=Lilly Road Northeast 412:geo:-122.8439102,47.0520784
END:VEVENT
BEGIN:VEVENT
DTSTART;TZID=America/Vancouver:20270412T193000
DTEND;TZID=America/Vancouver:20270412T203000
DTSTAMP:20260422T024116
CREATED:20250929T172025Z
LAST-MODIFIED:20250929T172025Z
UID:10022235-1807558200-1807561800@perinatalsupport.org
SUMMARY:VIRTUAL Perinatal Loss Support Group
DESCRIPTION:VIRTUAL Parent Support Group\, \nVirtual via Zoom click HERE to join.  7:30 p.m. Second Monday. \nContact: Liz at lizzylove1@aol.com.
URL:https://perinatalsupport.org/event/virtual-pregnancy-after-loss-support-group-3-2/2027-04-12/
LOCATION:Virtual
CATEGORIES:Perinatal Loss Support,Support Group
END:VEVENT
BEGIN:VEVENT
DTSTART;TZID=America/Vancouver:20270421T193000
DTEND;TZID=America/Vancouver:20270421T203000
DTSTAMP:20260422T024116
CREATED:20240807T230754Z
LAST-MODIFIED:20240807T232932Z
UID:10022381-1808335800-1808339400@perinatalsupport.org
SUMMARY:Seattle In Person Perinatal Loss Support Group
DESCRIPTION:*SEATTLE Parent Support Group\, \nin Person at Seattle Children’s Hospital in the Anna Clise Board Room – RB 3.614. \n7:30 p.m. Third Wednesday. \nContact Casey at Casey.Raker@gmail.com. \n 
URL:https://perinatalsupport.org/event/seattle-parent-support-group-2-3/2027-04-21/
CATEGORIES:King,Perinatal Loss Support,Support Group
END:VEVENT
BEGIN:VEVENT
DTSTART;TZID=America/Vancouver:20270510T193000
DTEND;TZID=America/Vancouver:20270510T203000
DTSTAMP:20260422T024116
CREATED:20250929T172025Z
LAST-MODIFIED:20250929T172025Z
UID:10022236-1809977400-1809981000@perinatalsupport.org
SUMMARY:VIRTUAL Perinatal Loss Support Group
DESCRIPTION:VIRTUAL Parent Support Group\, \nVirtual via Zoom click HERE to join.  7:30 p.m. Second Monday. \nContact: Liz at lizzylove1@aol.com.
URL:https://perinatalsupport.org/event/virtual-pregnancy-after-loss-support-group-3-2/2027-05-10/
LOCATION:Virtual
CATEGORIES:Perinatal Loss Support,Support Group
END:VEVENT
BEGIN:VEVENT
DTSTART;TZID=America/Vancouver:20270513T173000
DTEND;TZID=America/Vancouver:20270513T190000
DTSTAMP:20260422T024116
CREATED:20241120T195326Z
LAST-MODIFIED:20241120T195408Z
UID:10023745-1810229400-1810234800@perinatalsupport.org
SUMMARY:Thurston County Bereavement Support Group
DESCRIPTION:Empowering families affected by fetal\, infant\, or child loss. We welcome you to join our bereavement support group. Anyone who has been affected by a miscarriage\, stillbirth\, infant loss\, or child loss can attend. \n“Grief doesn’t have a timeline; it is a dynamic process that will ebb & flow.” \n\nWhen: 2nd Thursday of every month\n\nWhere: Public Health & Social Services; 412 Lilly Rd NE\, Olympia WA 98506\nTime: 5:30-7 pm\n\n\nhttps://www.thurstoncountywa.gov/events/thurston-county-bereavement-support-group\n\n\nFor more information visit our Fetal Infant Mortality Review & Prevention page. Call 360-867-2500 or email PHSS_FIMR@co.thurston.wa.us
URL:https://perinatalsupport.org/event/thurston-county-bereavement-support-group/2027-05-13/
LOCATION:412 Lilly Rd NE\, Olympia WA 98506\, Lilly Road Northeast 412\, Olympia\, WA\, 98506\, United States
CATEGORIES:perinatal loss,Perinatal Loss Support,Support Group
GEO:47.0520784;-122.8439102
X-APPLE-STRUCTURED-LOCATION;VALUE=URI;X-ADDRESS=412 Lilly Rd NE Olympia WA 98506 Lilly Road Northeast 412 Olympia WA 98506 United States;X-APPLE-RADIUS=500;X-TITLE=Lilly Road Northeast 412:geo:-122.8439102,47.0520784
END:VEVENT
BEGIN:VEVENT
DTSTART;TZID=America/Vancouver:20270519T193000
DTEND;TZID=America/Vancouver:20270519T203000
DTSTAMP:20260422T024116
CREATED:20240807T230754Z
LAST-MODIFIED:20240807T232932Z
UID:10022382-1810755000-1810758600@perinatalsupport.org
SUMMARY:Seattle In Person Perinatal Loss Support Group
DESCRIPTION:*SEATTLE Parent Support Group\, \nin Person at Seattle Children’s Hospital in the Anna Clise Board Room – RB 3.614. \n7:30 p.m. Third Wednesday. \nContact Casey at Casey.Raker@gmail.com. \n 
URL:https://perinatalsupport.org/event/seattle-parent-support-group-2-3/2027-05-19/
CATEGORIES:King,Perinatal Loss Support,Support Group
END:VEVENT
BEGIN:VEVENT
DTSTART;TZID=America/Vancouver:20270610T173000
DTEND;TZID=America/Vancouver:20270610T190000
DTSTAMP:20260422T024116
CREATED:20241120T195326Z
LAST-MODIFIED:20241120T195408Z
UID:10023746-1812648600-1812654000@perinatalsupport.org
SUMMARY:Thurston County Bereavement Support Group
DESCRIPTION:Empowering families affected by fetal\, infant\, or child loss. We welcome you to join our bereavement support group. Anyone who has been affected by a miscarriage\, stillbirth\, infant loss\, or child loss can attend. \n“Grief doesn’t have a timeline; it is a dynamic process that will ebb & flow.” \n\nWhen: 2nd Thursday of every month\n\nWhere: Public Health & Social Services; 412 Lilly Rd NE\, Olympia WA 98506\nTime: 5:30-7 pm\n\n\nhttps://www.thurstoncountywa.gov/events/thurston-county-bereavement-support-group\n\n\nFor more information visit our Fetal Infant Mortality Review & Prevention page. Call 360-867-2500 or email PHSS_FIMR@co.thurston.wa.us
URL:https://perinatalsupport.org/event/thurston-county-bereavement-support-group/2027-06-10/
LOCATION:412 Lilly Rd NE\, Olympia WA 98506\, Lilly Road Northeast 412\, Olympia\, WA\, 98506\, United States
CATEGORIES:perinatal loss,Perinatal Loss Support,Support Group
GEO:47.0520784;-122.8439102
X-APPLE-STRUCTURED-LOCATION;VALUE=URI;X-ADDRESS=412 Lilly Rd NE Olympia WA 98506 Lilly Road Northeast 412 Olympia WA 98506 United States;X-APPLE-RADIUS=500;X-TITLE=Lilly Road Northeast 412:geo:-122.8439102,47.0520784
END:VEVENT
BEGIN:VEVENT
DTSTART;TZID=America/Vancouver:20270614T193000
DTEND;TZID=America/Vancouver:20270614T203000
DTSTAMP:20260422T024116
CREATED:20250929T172025Z
LAST-MODIFIED:20250929T172025Z
UID:10022237-1813001400-1813005000@perinatalsupport.org
SUMMARY:VIRTUAL Perinatal Loss Support Group
DESCRIPTION:VIRTUAL Parent Support Group\, \nVirtual via Zoom click HERE to join.  7:30 p.m. Second Monday. \nContact: Liz at lizzylove1@aol.com.
URL:https://perinatalsupport.org/event/virtual-pregnancy-after-loss-support-group-3-2/2027-06-14/
LOCATION:Virtual
CATEGORIES:Perinatal Loss Support,Support Group
END:VEVENT
BEGIN:VEVENT
DTSTART;TZID=America/Vancouver:20270616T193000
DTEND;TZID=America/Vancouver:20270616T203000
DTSTAMP:20260422T024116
CREATED:20240807T230754Z
LAST-MODIFIED:20240807T232932Z
UID:10022383-1813174200-1813177800@perinatalsupport.org
SUMMARY:Seattle In Person Perinatal Loss Support Group
DESCRIPTION:*SEATTLE Parent Support Group\, \nin Person at Seattle Children’s Hospital in the Anna Clise Board Room – RB 3.614. \n7:30 p.m. Third Wednesday. \nContact Casey at Casey.Raker@gmail.com. \n 
URL:https://perinatalsupport.org/event/seattle-parent-support-group-2-3/2027-06-16/
CATEGORIES:King,Perinatal Loss Support,Support Group
END:VEVENT
BEGIN:VEVENT
DTSTART;TZID=America/Vancouver:20270708T173000
DTEND;TZID=America/Vancouver:20270708T190000
DTSTAMP:20260422T024116
CREATED:20241120T195326Z
LAST-MODIFIED:20241120T195408Z
UID:10023747-1815067800-1815073200@perinatalsupport.org
SUMMARY:Thurston County Bereavement Support Group
DESCRIPTION:Empowering families affected by fetal\, infant\, or child loss. We welcome you to join our bereavement support group. Anyone who has been affected by a miscarriage\, stillbirth\, infant loss\, or child loss can attend. \n“Grief doesn’t have a timeline; it is a dynamic process that will ebb & flow.” \n\nWhen: 2nd Thursday of every month\n\nWhere: Public Health & Social Services; 412 Lilly Rd NE\, Olympia WA 98506\nTime: 5:30-7 pm\n\n\nhttps://www.thurstoncountywa.gov/events/thurston-county-bereavement-support-group\n\n\nFor more information visit our Fetal Infant Mortality Review & Prevention page. Call 360-867-2500 or email PHSS_FIMR@co.thurston.wa.us
URL:https://perinatalsupport.org/event/thurston-county-bereavement-support-group/2027-07-08/
LOCATION:412 Lilly Rd NE\, Olympia WA 98506\, Lilly Road Northeast 412\, Olympia\, WA\, 98506\, United States
CATEGORIES:perinatal loss,Perinatal Loss Support,Support Group
GEO:47.0520784;-122.8439102
X-APPLE-STRUCTURED-LOCATION;VALUE=URI;X-ADDRESS=412 Lilly Rd NE Olympia WA 98506 Lilly Road Northeast 412 Olympia WA 98506 United States;X-APPLE-RADIUS=500;X-TITLE=Lilly Road Northeast 412:geo:-122.8439102,47.0520784
END:VEVENT
BEGIN:VEVENT
DTSTART;TZID=America/Vancouver:20270712T193000
DTEND;TZID=America/Vancouver:20270712T203000
DTSTAMP:20260422T024116
CREATED:20250929T172025Z
LAST-MODIFIED:20250929T172025Z
UID:10022238-1815420600-1815424200@perinatalsupport.org
SUMMARY:VIRTUAL Perinatal Loss Support Group
DESCRIPTION:VIRTUAL Parent Support Group\, \nVirtual via Zoom click HERE to join.  7:30 p.m. Second Monday. \nContact: Liz at lizzylove1@aol.com.
URL:https://perinatalsupport.org/event/virtual-pregnancy-after-loss-support-group-3-2/2027-07-12/
LOCATION:Virtual
CATEGORIES:Perinatal Loss Support,Support Group
END:VEVENT
BEGIN:VEVENT
DTSTART;TZID=America/Vancouver:20270721T193000
DTEND;TZID=America/Vancouver:20270721T203000
DTSTAMP:20260422T024116
CREATED:20240807T230754Z
LAST-MODIFIED:20240807T232932Z
UID:10022384-1816198200-1816201800@perinatalsupport.org
SUMMARY:Seattle In Person Perinatal Loss Support Group
DESCRIPTION:*SEATTLE Parent Support Group\, \nin Person at Seattle Children’s Hospital in the Anna Clise Board Room – RB 3.614. \n7:30 p.m. Third Wednesday. \nContact Casey at Casey.Raker@gmail.com. \n 
URL:https://perinatalsupport.org/event/seattle-parent-support-group-2-3/2027-07-21/
CATEGORIES:King,Perinatal Loss Support,Support Group
END:VEVENT
BEGIN:VEVENT
DTSTART;TZID=America/Vancouver:20270809T193000
DTEND;TZID=America/Vancouver:20270809T203000
DTSTAMP:20260422T024116
CREATED:20250929T172025Z
LAST-MODIFIED:20250929T172025Z
UID:10022239-1817839800-1817843400@perinatalsupport.org
SUMMARY:VIRTUAL Perinatal Loss Support Group
DESCRIPTION:VIRTUAL Parent Support Group\, \nVirtual via Zoom click HERE to join.  7:30 p.m. Second Monday. \nContact: Liz at lizzylove1@aol.com.
URL:https://perinatalsupport.org/event/virtual-pregnancy-after-loss-support-group-3-2/2027-08-09/
LOCATION:Virtual
CATEGORIES:Perinatal Loss Support,Support Group
END:VEVENT
BEGIN:VEVENT
DTSTART;TZID=America/Vancouver:20270812T173000
DTEND;TZID=America/Vancouver:20270812T190000
DTSTAMP:20260422T024116
CREATED:20241120T195326Z
LAST-MODIFIED:20241120T195408Z
UID:10023748-1818091800-1818097200@perinatalsupport.org
SUMMARY:Thurston County Bereavement Support Group
DESCRIPTION:Empowering families affected by fetal\, infant\, or child loss. We welcome you to join our bereavement support group. Anyone who has been affected by a miscarriage\, stillbirth\, infant loss\, or child loss can attend. \n“Grief doesn’t have a timeline; it is a dynamic process that will ebb & flow.” \n\nWhen: 2nd Thursday of every month\n\nWhere: Public Health & Social Services; 412 Lilly Rd NE\, Olympia WA 98506\nTime: 5:30-7 pm\n\n\nhttps://www.thurstoncountywa.gov/events/thurston-county-bereavement-support-group\n\n\nFor more information visit our Fetal Infant Mortality Review & Prevention page. Call 360-867-2500 or email PHSS_FIMR@co.thurston.wa.us
URL:https://perinatalsupport.org/event/thurston-county-bereavement-support-group/2027-08-12/
LOCATION:412 Lilly Rd NE\, Olympia WA 98506\, Lilly Road Northeast 412\, Olympia\, WA\, 98506\, United States
CATEGORIES:perinatal loss,Perinatal Loss Support,Support Group
GEO:47.0520784;-122.8439102
X-APPLE-STRUCTURED-LOCATION;VALUE=URI;X-ADDRESS=412 Lilly Rd NE Olympia WA 98506 Lilly Road Northeast 412 Olympia WA 98506 United States;X-APPLE-RADIUS=500;X-TITLE=Lilly Road Northeast 412:geo:-122.8439102,47.0520784
END:VEVENT
BEGIN:VEVENT
DTSTART;TZID=America/Vancouver:20270818T193000
DTEND;TZID=America/Vancouver:20270818T203000
DTSTAMP:20260422T024116
CREATED:20240807T230754Z
LAST-MODIFIED:20240807T232932Z
UID:10022385-1818617400-1818621000@perinatalsupport.org
SUMMARY:Seattle In Person Perinatal Loss Support Group
DESCRIPTION:*SEATTLE Parent Support Group\, \nin Person at Seattle Children’s Hospital in the Anna Clise Board Room – RB 3.614. \n7:30 p.m. Third Wednesday. \nContact Casey at Casey.Raker@gmail.com. \n 
URL:https://perinatalsupport.org/event/seattle-parent-support-group-2-3/2027-08-18/
CATEGORIES:King,Perinatal Loss Support,Support Group
END:VEVENT
BEGIN:VEVENT
DTSTART;TZID=America/Vancouver:20270909T173000
DTEND;TZID=America/Vancouver:20270909T190000
DTSTAMP:20260422T024116
CREATED:20241120T195326Z
LAST-MODIFIED:20241120T195408Z
UID:10023749-1820511000-1820516400@perinatalsupport.org
SUMMARY:Thurston County Bereavement Support Group
DESCRIPTION:Empowering families affected by fetal\, infant\, or child loss. We welcome you to join our bereavement support group. Anyone who has been affected by a miscarriage\, stillbirth\, infant loss\, or child loss can attend. \n“Grief doesn’t have a timeline; it is a dynamic process that will ebb & flow.” \n\nWhen: 2nd Thursday of every month\n\nWhere: Public Health & Social Services; 412 Lilly Rd NE\, Olympia WA 98506\nTime: 5:30-7 pm\n\n\nhttps://www.thurstoncountywa.gov/events/thurston-county-bereavement-support-group\n\n\nFor more information visit our Fetal Infant Mortality Review & Prevention page. Call 360-867-2500 or email PHSS_FIMR@co.thurston.wa.us
URL:https://perinatalsupport.org/event/thurston-county-bereavement-support-group/2027-09-09/
LOCATION:412 Lilly Rd NE\, Olympia WA 98506\, Lilly Road Northeast 412\, Olympia\, WA\, 98506\, United States
CATEGORIES:perinatal loss,Perinatal Loss Support,Support Group
GEO:47.0520784;-122.8439102
X-APPLE-STRUCTURED-LOCATION;VALUE=URI;X-ADDRESS=412 Lilly Rd NE Olympia WA 98506 Lilly Road Northeast 412 Olympia WA 98506 United States;X-APPLE-RADIUS=500;X-TITLE=Lilly Road Northeast 412:geo:-122.8439102,47.0520784
END:VEVENT
BEGIN:VEVENT
DTSTART;TZID=America/Vancouver:20270913T193000
DTEND;TZID=America/Vancouver:20270913T203000
DTSTAMP:20260422T024116
CREATED:20250929T172025Z
LAST-MODIFIED:20250929T172025Z
UID:10022240-1820863800-1820867400@perinatalsupport.org
SUMMARY:VIRTUAL Perinatal Loss Support Group
DESCRIPTION:VIRTUAL Parent Support Group\, \nVirtual via Zoom click HERE to join.  7:30 p.m. Second Monday. \nContact: Liz at lizzylove1@aol.com.
URL:https://perinatalsupport.org/event/virtual-pregnancy-after-loss-support-group-3-2/2027-09-13/
LOCATION:Virtual
CATEGORIES:Perinatal Loss Support,Support Group
END:VEVENT
BEGIN:VEVENT
DTSTART;TZID=America/Vancouver:20270915T193000
DTEND;TZID=America/Vancouver:20270915T203000
DTSTAMP:20260422T024116
CREATED:20240807T230754Z
LAST-MODIFIED:20240807T232932Z
UID:10022386-1821036600-1821040200@perinatalsupport.org
SUMMARY:Seattle In Person Perinatal Loss Support Group
DESCRIPTION:*SEATTLE Parent Support Group\, \nin Person at Seattle Children’s Hospital in the Anna Clise Board Room – RB 3.614. \n7:30 p.m. Third Wednesday. \nContact Casey at Casey.Raker@gmail.com. \n 
URL:https://perinatalsupport.org/event/seattle-parent-support-group-2-3/2027-09-15/
CATEGORIES:King,Perinatal Loss Support,Support Group
END:VEVENT
BEGIN:VEVENT
DTSTART;TZID=America/Vancouver:20271011T193000
DTEND;TZID=America/Vancouver:20271011T203000
DTSTAMP:20260422T024116
CREATED:20250929T172025Z
LAST-MODIFIED:20250929T172025Z
UID:10022241-1823283000-1823286600@perinatalsupport.org
SUMMARY:VIRTUAL Perinatal Loss Support Group
DESCRIPTION:VIRTUAL Parent Support Group\, \nVirtual via Zoom click HERE to join.  7:30 p.m. Second Monday. \nContact: Liz at lizzylove1@aol.com.
URL:https://perinatalsupport.org/event/virtual-pregnancy-after-loss-support-group-3-2/2027-10-11/
LOCATION:Virtual
CATEGORIES:Perinatal Loss Support,Support Group
END:VEVENT
BEGIN:VEVENT
DTSTART;TZID=America/Vancouver:20271014T173000
DTEND;TZID=America/Vancouver:20271014T190000
DTSTAMP:20260422T024116
CREATED:20241120T195326Z
LAST-MODIFIED:20241120T195408Z
UID:10023750-1823535000-1823540400@perinatalsupport.org
SUMMARY:Thurston County Bereavement Support Group
DESCRIPTION:Empowering families affected by fetal\, infant\, or child loss. We welcome you to join our bereavement support group. Anyone who has been affected by a miscarriage\, stillbirth\, infant loss\, or child loss can attend. \n“Grief doesn’t have a timeline; it is a dynamic process that will ebb & flow.” \n\nWhen: 2nd Thursday of every month\n\nWhere: Public Health & Social Services; 412 Lilly Rd NE\, Olympia WA 98506\nTime: 5:30-7 pm\n\n\nhttps://www.thurstoncountywa.gov/events/thurston-county-bereavement-support-group\n\n\nFor more information visit our Fetal Infant Mortality Review & Prevention page. Call 360-867-2500 or email PHSS_FIMR@co.thurston.wa.us
URL:https://perinatalsupport.org/event/thurston-county-bereavement-support-group/2027-10-14/
LOCATION:412 Lilly Rd NE\, Olympia WA 98506\, Lilly Road Northeast 412\, Olympia\, WA\, 98506\, United States
CATEGORIES:perinatal loss,Perinatal Loss Support,Support Group
GEO:47.0520784;-122.8439102
X-APPLE-STRUCTURED-LOCATION;VALUE=URI;X-ADDRESS=412 Lilly Rd NE Olympia WA 98506 Lilly Road Northeast 412 Olympia WA 98506 United States;X-APPLE-RADIUS=500;X-TITLE=Lilly Road Northeast 412:geo:-122.8439102,47.0520784
END:VEVENT
BEGIN:VEVENT
DTSTART;TZID=America/Vancouver:20271020T193000
DTEND;TZID=America/Vancouver:20271020T203000
DTSTAMP:20260422T024116
CREATED:20240807T230754Z
LAST-MODIFIED:20240807T232932Z
UID:10022387-1824060600-1824064200@perinatalsupport.org
SUMMARY:Seattle In Person Perinatal Loss Support Group
DESCRIPTION:*SEATTLE Parent Support Group\, \nin Person at Seattle Children’s Hospital in the Anna Clise Board Room – RB 3.614. \n7:30 p.m. Third Wednesday. \nContact Casey at Casey.Raker@gmail.com. \n 
URL:https://perinatalsupport.org/event/seattle-parent-support-group-2-3/2027-10-20/
CATEGORIES:King,Perinatal Loss Support,Support Group
END:VEVENT
BEGIN:VEVENT
DTSTART;TZID=America/Vancouver:20271108T193000
DTEND;TZID=America/Vancouver:20271108T203000
DTSTAMP:20260422T024116
CREATED:20250929T172025Z
LAST-MODIFIED:20250929T172025Z
UID:10022242-1825702200-1825705800@perinatalsupport.org
SUMMARY:VIRTUAL Perinatal Loss Support Group
DESCRIPTION:VIRTUAL Parent Support Group\, \nVirtual via Zoom click HERE to join.  7:30 p.m. Second Monday. \nContact: Liz at lizzylove1@aol.com.
URL:https://perinatalsupport.org/event/virtual-pregnancy-after-loss-support-group-3-2/2027-11-08/
LOCATION:Virtual
CATEGORIES:Perinatal Loss Support,Support Group
END:VEVENT
BEGIN:VEVENT
DTSTART;TZID=America/Vancouver:20271111T173000
DTEND;TZID=America/Vancouver:20271111T190000
DTSTAMP:20260422T024116
CREATED:20241120T195326Z
LAST-MODIFIED:20241120T195408Z
UID:10023751-1825954200-1825959600@perinatalsupport.org
SUMMARY:Thurston County Bereavement Support Group
DESCRIPTION:Empowering families affected by fetal\, infant\, or child loss. We welcome you to join our bereavement support group. Anyone who has been affected by a miscarriage\, stillbirth\, infant loss\, or child loss can attend. \n“Grief doesn’t have a timeline; it is a dynamic process that will ebb & flow.” \n\nWhen: 2nd Thursday of every month\n\nWhere: Public Health & Social Services; 412 Lilly Rd NE\, Olympia WA 98506\nTime: 5:30-7 pm\n\n\nhttps://www.thurstoncountywa.gov/events/thurston-county-bereavement-support-group\n\n\nFor more information visit our Fetal Infant Mortality Review & Prevention page. Call 360-867-2500 or email PHSS_FIMR@co.thurston.wa.us
URL:https://perinatalsupport.org/event/thurston-county-bereavement-support-group/2027-11-11/
LOCATION:412 Lilly Rd NE\, Olympia WA 98506\, Lilly Road Northeast 412\, Olympia\, WA\, 98506\, United States
CATEGORIES:perinatal loss,Perinatal Loss Support,Support Group
GEO:47.0520784;-122.8439102
X-APPLE-STRUCTURED-LOCATION;VALUE=URI;X-ADDRESS=412 Lilly Rd NE Olympia WA 98506 Lilly Road Northeast 412 Olympia WA 98506 United States;X-APPLE-RADIUS=500;X-TITLE=Lilly Road Northeast 412:geo:-122.8439102,47.0520784
END:VEVENT
BEGIN:VEVENT
DTSTART;TZID=America/Vancouver:20271117T193000
DTEND;TZID=America/Vancouver:20271117T203000
DTSTAMP:20260422T024116
CREATED:20240807T230754Z
LAST-MODIFIED:20240807T232932Z
UID:10022388-1826479800-1826483400@perinatalsupport.org
SUMMARY:Seattle In Person Perinatal Loss Support Group
DESCRIPTION:*SEATTLE Parent Support Group\, \nin Person at Seattle Children’s Hospital in the Anna Clise Board Room – RB 3.614. \n7:30 p.m. Third Wednesday. \nContact Casey at Casey.Raker@gmail.com. \n 
URL:https://perinatalsupport.org/event/seattle-parent-support-group-2-3/2027-11-17/
CATEGORIES:King,Perinatal Loss Support,Support Group
END:VEVENT
BEGIN:VEVENT
DTSTART;TZID=America/Vancouver:20271209T173000
DTEND;TZID=America/Vancouver:20271209T190000
DTSTAMP:20260422T024116
CREATED:20241120T195326Z
LAST-MODIFIED:20241120T195408Z
UID:10023752-1828373400-1828378800@perinatalsupport.org
SUMMARY:Thurston County Bereavement Support Group
DESCRIPTION:Empowering families affected by fetal\, infant\, or child loss. We welcome you to join our bereavement support group. Anyone who has been affected by a miscarriage\, stillbirth\, infant loss\, or child loss can attend. \n“Grief doesn’t have a timeline; it is a dynamic process that will ebb & flow.” \n\nWhen: 2nd Thursday of every month\n\nWhere: Public Health & Social Services; 412 Lilly Rd NE\, Olympia WA 98506\nTime: 5:30-7 pm\n\n\nhttps://www.thurstoncountywa.gov/events/thurston-county-bereavement-support-group\n\n\nFor more information visit our Fetal Infant Mortality Review & Prevention page. Call 360-867-2500 or email PHSS_FIMR@co.thurston.wa.us
URL:https://perinatalsupport.org/event/thurston-county-bereavement-support-group/2027-12-09/
LOCATION:412 Lilly Rd NE\, Olympia WA 98506\, Lilly Road Northeast 412\, Olympia\, WA\, 98506\, United States
CATEGORIES:perinatal loss,Perinatal Loss Support,Support Group
GEO:47.0520784;-122.8439102
X-APPLE-STRUCTURED-LOCATION;VALUE=URI;X-ADDRESS=412 Lilly Rd NE Olympia WA 98506 Lilly Road Northeast 412 Olympia WA 98506 United States;X-APPLE-RADIUS=500;X-TITLE=Lilly Road Northeast 412:geo:-122.8439102,47.0520784
END:VEVENT
BEGIN:VEVENT
DTSTART;TZID=America/Vancouver:20271213T193000
DTEND;TZID=America/Vancouver:20271213T203000
DTSTAMP:20260422T024116
CREATED:20250929T172025Z
LAST-MODIFIED:20250929T172025Z
UID:10022243-1828726200-1828729800@perinatalsupport.org
SUMMARY:VIRTUAL Perinatal Loss Support Group
DESCRIPTION:VIRTUAL Parent Support Group\, \nVirtual via Zoom click HERE to join.  7:30 p.m. Second Monday. \nContact: Liz at lizzylove1@aol.com.
URL:https://perinatalsupport.org/event/virtual-pregnancy-after-loss-support-group-3-2/2027-12-13/
LOCATION:Virtual
CATEGORIES:Perinatal Loss Support,Support Group
END:VEVENT
BEGIN:VEVENT
DTSTART;TZID=America/Vancouver:20271215T193000
DTEND;TZID=America/Vancouver:20271215T203000
DTSTAMP:20260422T024116
CREATED:20240807T230754Z
LAST-MODIFIED:20240807T232932Z
UID:10022389-1828899000-1828902600@perinatalsupport.org
SUMMARY:Seattle In Person Perinatal Loss Support Group
DESCRIPTION:*SEATTLE Parent Support Group\, \nin Person at Seattle Children’s Hospital in the Anna Clise Board Room – RB 3.614. \n7:30 p.m. Third Wednesday. \nContact Casey at Casey.Raker@gmail.com. \n 
URL:https://perinatalsupport.org/event/seattle-parent-support-group-2-3/2027-12-15/
CATEGORIES:King,Perinatal Loss Support,Support Group
END:VEVENT
END:VCALENDAR