BEGIN:VCALENDAR
VERSION:2.0
PRODID:-//Perinatal Support Washington - ECPv6.15.20//NONSGML v1.0//EN
CALSCALE:GREGORIAN
METHOD:PUBLISH
X-ORIGINAL-URL:https://perinatalsupport.org
X-WR-CALDESC:Events for Perinatal Support Washington
REFRESH-INTERVAL;VALUE=DURATION:PT1H
X-Robots-Tag:noindex
X-PUBLISHED-TTL:PT1H
BEGIN:VTIMEZONE
TZID:America/Vancouver
BEGIN:DAYLIGHT
TZOFFSETFROM:-0800
TZOFFSETTO:-0700
TZNAME:PDT
DTSTART:20230312T100000
END:DAYLIGHT
BEGIN:STANDARD
TZOFFSETFROM:-0700
TZOFFSETTO:-0800
TZNAME:PST
DTSTART:20231105T090000
END:STANDARD
BEGIN:DAYLIGHT
TZOFFSETFROM:-0800
TZOFFSETTO:-0700
TZNAME:PDT
DTSTART:20240310T100000
END:DAYLIGHT
BEGIN:STANDARD
TZOFFSETFROM:-0700
TZOFFSETTO:-0800
TZNAME:PST
DTSTART:20241103T090000
END:STANDARD
BEGIN:DAYLIGHT
TZOFFSETFROM:-0800
TZOFFSETTO:-0700
TZNAME:PDT
DTSTART:20250309T100000
END:DAYLIGHT
BEGIN:STANDARD
TZOFFSETFROM:-0700
TZOFFSETTO:-0800
TZNAME:PST
DTSTART:20251102T090000
END:STANDARD
END:VTIMEZONE
BEGIN:VEVENT
DTSTART;TZID=America/Vancouver:20240430T100000
DTEND;TZID=America/Vancouver:20240430T113000
DTSTAMP:20260420T060222
CREATED:20230615T172646Z
LAST-MODIFIED:20230907T231249Z
UID:10018575-1714471200-1714476600@perinatalsupport.org
SUMMARY:Mom and Baby Support Group
DESCRIPTION:Mom and Baby Support Group at Good Samaritan Hospital \nTuesdays • 10:00-11:30 \nJoin us to connect with other new moms! \nOur goal is to provide encouragement and support in your early months of mothering. We offer baby weight checks\, discussions about feeding\, sleep and adjustment issues\, informative speakers\, and the opportunity\nto meet other moms. No need to sign up ahead of time\, just attend when you can.Group meets in the Family Birth Center Classroom\, 1st floor\, near the Family Birth Center lobby. Enter through the main entrance on 15th Ave SE main entrance \nDue to classroom limitations this group only allows little ones who are non-mobile (pre-crawling).\nBring a baby blanket for baby if you would like to sit on the floor.\nThere is no charge to attend the group but donations are accepted. \nContact: Janet Dill 253 403-7586 \nJoin us on Facebook!\nfacebook.com/MomandBaby
URL:https://perinatalsupport.org/event/mom-and-baby-support-group/2024-04-30/
LOCATION:Good Samaritan Hospital\, 407 14th Avenue SE Family Birth Center\, Puyallup\, WA\, United States
CATEGORIES:Pierce,Support Group
GEO:47.1788395;-122.289631
X-APPLE-STRUCTURED-LOCATION;VALUE=URI;X-ADDRESS=Good Samaritan Hospital 407 14th Avenue SE Family Birth Center Puyallup WA United States;X-APPLE-RADIUS=500;X-TITLE=407 14th Avenue SE Family Birth Center:geo:-122.289631,47.1788395
END:VEVENT
BEGIN:VEVENT
DTSTART;TZID=America/Vancouver:20240430T163000
DTEND;TZID=America/Vancouver:20240430T173000
DTSTAMP:20260420T060222
CREATED:20230418T153532Z
LAST-MODIFIED:20230526T183200Z
UID:10017252-1714494600-1714498200@perinatalsupport.org
SUMMARY:Black Moms Connect
DESCRIPTION:Every Tuesday 7:30pm ET/4:30pm PT\n \nThis group is for anyone pregnant or postpartum (up to two years) and identifies as Black or African-American. There is no definition or level of being “Black enough.” Pregnant and postpartum moms with a biological connection to the African diaspora (African Americans\, Afro-Caribbeans\, Afro-Latin Americans\, Black Canadians\, etc.) are welcomed. This is a space for Black mothers to connect\, discuss their experiences\, and learn helpful tools and resources. Whether you are going through stress\, adjustment to parenting\, baby blues\, pregnancy\, or postpartum depression/anxiety\, our groups are here for you. You are not alone\, and we are here to help. We do not allow group observation by students or professionals. Thank you for your cooperation and understanding.
URL:https://perinatalsupport.org/event/black-moms-connect/2024-04-30/
LOCATION:Online
CATEGORIES:BIPOC,Black African American,Spokane,Support Group
GEO:47.7510741;-120.7401385
END:VEVENT
BEGIN:VEVENT
DTSTART;TZID=America/Vancouver:20240501T110000
DTEND;TZID=America/Vancouver:20240501T120000
DTSTAMP:20260420T060222
CREATED:20211215T222157Z
LAST-MODIFIED:20240702T201133Z
UID:10020834-1714561200-1714564800@perinatalsupport.org
SUMMARY:Entre Mamás
DESCRIPTION:Un grupo para mujeres embarazadas o mujeres que tienen niños menor de 6 años. \nHorario: Todos los Miércoles \nDirección: 1750 Calawah Way\, 27C Forks\, WA 98331\n*El cuarto de comunidad cerca de las lavadoras* \nContacto: 360-912-1455
URL:https://perinatalsupport.org/event/entre-mamas/2024-05-01/
LOCATION:1750 Calawah Way\, 1750 Calawah Way\, 27C\, Forks\, WA\, 98331\, United States
CATEGORIES:BIPOC,Clallam,Latinx,Spanish,Support Group
GEO:47.9549709;-124.3559339
X-APPLE-STRUCTURED-LOCATION;VALUE=URI;X-ADDRESS=1750 Calawah Way 1750 Calawah Way 27C Forks WA 98331 United States;X-APPLE-RADIUS=500;X-TITLE=1750 Calawah Way\, 27C:geo:-124.3559339,47.9549709
END:VEVENT
BEGIN:VEVENT
DTSTART;TZID=America/Vancouver:20240502T100000
DTEND;TZID=America/Vancouver:20240502T113000
DTSTAMP:20260420T060222
CREATED:20240410T160324Z
LAST-MODIFIED:20240410T160324Z
UID:10019943-1714644000-1714649400@perinatalsupport.org
SUMMARY:Prepared Moms
DESCRIPTION:A non-judgmental\, Parent support Group for Moms who are pregnant or parenting a child 5-years-old and under. \nMeetings held on Thursdays from 10-11:30 AM at CAPA/Prepares: 25 W. 5th Ave. Spokane \nSeptember – June (with childcare)\nMonthly meetings in July and August. \nThis is a drop-in group\, just show up when you can! Prior registration not required. \nFor more information contact: sarah.durrant@cceasternwa.org or call 509-358-4258
URL:https://perinatalsupport.org/event/prepared-moms/2024-05-02/
LOCATION:CAPA/Prepares\, 25 W. 5th Ave.\, Spokane\, WA\, 99204\, United States
CATEGORIES:Spokane,Support Group
GEO:47.6511048;-117.4126755
X-APPLE-STRUCTURED-LOCATION;VALUE=URI;X-ADDRESS=CAPA/Prepares 25 W. 5th Ave. Spokane WA 99204 United States;X-APPLE-RADIUS=500;X-TITLE=25 W. 5th Ave.:geo:-117.4126755,47.6511048
END:VEVENT
BEGIN:VEVENT
DTSTART;TZID=America/Vancouver:20240502T170000
DTEND;TZID=America/Vancouver:20240502T180000
DTSTAMP:20260420T060222
CREATED:20230221T213403Z
LAST-MODIFIED:20230523T193527Z
UID:10017226-1714669200-1714672800@perinatalsupport.org
SUMMARY:Lewis County Perinatal & Postpartum Support Group
DESCRIPTION:Lewis County Perinatal & Postpartum Support Group \nBecoming a parent can be a challenging time\, but we want to help. Join other community members as we share and explore the transition to motherhood. Every month\, we will unpack some of the changes that can occur in our heart\, mind\, body and relationships during this season of life. \nAll babies are welcome. Snacks/Incentives will be provided. \nTo sign up or for more information contact:\nTask Force Chair\, Taylor Valverde: taylorb@familyess.org \, 360-867-8116 \nIN PERSON:\nMonthly\, First Thursday\n5-6pm \nChild Development Center/\nChildren’s Lab School\n412 S. Oak\, Centralia\, WA 98531 \nVIRTUAL:\nMonthly\, Third Thursday\n1-2 pm \nZoom ID: 385 831 072\nPasscode: 124325 \n 
URL:https://perinatalsupport.org/event/lewis-county-perinatal-postpartum-support-group/2024-05-02/
LOCATION:Child Development Center/ Children’s Lab School\, 412 S. Oak\, Centralia\, WA\, 98531\, United States
CATEGORIES:Lewis,Support Group
GEO:46.7138229;-122.9614328
X-APPLE-STRUCTURED-LOCATION;VALUE=URI;X-ADDRESS=Child Development Center/ Children’s Lab School 412 S. Oak Centralia WA 98531 United States;X-APPLE-RADIUS=500;X-TITLE=412 S. Oak:geo:-122.9614328,46.7138229
END:VEVENT
BEGIN:VEVENT
DTSTART;TZID=America/Vancouver:20240502T170000
DTEND;TZID=America/Vancouver:20240502T183000
DTSTAMP:20260420T060222
CREATED:20230706T164156Z
LAST-MODIFIED:20230706T164211Z
UID:10018117-1714669200-1714674600@perinatalsupport.org
SUMMARY:Coffee & Cradleboards
DESCRIPTION:Group Peer Support \nIt is a place to listen and learn from the experience of others\, to realize that we are not alone\, and that others understand what we are experiencing. It is a precious and rare opportunity to hear the power of our voice\, to feel that inner strength and intelligence that is in the heart of each one of us. \nEvery first and third Thursday at 5pm PST \nLocation: \nOCCDA Fiscal/HR Office\n670 Riverside Drive\, \nOmak\, WA 98841 \nFor more information on dates and times\, contact Shannon Nakkour (509) 322-7053 and Jill Moomaw at jnanpuya@gmail.com
URL:https://perinatalsupport.org/event/coffee-cradleboards-2/2024-05-02/
LOCATION:OCCDA Fiscal/HR Office\, 670 Riverside Drive\, Omak\, 98841
CATEGORIES:BIPOC,Indigenous,Okanogan,Support Group
GEO:48.41648;-119.5128871
X-APPLE-STRUCTURED-LOCATION;VALUE=URI;X-ADDRESS=OCCDA Fiscal/HR Office 670 Riverside Drive Omak 98841;X-APPLE-RADIUS=500;X-TITLE=670 Riverside Drive:geo:-119.5128871,48.41648
END:VEVENT
BEGIN:VEVENT
DTSTART;TZID=America/Vancouver:20240502T181500
DTEND;TZID=America/Vancouver:20240502T193000
DTSTAMP:20260420T060222
CREATED:20230216T202428Z
LAST-MODIFIED:20240702T200617Z
UID:10020556-1714673700-1714678200@perinatalsupport.org
SUMMARY:Caminemos Juntos
DESCRIPTION:Te invitamos a participar en un groupo de apoyo: Caminemos Juntos. \nEn caminemos Juntos tratemos temas como: \n\nEl camino de ser madre/padre\nCuidado personal\nSalud mental\nCompartir experiencias y situaciones\nCrear una comunidad juntos\n\nParticipantes tendran su nombre inscrito en el sorteo del fin del mes! \nTodas las sesiones se realizarán por Zoom cada otro: \nJueves 6:15PM-7:30PM (PT) \ny Sábado de 10:00AM-11:30AM (PT) \nMándanos un mensaje de texto al telefono: (971) 258-2426 \nInstagram: @caminemosjuntoswa \nFacebook: @caminemosjuntoswashington
URL:https://perinatalsupport.org/event/caminemos-juntos-2/2024-05-02/
LOCATION:Online
CATEGORIES:BIPOC,Latinx,Pierce,Spanish,Support Group
GEO:47.7510741;-120.7401385
END:VEVENT
BEGIN:VEVENT
DTSTART;TZID=America/Vancouver:20240504T100000
DTEND;TZID=America/Vancouver:20240504T113000
DTSTAMP:20260420T060222
CREATED:20230216T200635Z
LAST-MODIFIED:20240702T200551Z
UID:10020277-1714816800-1714822200@perinatalsupport.org
SUMMARY:Caminemos Juntos
DESCRIPTION:Te invitamos a participar en un groupo de apoyo: Caminemos Juntos. \nEn caminemos Juntos tratemos temas como: \n\nEl camino de ser madre/padre\nCuidado personal\nSalud mental\nCompartir experiencias y situaciones\nCrear una comunidad juntos\n\nParticipantes tendran su nombre inscrito en el sorteo del fin del mes! \nTodas las sesiones se realizarán por Zoom cada otro: \nJueves 6:15PM-7:30PM (PT) \ny Sábado de 10:00AM-11:30AM (PT) \nMándanos un mensaje de texto al telefono: (971) 258-2426 \nInstagram: @caminemosjuntoswa \nFacebook: @caminemosjuntoswashington
URL:https://perinatalsupport.org/event/caminemos-juntos/2024-05-04/
LOCATION:Online
CATEGORIES:BIPOC,Latinx,Pierce,Spanish,Support Group
GEO:47.7510741;-120.7401385
END:VEVENT
END:VCALENDAR