BEGIN:VCALENDAR
VERSION:2.0
PRODID:-//Perinatal Support Washington - ECPv6.15.20//NONSGML v1.0//EN
CALSCALE:GREGORIAN
METHOD:PUBLISH
X-ORIGINAL-URL:https://perinatalsupport.org
X-WR-CALDESC:Events for Perinatal Support Washington
REFRESH-INTERVAL;VALUE=DURATION:PT1H
X-Robots-Tag:noindex
X-PUBLISHED-TTL:PT1H
BEGIN:VTIMEZONE
TZID:America/Vancouver
BEGIN:DAYLIGHT
TZOFFSETFROM:-0800
TZOFFSETTO:-0700
TZNAME:PDT
DTSTART:20190310T100000
END:DAYLIGHT
BEGIN:STANDARD
TZOFFSETFROM:-0700
TZOFFSETTO:-0800
TZNAME:PST
DTSTART:20191103T090000
END:STANDARD
BEGIN:DAYLIGHT
TZOFFSETFROM:-0800
TZOFFSETTO:-0700
TZNAME:PDT
DTSTART:20200308T100000
END:DAYLIGHT
BEGIN:STANDARD
TZOFFSETFROM:-0700
TZOFFSETTO:-0800
TZNAME:PST
DTSTART:20201101T090000
END:STANDARD
BEGIN:DAYLIGHT
TZOFFSETFROM:-0800
TZOFFSETTO:-0700
TZNAME:PDT
DTSTART:20210314T100000
END:DAYLIGHT
BEGIN:STANDARD
TZOFFSETFROM:-0700
TZOFFSETTO:-0800
TZNAME:PST
DTSTART:20211107T090000
END:STANDARD
BEGIN:DAYLIGHT
TZOFFSETFROM:-0800
TZOFFSETTO:-0700
TZNAME:PDT
DTSTART:20220313T100000
END:DAYLIGHT
BEGIN:STANDARD
TZOFFSETFROM:-0700
TZOFFSETTO:-0800
TZNAME:PST
DTSTART:20221106T090000
END:STANDARD
BEGIN:DAYLIGHT
TZOFFSETFROM:-0800
TZOFFSETTO:-0700
TZNAME:PDT
DTSTART:20230312T100000
END:DAYLIGHT
BEGIN:STANDARD
TZOFFSETFROM:-0700
TZOFFSETTO:-0800
TZNAME:PST
DTSTART:20231105T090000
END:STANDARD
END:VTIMEZONE
BEGIN:VEVENT
DTSTART;TZID=America/Vancouver:20221121T190000
DTEND;TZID=America/Vancouver:20221121T200000
DTSTAMP:20260423T010211
CREATED:20200317T003250Z
LAST-MODIFIED:20200425T161851Z
UID:10012499-1669057200-1669060800@perinatalsupport.org
SUMMARY:M.E.N.D. Nationwide Online Support Group
DESCRIPTION:For families who do not live near a chapter of M.E.N.D. or desire additional support between support group meetings\, we offer a Nationwide Online Support Group on the third Thursday of each month at 9:00 p.m. CST.  For information follow this link.
URL:https://perinatalsupport.org/event/m-e-n-d-nationwide-online-support-group/2022-11-21/
LOCATION:Virtual
CATEGORIES:Perinatal Loss Support
ORGANIZER;CN="LaRhesa Johnson":MAILTO:larhesa@mend.org
END:VEVENT
BEGIN:VEVENT
DTSTART;TZID=America/Vancouver:20221017T190000
DTEND;TZID=America/Vancouver:20221017T200000
DTSTAMP:20260423T010211
CREATED:20200317T003250Z
LAST-MODIFIED:20200425T161851Z
UID:10012498-1666033200-1666036800@perinatalsupport.org
SUMMARY:M.E.N.D. Nationwide Online Support Group
DESCRIPTION:For families who do not live near a chapter of M.E.N.D. or desire additional support between support group meetings\, we offer a Nationwide Online Support Group on the third Thursday of each month at 9:00 p.m. CST.  For information follow this link.
URL:https://perinatalsupport.org/event/m-e-n-d-nationwide-online-support-group/2022-10-17/
LOCATION:Virtual
CATEGORIES:Perinatal Loss Support
ORGANIZER;CN="LaRhesa Johnson":MAILTO:larhesa@mend.org
END:VEVENT
BEGIN:VEVENT
DTSTART;TZID=America/Vancouver:20220919T190000
DTEND;TZID=America/Vancouver:20220919T200000
DTSTAMP:20260423T010211
CREATED:20200317T003250Z
LAST-MODIFIED:20200425T161851Z
UID:10012497-1663614000-1663617600@perinatalsupport.org
SUMMARY:M.E.N.D. Nationwide Online Support Group
DESCRIPTION:For families who do not live near a chapter of M.E.N.D. or desire additional support between support group meetings\, we offer a Nationwide Online Support Group on the third Thursday of each month at 9:00 p.m. CST.  For information follow this link.
URL:https://perinatalsupport.org/event/m-e-n-d-nationwide-online-support-group/2022-09-19/
LOCATION:Virtual
CATEGORIES:Perinatal Loss Support
ORGANIZER;CN="LaRhesa Johnson":MAILTO:larhesa@mend.org
END:VEVENT
BEGIN:VEVENT
DTSTART;TZID=America/Vancouver:20220815T190000
DTEND;TZID=America/Vancouver:20220815T200000
DTSTAMP:20260423T010211
CREATED:20200317T003250Z
LAST-MODIFIED:20200425T161851Z
UID:10012496-1660590000-1660593600@perinatalsupport.org
SUMMARY:M.E.N.D. Nationwide Online Support Group
DESCRIPTION:For families who do not live near a chapter of M.E.N.D. or desire additional support between support group meetings\, we offer a Nationwide Online Support Group on the third Thursday of each month at 9:00 p.m. CST.  For information follow this link.
URL:https://perinatalsupport.org/event/m-e-n-d-nationwide-online-support-group/2022-08-15/
LOCATION:Virtual
CATEGORIES:Perinatal Loss Support
ORGANIZER;CN="LaRhesa Johnson":MAILTO:larhesa@mend.org
END:VEVENT
BEGIN:VEVENT
DTSTART;TZID=America/Vancouver:20220718T190000
DTEND;TZID=America/Vancouver:20220718T200000
DTSTAMP:20260423T010211
CREATED:20200317T003250Z
LAST-MODIFIED:20200425T161851Z
UID:10012495-1658170800-1658174400@perinatalsupport.org
SUMMARY:M.E.N.D. Nationwide Online Support Group
DESCRIPTION:For families who do not live near a chapter of M.E.N.D. or desire additional support between support group meetings\, we offer a Nationwide Online Support Group on the third Thursday of each month at 9:00 p.m. CST.  For information follow this link.
URL:https://perinatalsupport.org/event/m-e-n-d-nationwide-online-support-group/2022-07-18/
LOCATION:Virtual
CATEGORIES:Perinatal Loss Support
ORGANIZER;CN="LaRhesa Johnson":MAILTO:larhesa@mend.org
END:VEVENT
BEGIN:VEVENT
DTSTART;TZID=America/Vancouver:20220620T190000
DTEND;TZID=America/Vancouver:20220620T200000
DTSTAMP:20260423T010211
CREATED:20200317T003250Z
LAST-MODIFIED:20200425T161851Z
UID:10012494-1655751600-1655755200@perinatalsupport.org
SUMMARY:M.E.N.D. Nationwide Online Support Group
DESCRIPTION:For families who do not live near a chapter of M.E.N.D. or desire additional support between support group meetings\, we offer a Nationwide Online Support Group on the third Thursday of each month at 9:00 p.m. CST.  For information follow this link.
URL:https://perinatalsupport.org/event/m-e-n-d-nationwide-online-support-group/2022-06-20/
LOCATION:Virtual
CATEGORIES:Perinatal Loss Support
ORGANIZER;CN="LaRhesa Johnson":MAILTO:larhesa@mend.org
END:VEVENT
BEGIN:VEVENT
DTSTART;TZID=America/Vancouver:20220516T190000
DTEND;TZID=America/Vancouver:20220516T200000
DTSTAMP:20260423T010211
CREATED:20200317T003250Z
LAST-MODIFIED:20200425T161851Z
UID:10012493-1652727600-1652731200@perinatalsupport.org
SUMMARY:M.E.N.D. Nationwide Online Support Group
DESCRIPTION:For families who do not live near a chapter of M.E.N.D. or desire additional support between support group meetings\, we offer a Nationwide Online Support Group on the third Thursday of each month at 9:00 p.m. CST.  For information follow this link.
URL:https://perinatalsupport.org/event/m-e-n-d-nationwide-online-support-group/2022-05-16/
LOCATION:Virtual
CATEGORIES:Perinatal Loss Support
ORGANIZER;CN="LaRhesa Johnson":MAILTO:larhesa@mend.org
END:VEVENT
BEGIN:VEVENT
DTSTART;TZID=America/Vancouver:20220418T190000
DTEND;TZID=America/Vancouver:20220418T200000
DTSTAMP:20260423T010211
CREATED:20200317T003250Z
LAST-MODIFIED:20200425T161851Z
UID:10012492-1650308400-1650312000@perinatalsupport.org
SUMMARY:M.E.N.D. Nationwide Online Support Group
DESCRIPTION:For families who do not live near a chapter of M.E.N.D. or desire additional support between support group meetings\, we offer a Nationwide Online Support Group on the third Thursday of each month at 9:00 p.m. CST.  For information follow this link.
URL:https://perinatalsupport.org/event/m-e-n-d-nationwide-online-support-group/2022-04-18/
LOCATION:Virtual
CATEGORIES:Perinatal Loss Support
ORGANIZER;CN="LaRhesa Johnson":MAILTO:larhesa@mend.org
END:VEVENT
BEGIN:VEVENT
DTSTART;TZID=America/Vancouver:20220321T190000
DTEND;TZID=America/Vancouver:20220321T200000
DTSTAMP:20260423T010211
CREATED:20200317T003250Z
LAST-MODIFIED:20200425T161851Z
UID:10012491-1647889200-1647892800@perinatalsupport.org
SUMMARY:M.E.N.D. Nationwide Online Support Group
DESCRIPTION:For families who do not live near a chapter of M.E.N.D. or desire additional support between support group meetings\, we offer a Nationwide Online Support Group on the third Thursday of each month at 9:00 p.m. CST.  For information follow this link.
URL:https://perinatalsupport.org/event/m-e-n-d-nationwide-online-support-group/2022-03-21/
LOCATION:Virtual
CATEGORIES:Perinatal Loss Support
ORGANIZER;CN="LaRhesa Johnson":MAILTO:larhesa@mend.org
END:VEVENT
BEGIN:VEVENT
DTSTART;TZID=America/Vancouver:20220221T190000
DTEND;TZID=America/Vancouver:20220221T200000
DTSTAMP:20260423T010211
CREATED:20200317T003250Z
LAST-MODIFIED:20200425T161851Z
UID:10012490-1645470000-1645473600@perinatalsupport.org
SUMMARY:M.E.N.D. Nationwide Online Support Group
DESCRIPTION:For families who do not live near a chapter of M.E.N.D. or desire additional support between support group meetings\, we offer a Nationwide Online Support Group on the third Thursday of each month at 9:00 p.m. CST.  For information follow this link.
URL:https://perinatalsupport.org/event/m-e-n-d-nationwide-online-support-group/2022-02-21/
LOCATION:Virtual
CATEGORIES:Perinatal Loss Support
ORGANIZER;CN="LaRhesa Johnson":MAILTO:larhesa@mend.org
END:VEVENT
BEGIN:VEVENT
DTSTART;TZID=America/Vancouver:20220117T190000
DTEND;TZID=America/Vancouver:20220117T200000
DTSTAMP:20260423T010211
CREATED:20200317T003250Z
LAST-MODIFIED:20200425T161851Z
UID:10012489-1642446000-1642449600@perinatalsupport.org
SUMMARY:M.E.N.D. Nationwide Online Support Group
DESCRIPTION:For families who do not live near a chapter of M.E.N.D. or desire additional support between support group meetings\, we offer a Nationwide Online Support Group on the third Thursday of each month at 9:00 p.m. CST.  For information follow this link.
URL:https://perinatalsupport.org/event/m-e-n-d-nationwide-online-support-group/2022-01-17/
LOCATION:Virtual
CATEGORIES:Perinatal Loss Support
ORGANIZER;CN="LaRhesa Johnson":MAILTO:larhesa@mend.org
END:VEVENT
BEGIN:VEVENT
DTSTART;TZID=America/Vancouver:20211220T190000
DTEND;TZID=America/Vancouver:20211220T200000
DTSTAMP:20260423T010211
CREATED:20200317T003250Z
LAST-MODIFIED:20200425T161851Z
UID:10012488-1640026800-1640030400@perinatalsupport.org
SUMMARY:M.E.N.D. Nationwide Online Support Group
DESCRIPTION:For families who do not live near a chapter of M.E.N.D. or desire additional support between support group meetings\, we offer a Nationwide Online Support Group on the third Thursday of each month at 9:00 p.m. CST.  For information follow this link.
URL:https://perinatalsupport.org/event/m-e-n-d-nationwide-online-support-group/2021-12-20/
LOCATION:Virtual
CATEGORIES:Perinatal Loss Support
ORGANIZER;CN="LaRhesa Johnson":MAILTO:larhesa@mend.org
END:VEVENT
BEGIN:VEVENT
DTSTART;TZID=America/Vancouver:20211115T190000
DTEND;TZID=America/Vancouver:20211115T200000
DTSTAMP:20260423T010211
CREATED:20200317T003250Z
LAST-MODIFIED:20200425T161851Z
UID:10012487-1637002800-1637006400@perinatalsupport.org
SUMMARY:M.E.N.D. Nationwide Online Support Group
DESCRIPTION:For families who do not live near a chapter of M.E.N.D. or desire additional support between support group meetings\, we offer a Nationwide Online Support Group on the third Thursday of each month at 9:00 p.m. CST.  For information follow this link.
URL:https://perinatalsupport.org/event/m-e-n-d-nationwide-online-support-group/2021-11-15/
LOCATION:Virtual
CATEGORIES:Perinatal Loss Support
ORGANIZER;CN="LaRhesa Johnson":MAILTO:larhesa@mend.org
END:VEVENT
BEGIN:VEVENT
DTSTART;TZID=America/Vancouver:20211018T190000
DTEND;TZID=America/Vancouver:20211018T200000
DTSTAMP:20260423T010211
CREATED:20200317T003250Z
LAST-MODIFIED:20200425T161851Z
UID:10012486-1634583600-1634587200@perinatalsupport.org
SUMMARY:M.E.N.D. Nationwide Online Support Group
DESCRIPTION:For families who do not live near a chapter of M.E.N.D. or desire additional support between support group meetings\, we offer a Nationwide Online Support Group on the third Thursday of each month at 9:00 p.m. CST.  For information follow this link.
URL:https://perinatalsupport.org/event/m-e-n-d-nationwide-online-support-group/2021-10-18/
LOCATION:Virtual
CATEGORIES:Perinatal Loss Support
ORGANIZER;CN="LaRhesa Johnson":MAILTO:larhesa@mend.org
END:VEVENT
BEGIN:VEVENT
DTSTART;TZID=America/Vancouver:20210920T190000
DTEND;TZID=America/Vancouver:20210920T200000
DTSTAMP:20260423T010211
CREATED:20200317T003250Z
LAST-MODIFIED:20200425T161851Z
UID:10012485-1632164400-1632168000@perinatalsupport.org
SUMMARY:M.E.N.D. Nationwide Online Support Group
DESCRIPTION:For families who do not live near a chapter of M.E.N.D. or desire additional support between support group meetings\, we offer a Nationwide Online Support Group on the third Thursday of each month at 9:00 p.m. CST.  For information follow this link.
URL:https://perinatalsupport.org/event/m-e-n-d-nationwide-online-support-group/2021-09-20/
LOCATION:Virtual
CATEGORIES:Perinatal Loss Support
ORGANIZER;CN="LaRhesa Johnson":MAILTO:larhesa@mend.org
END:VEVENT
BEGIN:VEVENT
DTSTART;TZID=America/Vancouver:20210816T190000
DTEND;TZID=America/Vancouver:20210816T200000
DTSTAMP:20260423T010211
CREATED:20200317T003250Z
LAST-MODIFIED:20200425T161851Z
UID:10012484-1629140400-1629144000@perinatalsupport.org
SUMMARY:M.E.N.D. Nationwide Online Support Group
DESCRIPTION:For families who do not live near a chapter of M.E.N.D. or desire additional support between support group meetings\, we offer a Nationwide Online Support Group on the third Thursday of each month at 9:00 p.m. CST.  For information follow this link.
URL:https://perinatalsupport.org/event/m-e-n-d-nationwide-online-support-group/2021-08-16/
LOCATION:Virtual
CATEGORIES:Perinatal Loss Support
ORGANIZER;CN="LaRhesa Johnson":MAILTO:larhesa@mend.org
END:VEVENT
BEGIN:VEVENT
DTSTART;TZID=America/Vancouver:20210719T190000
DTEND;TZID=America/Vancouver:20210719T200000
DTSTAMP:20260423T010211
CREATED:20200317T003250Z
LAST-MODIFIED:20200425T161851Z
UID:10012483-1626721200-1626724800@perinatalsupport.org
SUMMARY:M.E.N.D. Nationwide Online Support Group
DESCRIPTION:For families who do not live near a chapter of M.E.N.D. or desire additional support between support group meetings\, we offer a Nationwide Online Support Group on the third Thursday of each month at 9:00 p.m. CST.  For information follow this link.
URL:https://perinatalsupport.org/event/m-e-n-d-nationwide-online-support-group/2021-07-19/
LOCATION:Virtual
CATEGORIES:Perinatal Loss Support
ORGANIZER;CN="LaRhesa Johnson":MAILTO:larhesa@mend.org
END:VEVENT
BEGIN:VEVENT
DTSTART;TZID=America/Vancouver:20210621T190000
DTEND;TZID=America/Vancouver:20210621T200000
DTSTAMP:20260423T010211
CREATED:20200317T003250Z
LAST-MODIFIED:20200425T161851Z
UID:10012482-1624302000-1624305600@perinatalsupport.org
SUMMARY:M.E.N.D. Nationwide Online Support Group
DESCRIPTION:For families who do not live near a chapter of M.E.N.D. or desire additional support between support group meetings\, we offer a Nationwide Online Support Group on the third Thursday of each month at 9:00 p.m. CST.  For information follow this link.
URL:https://perinatalsupport.org/event/m-e-n-d-nationwide-online-support-group/2021-06-21/
LOCATION:Virtual
CATEGORIES:Perinatal Loss Support
ORGANIZER;CN="LaRhesa Johnson":MAILTO:larhesa@mend.org
END:VEVENT
BEGIN:VEVENT
DTSTART;TZID=America/Vancouver:20210517T190000
DTEND;TZID=America/Vancouver:20210517T200000
DTSTAMP:20260423T010211
CREATED:20200317T003250Z
LAST-MODIFIED:20200425T161851Z
UID:10012481-1621278000-1621281600@perinatalsupport.org
SUMMARY:M.E.N.D. Nationwide Online Support Group
DESCRIPTION:For families who do not live near a chapter of M.E.N.D. or desire additional support between support group meetings\, we offer a Nationwide Online Support Group on the third Thursday of each month at 9:00 p.m. CST.  For information follow this link.
URL:https://perinatalsupport.org/event/m-e-n-d-nationwide-online-support-group/2021-05-17/
LOCATION:Virtual
CATEGORIES:Perinatal Loss Support
ORGANIZER;CN="LaRhesa Johnson":MAILTO:larhesa@mend.org
END:VEVENT
BEGIN:VEVENT
DTSTART;TZID=America/Vancouver:20210419T190000
DTEND;TZID=America/Vancouver:20210419T200000
DTSTAMP:20260423T010211
CREATED:20200317T003250Z
LAST-MODIFIED:20200425T161851Z
UID:10012480-1618858800-1618862400@perinatalsupport.org
SUMMARY:M.E.N.D. Nationwide Online Support Group
DESCRIPTION:For families who do not live near a chapter of M.E.N.D. or desire additional support between support group meetings\, we offer a Nationwide Online Support Group on the third Thursday of each month at 9:00 p.m. CST.  For information follow this link.
URL:https://perinatalsupport.org/event/m-e-n-d-nationwide-online-support-group/2021-04-19/
LOCATION:Virtual
CATEGORIES:Perinatal Loss Support
ORGANIZER;CN="LaRhesa Johnson":MAILTO:larhesa@mend.org
END:VEVENT
BEGIN:VEVENT
DTSTART;TZID=America/Vancouver:20210315T190000
DTEND;TZID=America/Vancouver:20210315T200000
DTSTAMP:20260423T010211
CREATED:20200317T003250Z
LAST-MODIFIED:20200425T161851Z
UID:10012479-1615834800-1615838400@perinatalsupport.org
SUMMARY:M.E.N.D. Nationwide Online Support Group
DESCRIPTION:For families who do not live near a chapter of M.E.N.D. or desire additional support between support group meetings\, we offer a Nationwide Online Support Group on the third Thursday of each month at 9:00 p.m. CST.  For information follow this link.
URL:https://perinatalsupport.org/event/m-e-n-d-nationwide-online-support-group/2021-03-15/
LOCATION:Virtual
CATEGORIES:Perinatal Loss Support
ORGANIZER;CN="LaRhesa Johnson":MAILTO:larhesa@mend.org
END:VEVENT
BEGIN:VEVENT
DTSTART;TZID=America/Vancouver:20210215T190000
DTEND;TZID=America/Vancouver:20210215T200000
DTSTAMP:20260423T010211
CREATED:20200317T003250Z
LAST-MODIFIED:20200425T161851Z
UID:10012478-1613415600-1613419200@perinatalsupport.org
SUMMARY:M.E.N.D. Nationwide Online Support Group
DESCRIPTION:For families who do not live near a chapter of M.E.N.D. or desire additional support between support group meetings\, we offer a Nationwide Online Support Group on the third Thursday of each month at 9:00 p.m. CST.  For information follow this link.
URL:https://perinatalsupport.org/event/m-e-n-d-nationwide-online-support-group/2021-02-15/
LOCATION:Virtual
CATEGORIES:Perinatal Loss Support
ORGANIZER;CN="LaRhesa Johnson":MAILTO:larhesa@mend.org
END:VEVENT
BEGIN:VEVENT
DTSTART;TZID=America/Vancouver:20210118T190000
DTEND;TZID=America/Vancouver:20210118T200000
DTSTAMP:20260423T010211
CREATED:20200317T003250Z
LAST-MODIFIED:20200425T161851Z
UID:10012477-1610996400-1611000000@perinatalsupport.org
SUMMARY:M.E.N.D. Nationwide Online Support Group
DESCRIPTION:For families who do not live near a chapter of M.E.N.D. or desire additional support between support group meetings\, we offer a Nationwide Online Support Group on the third Thursday of each month at 9:00 p.m. CST.  For information follow this link.
URL:https://perinatalsupport.org/event/m-e-n-d-nationwide-online-support-group/2021-01-18/
LOCATION:Virtual
CATEGORIES:Perinatal Loss Support
ORGANIZER;CN="LaRhesa Johnson":MAILTO:larhesa@mend.org
END:VEVENT
BEGIN:VEVENT
DTSTART;TZID=America/Vancouver:20201221T190000
DTEND;TZID=America/Vancouver:20201221T200000
DTSTAMP:20260423T010211
CREATED:20200317T003250Z
LAST-MODIFIED:20200425T161851Z
UID:10012476-1608577200-1608580800@perinatalsupport.org
SUMMARY:M.E.N.D. Nationwide Online Support Group
DESCRIPTION:For families who do not live near a chapter of M.E.N.D. or desire additional support between support group meetings\, we offer a Nationwide Online Support Group on the third Thursday of each month at 9:00 p.m. CST.  For information follow this link.
URL:https://perinatalsupport.org/event/m-e-n-d-nationwide-online-support-group/2020-12-21/
LOCATION:Virtual
CATEGORIES:Perinatal Loss Support
ORGANIZER;CN="LaRhesa Johnson":MAILTO:larhesa@mend.org
END:VEVENT
BEGIN:VEVENT
DTSTART;TZID=America/Vancouver:20201116T190000
DTEND;TZID=America/Vancouver:20201116T200000
DTSTAMP:20260423T010211
CREATED:20200317T003250Z
LAST-MODIFIED:20200425T161851Z
UID:10012475-1605553200-1605556800@perinatalsupport.org
SUMMARY:M.E.N.D. Nationwide Online Support Group
DESCRIPTION:For families who do not live near a chapter of M.E.N.D. or desire additional support between support group meetings\, we offer a Nationwide Online Support Group on the third Thursday of each month at 9:00 p.m. CST.  For information follow this link.
URL:https://perinatalsupport.org/event/m-e-n-d-nationwide-online-support-group/2020-11-16/
LOCATION:Virtual
CATEGORIES:Perinatal Loss Support
ORGANIZER;CN="LaRhesa Johnson":MAILTO:larhesa@mend.org
END:VEVENT
BEGIN:VEVENT
DTSTART;TZID=America/Vancouver:20201019T190000
DTEND;TZID=America/Vancouver:20201019T200000
DTSTAMP:20260423T010211
CREATED:20200317T003250Z
LAST-MODIFIED:20200425T161851Z
UID:10012474-1603134000-1603137600@perinatalsupport.org
SUMMARY:M.E.N.D. Nationwide Online Support Group
DESCRIPTION:For families who do not live near a chapter of M.E.N.D. or desire additional support between support group meetings\, we offer a Nationwide Online Support Group on the third Thursday of each month at 9:00 p.m. CST.  For information follow this link.
URL:https://perinatalsupport.org/event/m-e-n-d-nationwide-online-support-group/2020-10-19/
LOCATION:Virtual
CATEGORIES:Perinatal Loss Support
ORGANIZER;CN="LaRhesa Johnson":MAILTO:larhesa@mend.org
END:VEVENT
BEGIN:VEVENT
DTSTART;TZID=America/Vancouver:20200921T190000
DTEND;TZID=America/Vancouver:20200921T200000
DTSTAMP:20260423T010211
CREATED:20200317T003250Z
LAST-MODIFIED:20200425T161851Z
UID:10012473-1600714800-1600718400@perinatalsupport.org
SUMMARY:M.E.N.D. Nationwide Online Support Group
DESCRIPTION:For families who do not live near a chapter of M.E.N.D. or desire additional support between support group meetings\, we offer a Nationwide Online Support Group on the third Thursday of each month at 9:00 p.m. CST.  For information follow this link.
URL:https://perinatalsupport.org/event/m-e-n-d-nationwide-online-support-group/2020-09-21/
LOCATION:Virtual
CATEGORIES:Perinatal Loss Support
ORGANIZER;CN="LaRhesa Johnson":MAILTO:larhesa@mend.org
END:VEVENT
BEGIN:VEVENT
DTSTART;TZID=America/Vancouver:20200817T190000
DTEND;TZID=America/Vancouver:20200817T200000
DTSTAMP:20260423T010211
CREATED:20200317T003250Z
LAST-MODIFIED:20200425T161851Z
UID:10012472-1597690800-1597694400@perinatalsupport.org
SUMMARY:M.E.N.D. Nationwide Online Support Group
DESCRIPTION:For families who do not live near a chapter of M.E.N.D. or desire additional support between support group meetings\, we offer a Nationwide Online Support Group on the third Thursday of each month at 9:00 p.m. CST.  For information follow this link.
URL:https://perinatalsupport.org/event/m-e-n-d-nationwide-online-support-group/2020-08-17/
LOCATION:Virtual
CATEGORIES:Perinatal Loss Support
ORGANIZER;CN="LaRhesa Johnson":MAILTO:larhesa@mend.org
END:VEVENT
BEGIN:VEVENT
DTSTART;TZID=America/Vancouver:20200720T190000
DTEND;TZID=America/Vancouver:20200720T200000
DTSTAMP:20260423T010211
CREATED:20200317T003250Z
LAST-MODIFIED:20200425T161851Z
UID:10012471-1595271600-1595275200@perinatalsupport.org
SUMMARY:M.E.N.D. Nationwide Online Support Group
DESCRIPTION:For families who do not live near a chapter of M.E.N.D. or desire additional support between support group meetings\, we offer a Nationwide Online Support Group on the third Thursday of each month at 9:00 p.m. CST.  For information follow this link.
URL:https://perinatalsupport.org/event/m-e-n-d-nationwide-online-support-group/2020-07-20/
LOCATION:Virtual
CATEGORIES:Perinatal Loss Support
ORGANIZER;CN="LaRhesa Johnson":MAILTO:larhesa@mend.org
END:VEVENT
BEGIN:VEVENT
DTSTART;TZID=America/Vancouver:20200615T190000
DTEND;TZID=America/Vancouver:20200615T200000
DTSTAMP:20260423T010211
CREATED:20200317T003250Z
LAST-MODIFIED:20200425T161851Z
UID:10012470-1592247600-1592251200@perinatalsupport.org
SUMMARY:M.E.N.D. Nationwide Online Support Group
DESCRIPTION:For families who do not live near a chapter of M.E.N.D. or desire additional support between support group meetings\, we offer a Nationwide Online Support Group on the third Thursday of each month at 9:00 p.m. CST.  For information follow this link.
URL:https://perinatalsupport.org/event/m-e-n-d-nationwide-online-support-group/2020-06-15/
LOCATION:Virtual
CATEGORIES:Perinatal Loss Support
ORGANIZER;CN="LaRhesa Johnson":MAILTO:larhesa@mend.org
END:VEVENT
END:VCALENDAR