BEGIN:VCALENDAR
VERSION:2.0
PRODID:-//Perinatal Support Washington - ECPv6.15.20//NONSGML v1.0//EN
CALSCALE:GREGORIAN
METHOD:PUBLISH
X-ORIGINAL-URL:https://perinatalsupport.org
X-WR-CALDESC:Events for Perinatal Support Washington
REFRESH-INTERVAL;VALUE=DURATION:PT1H
X-Robots-Tag:noindex
X-PUBLISHED-TTL:PT1H
BEGIN:VTIMEZONE
TZID:America/Vancouver
BEGIN:DAYLIGHT
TZOFFSETFROM:-0800
TZOFFSETTO:-0700
TZNAME:PDT
DTSTART:20190310T100000
END:DAYLIGHT
BEGIN:STANDARD
TZOFFSETFROM:-0700
TZOFFSETTO:-0800
TZNAME:PST
DTSTART:20191103T090000
END:STANDARD
BEGIN:DAYLIGHT
TZOFFSETFROM:-0800
TZOFFSETTO:-0700
TZNAME:PDT
DTSTART:20200308T100000
END:DAYLIGHT
BEGIN:STANDARD
TZOFFSETFROM:-0700
TZOFFSETTO:-0800
TZNAME:PST
DTSTART:20201101T090000
END:STANDARD
BEGIN:DAYLIGHT
TZOFFSETFROM:-0800
TZOFFSETTO:-0700
TZNAME:PDT
DTSTART:20210314T100000
END:DAYLIGHT
BEGIN:STANDARD
TZOFFSETFROM:-0700
TZOFFSETTO:-0800
TZNAME:PST
DTSTART:20211107T090000
END:STANDARD
END:VTIMEZONE
BEGIN:VEVENT
DTSTART;TZID=America/Vancouver:20200518T190000
DTEND;TZID=America/Vancouver:20200518T200000
DTSTAMP:20260419T130143
CREATED:20200317T003252Z
LAST-MODIFIED:20230228T225632Z
UID:10012717-1589828400-1589832000@perinatalsupport.org
SUMMARY:The Compassionate Friends Wenatchee Sharing Meeting
DESCRIPTION:Currently meeting virtually!  For information please follow this link. \nOur meetings are open to all bereaved parents\, grandparents\, siblings\, and friends. We are not here to judge\, or to provide professional counseling; we are here to offer our friendship and understanding of your pain and to learn from each other through our shared experiences. Our meetings provide emotional support and a safe place to express your feelings. You are free to share or just listen\, to cry\, and even to laugh over happy memories of your child. For some\, it may be the only place where they are able to talk about their child and their grief.\nAll comments shared will be kept confidential. \nThere are no fees for membership or to attend the meetings. \nWe have no religious affiliation even though we meet in a church. \nIt can take courage to make it to a meeting\, but we encourage you to attend at least three. You never know when you might meet the right person\, or hear the right words that will help you on your journey toward healing.
URL:https://perinatalsupport.org/event/the-compassionate-friends-wenatchee-sharing-mtg/2020-05-18/
LOCATION:Grace Lutheran Church\, 1408 Washington St.\, Wenatchee\, WA\, 98801\, United States
CATEGORIES:Perinatal Loss Support
ORGANIZER;CN="The Compassionate Friends Staff":MAILTO:info@tcfwenatcheevalley.org
GEO:47.4232287;-120.3359288
X-APPLE-STRUCTURED-LOCATION;VALUE=URI;X-ADDRESS=Grace Lutheran Church 1408 Washington St. Wenatchee WA 98801 United States;X-APPLE-RADIUS=500;X-TITLE=1408 Washington St.:geo:-120.3359288,47.4232287
END:VEVENT
BEGIN:VEVENT
DTSTART;TZID=America/Vancouver:20200420T190000
DTEND;TZID=America/Vancouver:20200420T200000
DTSTAMP:20260419T130143
CREATED:20200317T003252Z
LAST-MODIFIED:20230228T225632Z
UID:10012716-1587409200-1587412800@perinatalsupport.org
SUMMARY:The Compassionate Friends Wenatchee Sharing Meeting
DESCRIPTION:Currently meeting virtually!  For information please follow this link. \nOur meetings are open to all bereaved parents\, grandparents\, siblings\, and friends. We are not here to judge\, or to provide professional counseling; we are here to offer our friendship and understanding of your pain and to learn from each other through our shared experiences. Our meetings provide emotional support and a safe place to express your feelings. You are free to share or just listen\, to cry\, and even to laugh over happy memories of your child. For some\, it may be the only place where they are able to talk about their child and their grief.\nAll comments shared will be kept confidential. \nThere are no fees for membership or to attend the meetings. \nWe have no religious affiliation even though we meet in a church. \nIt can take courage to make it to a meeting\, but we encourage you to attend at least three. You never know when you might meet the right person\, or hear the right words that will help you on your journey toward healing.
URL:https://perinatalsupport.org/event/the-compassionate-friends-wenatchee-sharing-mtg/2020-04-20/
LOCATION:Grace Lutheran Church\, 1408 Washington St.\, Wenatchee\, WA\, 98801\, United States
CATEGORIES:Perinatal Loss Support
ORGANIZER;CN="The Compassionate Friends Staff":MAILTO:info@tcfwenatcheevalley.org
GEO:47.4232287;-120.3359288
X-APPLE-STRUCTURED-LOCATION;VALUE=URI;X-ADDRESS=Grace Lutheran Church 1408 Washington St. Wenatchee WA 98801 United States;X-APPLE-RADIUS=500;X-TITLE=1408 Washington St.:geo:-120.3359288,47.4232287
END:VEVENT
BEGIN:VEVENT
DTSTART;TZID=America/Vancouver:20200316T190000
DTEND;TZID=America/Vancouver:20200316T200000
DTSTAMP:20260419T130143
CREATED:20200317T003252Z
LAST-MODIFIED:20230228T225632Z
UID:10012715-1584385200-1584388800@perinatalsupport.org
SUMMARY:The Compassionate Friends Wenatchee Sharing Meeting
DESCRIPTION:Currently meeting virtually!  For information please follow this link. \nOur meetings are open to all bereaved parents\, grandparents\, siblings\, and friends. We are not here to judge\, or to provide professional counseling; we are here to offer our friendship and understanding of your pain and to learn from each other through our shared experiences. Our meetings provide emotional support and a safe place to express your feelings. You are free to share or just listen\, to cry\, and even to laugh over happy memories of your child. For some\, it may be the only place where they are able to talk about their child and their grief.\nAll comments shared will be kept confidential. \nThere are no fees for membership or to attend the meetings. \nWe have no religious affiliation even though we meet in a church. \nIt can take courage to make it to a meeting\, but we encourage you to attend at least three. You never know when you might meet the right person\, or hear the right words that will help you on your journey toward healing.
URL:https://perinatalsupport.org/event/the-compassionate-friends-wenatchee-sharing-mtg/2020-03-16/
LOCATION:Grace Lutheran Church\, 1408 Washington St.\, Wenatchee\, WA\, 98801\, United States
CATEGORIES:Perinatal Loss Support
ORGANIZER;CN="The Compassionate Friends Staff":MAILTO:info@tcfwenatcheevalley.org
GEO:47.4232287;-120.3359288
X-APPLE-STRUCTURED-LOCATION;VALUE=URI;X-ADDRESS=Grace Lutheran Church 1408 Washington St. Wenatchee WA 98801 United States;X-APPLE-RADIUS=500;X-TITLE=1408 Washington St.:geo:-120.3359288,47.4232287
END:VEVENT
END:VCALENDAR