BEGIN:VCALENDAR
VERSION:2.0
PRODID:-//Perinatal Support Washington - ECPv6.15.20//NONSGML v1.0//EN
CALSCALE:GREGORIAN
METHOD:PUBLISH
X-ORIGINAL-URL:https://perinatalsupport.org
X-WR-CALDESC:Events for Perinatal Support Washington
REFRESH-INTERVAL;VALUE=DURATION:PT1H
X-Robots-Tag:noindex
X-PUBLISHED-TTL:PT1H
BEGIN:VTIMEZONE
TZID:America/Vancouver
BEGIN:DAYLIGHT
TZOFFSETFROM:-0800
TZOFFSETTO:-0700
TZNAME:PDT
DTSTART:20270314T100000
END:DAYLIGHT
BEGIN:STANDARD
TZOFFSETFROM:-0700
TZOFFSETTO:-0800
TZNAME:PST
DTSTART:20271107T090000
END:STANDARD
BEGIN:DAYLIGHT
TZOFFSETFROM:-0800
TZOFFSETTO:-0700
TZNAME:PDT
DTSTART:20280312T100000
END:DAYLIGHT
BEGIN:STANDARD
TZOFFSETFROM:-0700
TZOFFSETTO:-0800
TZNAME:PST
DTSTART:20281105T090000
END:STANDARD
BEGIN:DAYLIGHT
TZOFFSETFROM:-0800
TZOFFSETTO:-0700
TZNAME:PDT
DTSTART:20290311T100000
END:DAYLIGHT
BEGIN:STANDARD
TZOFFSETFROM:-0700
TZOFFSETTO:-0800
TZNAME:PST
DTSTART:20291104T090000
END:STANDARD
END:VTIMEZONE
BEGIN:VEVENT
DTSTART;TZID=America/Vancouver:20280322T110000
DTEND;TZID=America/Vancouver:20280322T120000
DTSTAMP:20260422T094351
CREATED:20211215T222157Z
LAST-MODIFIED:20240702T201133Z
UID:10021037-1837335600-1837339200@perinatalsupport.org
SUMMARY:Entre Mamás
DESCRIPTION:Un grupo para mujeres embarazadas o mujeres que tienen niños menor de 6 años. \nHorario: Todos los Miércoles \nDirección: 1750 Calawah Way\, 27C Forks\, WA 98331\n*El cuarto de comunidad cerca de las lavadoras* \nContacto: 360-912-1455
URL:https://perinatalsupport.org/event/entre-mamas/2028-03-22/
LOCATION:1750 Calawah Way\, 1750 Calawah Way\, 27C\, Forks\, WA\, 98331\, United States
CATEGORIES:BIPOC,Clallam,Latinx,Spanish,Support Group
GEO:47.9549709;-124.3559339
X-APPLE-STRUCTURED-LOCATION;VALUE=URI;X-ADDRESS=1750 Calawah Way 1750 Calawah Way 27C Forks WA 98331 United States;X-APPLE-RADIUS=500;X-TITLE=1750 Calawah Way\, 27C:geo:-124.3559339,47.9549709
END:VEVENT
BEGIN:VEVENT
DTSTART;TZID=America/Vancouver:20280329T110000
DTEND;TZID=America/Vancouver:20280329T120000
DTSTAMP:20260422T094351
CREATED:20211215T222157Z
LAST-MODIFIED:20240702T201133Z
UID:10021038-1837940400-1837944000@perinatalsupport.org
SUMMARY:Entre Mamás
DESCRIPTION:Un grupo para mujeres embarazadas o mujeres que tienen niños menor de 6 años. \nHorario: Todos los Miércoles \nDirección: 1750 Calawah Way\, 27C Forks\, WA 98331\n*El cuarto de comunidad cerca de las lavadoras* \nContacto: 360-912-1455
URL:https://perinatalsupport.org/event/entre-mamas/2028-03-29/
LOCATION:1750 Calawah Way\, 1750 Calawah Way\, 27C\, Forks\, WA\, 98331\, United States
CATEGORIES:BIPOC,Clallam,Latinx,Spanish,Support Group
GEO:47.9549709;-124.3559339
X-APPLE-STRUCTURED-LOCATION;VALUE=URI;X-ADDRESS=1750 Calawah Way 1750 Calawah Way 27C Forks WA 98331 United States;X-APPLE-RADIUS=500;X-TITLE=1750 Calawah Way\, 27C:geo:-124.3559339,47.9549709
END:VEVENT
BEGIN:VEVENT
DTSTART;TZID=America/Vancouver:20280405T110000
DTEND;TZID=America/Vancouver:20280405T120000
DTSTAMP:20260422T094351
CREATED:20211215T222157Z
LAST-MODIFIED:20240702T201133Z
UID:10021039-1838545200-1838548800@perinatalsupport.org
SUMMARY:Entre Mamás
DESCRIPTION:Un grupo para mujeres embarazadas o mujeres que tienen niños menor de 6 años. \nHorario: Todos los Miércoles \nDirección: 1750 Calawah Way\, 27C Forks\, WA 98331\n*El cuarto de comunidad cerca de las lavadoras* \nContacto: 360-912-1455
URL:https://perinatalsupport.org/event/entre-mamas/2028-04-05/
LOCATION:1750 Calawah Way\, 1750 Calawah Way\, 27C\, Forks\, WA\, 98331\, United States
CATEGORIES:BIPOC,Clallam,Latinx,Spanish,Support Group
GEO:47.9549709;-124.3559339
X-APPLE-STRUCTURED-LOCATION;VALUE=URI;X-ADDRESS=1750 Calawah Way 1750 Calawah Way 27C Forks WA 98331 United States;X-APPLE-RADIUS=500;X-TITLE=1750 Calawah Way\, 27C:geo:-124.3559339,47.9549709
END:VEVENT
BEGIN:VEVENT
DTSTART;TZID=America/Vancouver:20280412T110000
DTEND;TZID=America/Vancouver:20280412T120000
DTSTAMP:20260422T094351
CREATED:20211215T222157Z
LAST-MODIFIED:20240702T201133Z
UID:10021040-1839150000-1839153600@perinatalsupport.org
SUMMARY:Entre Mamás
DESCRIPTION:Un grupo para mujeres embarazadas o mujeres que tienen niños menor de 6 años. \nHorario: Todos los Miércoles \nDirección: 1750 Calawah Way\, 27C Forks\, WA 98331\n*El cuarto de comunidad cerca de las lavadoras* \nContacto: 360-912-1455
URL:https://perinatalsupport.org/event/entre-mamas/2028-04-12/
LOCATION:1750 Calawah Way\, 1750 Calawah Way\, 27C\, Forks\, WA\, 98331\, United States
CATEGORIES:BIPOC,Clallam,Latinx,Spanish,Support Group
GEO:47.9549709;-124.3559339
X-APPLE-STRUCTURED-LOCATION;VALUE=URI;X-ADDRESS=1750 Calawah Way 1750 Calawah Way 27C Forks WA 98331 United States;X-APPLE-RADIUS=500;X-TITLE=1750 Calawah Way\, 27C:geo:-124.3559339,47.9549709
END:VEVENT
BEGIN:VEVENT
DTSTART;TZID=America/Vancouver:20280419T110000
DTEND;TZID=America/Vancouver:20280419T120000
DTSTAMP:20260422T094351
CREATED:20211215T222157Z
LAST-MODIFIED:20240702T201133Z
UID:10021041-1839754800-1839758400@perinatalsupport.org
SUMMARY:Entre Mamás
DESCRIPTION:Un grupo para mujeres embarazadas o mujeres que tienen niños menor de 6 años. \nHorario: Todos los Miércoles \nDirección: 1750 Calawah Way\, 27C Forks\, WA 98331\n*El cuarto de comunidad cerca de las lavadoras* \nContacto: 360-912-1455
URL:https://perinatalsupport.org/event/entre-mamas/2028-04-19/
LOCATION:1750 Calawah Way\, 1750 Calawah Way\, 27C\, Forks\, WA\, 98331\, United States
CATEGORIES:BIPOC,Clallam,Latinx,Spanish,Support Group
GEO:47.9549709;-124.3559339
X-APPLE-STRUCTURED-LOCATION;VALUE=URI;X-ADDRESS=1750 Calawah Way 1750 Calawah Way 27C Forks WA 98331 United States;X-APPLE-RADIUS=500;X-TITLE=1750 Calawah Way\, 27C:geo:-124.3559339,47.9549709
END:VEVENT
BEGIN:VEVENT
DTSTART;TZID=America/Vancouver:20280426T110000
DTEND;TZID=America/Vancouver:20280426T120000
DTSTAMP:20260422T094351
CREATED:20211215T222157Z
LAST-MODIFIED:20240702T201133Z
UID:10021042-1840359600-1840363200@perinatalsupport.org
SUMMARY:Entre Mamás
DESCRIPTION:Un grupo para mujeres embarazadas o mujeres que tienen niños menor de 6 años. \nHorario: Todos los Miércoles \nDirección: 1750 Calawah Way\, 27C Forks\, WA 98331\n*El cuarto de comunidad cerca de las lavadoras* \nContacto: 360-912-1455
URL:https://perinatalsupport.org/event/entre-mamas/2028-04-26/
LOCATION:1750 Calawah Way\, 1750 Calawah Way\, 27C\, Forks\, WA\, 98331\, United States
CATEGORIES:BIPOC,Clallam,Latinx,Spanish,Support Group
GEO:47.9549709;-124.3559339
X-APPLE-STRUCTURED-LOCATION;VALUE=URI;X-ADDRESS=1750 Calawah Way 1750 Calawah Way 27C Forks WA 98331 United States;X-APPLE-RADIUS=500;X-TITLE=1750 Calawah Way\, 27C:geo:-124.3559339,47.9549709
END:VEVENT
BEGIN:VEVENT
DTSTART;TZID=America/Vancouver:20280503T110000
DTEND;TZID=America/Vancouver:20280503T120000
DTSTAMP:20260422T094351
CREATED:20211215T222157Z
LAST-MODIFIED:20240702T201133Z
UID:10021043-1840964400-1840968000@perinatalsupport.org
SUMMARY:Entre Mamás
DESCRIPTION:Un grupo para mujeres embarazadas o mujeres que tienen niños menor de 6 años. \nHorario: Todos los Miércoles \nDirección: 1750 Calawah Way\, 27C Forks\, WA 98331\n*El cuarto de comunidad cerca de las lavadoras* \nContacto: 360-912-1455
URL:https://perinatalsupport.org/event/entre-mamas/2028-05-03/
LOCATION:1750 Calawah Way\, 1750 Calawah Way\, 27C\, Forks\, WA\, 98331\, United States
CATEGORIES:BIPOC,Clallam,Latinx,Spanish,Support Group
GEO:47.9549709;-124.3559339
X-APPLE-STRUCTURED-LOCATION;VALUE=URI;X-ADDRESS=1750 Calawah Way 1750 Calawah Way 27C Forks WA 98331 United States;X-APPLE-RADIUS=500;X-TITLE=1750 Calawah Way\, 27C:geo:-124.3559339,47.9549709
END:VEVENT
BEGIN:VEVENT
DTSTART;TZID=America/Vancouver:20280510T110000
DTEND;TZID=America/Vancouver:20280510T120000
DTSTAMP:20260422T094351
CREATED:20211215T222157Z
LAST-MODIFIED:20240702T201133Z
UID:10021044-1841569200-1841572800@perinatalsupport.org
SUMMARY:Entre Mamás
DESCRIPTION:Un grupo para mujeres embarazadas o mujeres que tienen niños menor de 6 años. \nHorario: Todos los Miércoles \nDirección: 1750 Calawah Way\, 27C Forks\, WA 98331\n*El cuarto de comunidad cerca de las lavadoras* \nContacto: 360-912-1455
URL:https://perinatalsupport.org/event/entre-mamas/2028-05-10/
LOCATION:1750 Calawah Way\, 1750 Calawah Way\, 27C\, Forks\, WA\, 98331\, United States
CATEGORIES:BIPOC,Clallam,Latinx,Spanish,Support Group
GEO:47.9549709;-124.3559339
X-APPLE-STRUCTURED-LOCATION;VALUE=URI;X-ADDRESS=1750 Calawah Way 1750 Calawah Way 27C Forks WA 98331 United States;X-APPLE-RADIUS=500;X-TITLE=1750 Calawah Way\, 27C:geo:-124.3559339,47.9549709
END:VEVENT
BEGIN:VEVENT
DTSTART;TZID=America/Vancouver:20280517T110000
DTEND;TZID=America/Vancouver:20280517T120000
DTSTAMP:20260422T094351
CREATED:20211215T222157Z
LAST-MODIFIED:20240702T201133Z
UID:10021045-1842174000-1842177600@perinatalsupport.org
SUMMARY:Entre Mamás
DESCRIPTION:Un grupo para mujeres embarazadas o mujeres que tienen niños menor de 6 años. \nHorario: Todos los Miércoles \nDirección: 1750 Calawah Way\, 27C Forks\, WA 98331\n*El cuarto de comunidad cerca de las lavadoras* \nContacto: 360-912-1455
URL:https://perinatalsupport.org/event/entre-mamas/2028-05-17/
LOCATION:1750 Calawah Way\, 1750 Calawah Way\, 27C\, Forks\, WA\, 98331\, United States
CATEGORIES:BIPOC,Clallam,Latinx,Spanish,Support Group
GEO:47.9549709;-124.3559339
X-APPLE-STRUCTURED-LOCATION;VALUE=URI;X-ADDRESS=1750 Calawah Way 1750 Calawah Way 27C Forks WA 98331 United States;X-APPLE-RADIUS=500;X-TITLE=1750 Calawah Way\, 27C:geo:-124.3559339,47.9549709
END:VEVENT
BEGIN:VEVENT
DTSTART;TZID=America/Vancouver:20280524T110000
DTEND;TZID=America/Vancouver:20280524T120000
DTSTAMP:20260422T094351
CREATED:20211215T222157Z
LAST-MODIFIED:20240702T201133Z
UID:10021046-1842778800-1842782400@perinatalsupport.org
SUMMARY:Entre Mamás
DESCRIPTION:Un grupo para mujeres embarazadas o mujeres que tienen niños menor de 6 años. \nHorario: Todos los Miércoles \nDirección: 1750 Calawah Way\, 27C Forks\, WA 98331\n*El cuarto de comunidad cerca de las lavadoras* \nContacto: 360-912-1455
URL:https://perinatalsupport.org/event/entre-mamas/2028-05-24/
LOCATION:1750 Calawah Way\, 1750 Calawah Way\, 27C\, Forks\, WA\, 98331\, United States
CATEGORIES:BIPOC,Clallam,Latinx,Spanish,Support Group
GEO:47.9549709;-124.3559339
X-APPLE-STRUCTURED-LOCATION;VALUE=URI;X-ADDRESS=1750 Calawah Way 1750 Calawah Way 27C Forks WA 98331 United States;X-APPLE-RADIUS=500;X-TITLE=1750 Calawah Way\, 27C:geo:-124.3559339,47.9549709
END:VEVENT
BEGIN:VEVENT
DTSTART;TZID=America/Vancouver:20280531T110000
DTEND;TZID=America/Vancouver:20280531T120000
DTSTAMP:20260422T094351
CREATED:20211215T222157Z
LAST-MODIFIED:20240702T201133Z
UID:10021047-1843383600-1843387200@perinatalsupport.org
SUMMARY:Entre Mamás
DESCRIPTION:Un grupo para mujeres embarazadas o mujeres que tienen niños menor de 6 años. \nHorario: Todos los Miércoles \nDirección: 1750 Calawah Way\, 27C Forks\, WA 98331\n*El cuarto de comunidad cerca de las lavadoras* \nContacto: 360-912-1455
URL:https://perinatalsupport.org/event/entre-mamas/2028-05-31/
LOCATION:1750 Calawah Way\, 1750 Calawah Way\, 27C\, Forks\, WA\, 98331\, United States
CATEGORIES:BIPOC,Clallam,Latinx,Spanish,Support Group
GEO:47.9549709;-124.3559339
X-APPLE-STRUCTURED-LOCATION;VALUE=URI;X-ADDRESS=1750 Calawah Way 1750 Calawah Way 27C Forks WA 98331 United States;X-APPLE-RADIUS=500;X-TITLE=1750 Calawah Way\, 27C:geo:-124.3559339,47.9549709
END:VEVENT
BEGIN:VEVENT
DTSTART;TZID=America/Vancouver:20280607T110000
DTEND;TZID=America/Vancouver:20280607T120000
DTSTAMP:20260422T094351
CREATED:20211215T222157Z
LAST-MODIFIED:20240702T201133Z
UID:10021048-1843988400-1843992000@perinatalsupport.org
SUMMARY:Entre Mamás
DESCRIPTION:Un grupo para mujeres embarazadas o mujeres que tienen niños menor de 6 años. \nHorario: Todos los Miércoles \nDirección: 1750 Calawah Way\, 27C Forks\, WA 98331\n*El cuarto de comunidad cerca de las lavadoras* \nContacto: 360-912-1455
URL:https://perinatalsupport.org/event/entre-mamas/2028-06-07/
LOCATION:1750 Calawah Way\, 1750 Calawah Way\, 27C\, Forks\, WA\, 98331\, United States
CATEGORIES:BIPOC,Clallam,Latinx,Spanish,Support Group
GEO:47.9549709;-124.3559339
X-APPLE-STRUCTURED-LOCATION;VALUE=URI;X-ADDRESS=1750 Calawah Way 1750 Calawah Way 27C Forks WA 98331 United States;X-APPLE-RADIUS=500;X-TITLE=1750 Calawah Way\, 27C:geo:-124.3559339,47.9549709
END:VEVENT
BEGIN:VEVENT
DTSTART;TZID=America/Vancouver:20280614T110000
DTEND;TZID=America/Vancouver:20280614T120000
DTSTAMP:20260422T094351
CREATED:20211215T222157Z
LAST-MODIFIED:20240702T201133Z
UID:10021049-1844593200-1844596800@perinatalsupport.org
SUMMARY:Entre Mamás
DESCRIPTION:Un grupo para mujeres embarazadas o mujeres que tienen niños menor de 6 años. \nHorario: Todos los Miércoles \nDirección: 1750 Calawah Way\, 27C Forks\, WA 98331\n*El cuarto de comunidad cerca de las lavadoras* \nContacto: 360-912-1455
URL:https://perinatalsupport.org/event/entre-mamas/2028-06-14/
LOCATION:1750 Calawah Way\, 1750 Calawah Way\, 27C\, Forks\, WA\, 98331\, United States
CATEGORIES:BIPOC,Clallam,Latinx,Spanish,Support Group
GEO:47.9549709;-124.3559339
X-APPLE-STRUCTURED-LOCATION;VALUE=URI;X-ADDRESS=1750 Calawah Way 1750 Calawah Way 27C Forks WA 98331 United States;X-APPLE-RADIUS=500;X-TITLE=1750 Calawah Way\, 27C:geo:-124.3559339,47.9549709
END:VEVENT
BEGIN:VEVENT
DTSTART;TZID=America/Vancouver:20280621T110000
DTEND;TZID=America/Vancouver:20280621T120000
DTSTAMP:20260422T094351
CREATED:20211215T222157Z
LAST-MODIFIED:20240702T201133Z
UID:10021050-1845198000-1845201600@perinatalsupport.org
SUMMARY:Entre Mamás
DESCRIPTION:Un grupo para mujeres embarazadas o mujeres que tienen niños menor de 6 años. \nHorario: Todos los Miércoles \nDirección: 1750 Calawah Way\, 27C Forks\, WA 98331\n*El cuarto de comunidad cerca de las lavadoras* \nContacto: 360-912-1455
URL:https://perinatalsupport.org/event/entre-mamas/2028-06-21/
LOCATION:1750 Calawah Way\, 1750 Calawah Way\, 27C\, Forks\, WA\, 98331\, United States
CATEGORIES:BIPOC,Clallam,Latinx,Spanish,Support Group
GEO:47.9549709;-124.3559339
X-APPLE-STRUCTURED-LOCATION;VALUE=URI;X-ADDRESS=1750 Calawah Way 1750 Calawah Way 27C Forks WA 98331 United States;X-APPLE-RADIUS=500;X-TITLE=1750 Calawah Way\, 27C:geo:-124.3559339,47.9549709
END:VEVENT
BEGIN:VEVENT
DTSTART;TZID=America/Vancouver:20280628T110000
DTEND;TZID=America/Vancouver:20280628T120000
DTSTAMP:20260422T094351
CREATED:20211215T222157Z
LAST-MODIFIED:20240702T201133Z
UID:10021051-1845802800-1845806400@perinatalsupport.org
SUMMARY:Entre Mamás
DESCRIPTION:Un grupo para mujeres embarazadas o mujeres que tienen niños menor de 6 años. \nHorario: Todos los Miércoles \nDirección: 1750 Calawah Way\, 27C Forks\, WA 98331\n*El cuarto de comunidad cerca de las lavadoras* \nContacto: 360-912-1455
URL:https://perinatalsupport.org/event/entre-mamas/2028-06-28/
LOCATION:1750 Calawah Way\, 1750 Calawah Way\, 27C\, Forks\, WA\, 98331\, United States
CATEGORIES:BIPOC,Clallam,Latinx,Spanish,Support Group
GEO:47.9549709;-124.3559339
X-APPLE-STRUCTURED-LOCATION;VALUE=URI;X-ADDRESS=1750 Calawah Way 1750 Calawah Way 27C Forks WA 98331 United States;X-APPLE-RADIUS=500;X-TITLE=1750 Calawah Way\, 27C:geo:-124.3559339,47.9549709
END:VEVENT
BEGIN:VEVENT
DTSTART;TZID=America/Vancouver:20280705T110000
DTEND;TZID=America/Vancouver:20280705T120000
DTSTAMP:20260422T094351
CREATED:20211215T222157Z
LAST-MODIFIED:20240702T201133Z
UID:10021052-1846407600-1846411200@perinatalsupport.org
SUMMARY:Entre Mamás
DESCRIPTION:Un grupo para mujeres embarazadas o mujeres que tienen niños menor de 6 años. \nHorario: Todos los Miércoles \nDirección: 1750 Calawah Way\, 27C Forks\, WA 98331\n*El cuarto de comunidad cerca de las lavadoras* \nContacto: 360-912-1455
URL:https://perinatalsupport.org/event/entre-mamas/2028-07-05/
LOCATION:1750 Calawah Way\, 1750 Calawah Way\, 27C\, Forks\, WA\, 98331\, United States
CATEGORIES:BIPOC,Clallam,Latinx,Spanish,Support Group
GEO:47.9549709;-124.3559339
X-APPLE-STRUCTURED-LOCATION;VALUE=URI;X-ADDRESS=1750 Calawah Way 1750 Calawah Way 27C Forks WA 98331 United States;X-APPLE-RADIUS=500;X-TITLE=1750 Calawah Way\, 27C:geo:-124.3559339,47.9549709
END:VEVENT
BEGIN:VEVENT
DTSTART;TZID=America/Vancouver:20280712T110000
DTEND;TZID=America/Vancouver:20280712T120000
DTSTAMP:20260422T094351
CREATED:20211215T222157Z
LAST-MODIFIED:20240702T201133Z
UID:10021053-1847012400-1847016000@perinatalsupport.org
SUMMARY:Entre Mamás
DESCRIPTION:Un grupo para mujeres embarazadas o mujeres que tienen niños menor de 6 años. \nHorario: Todos los Miércoles \nDirección: 1750 Calawah Way\, 27C Forks\, WA 98331\n*El cuarto de comunidad cerca de las lavadoras* \nContacto: 360-912-1455
URL:https://perinatalsupport.org/event/entre-mamas/2028-07-12/
LOCATION:1750 Calawah Way\, 1750 Calawah Way\, 27C\, Forks\, WA\, 98331\, United States
CATEGORIES:BIPOC,Clallam,Latinx,Spanish,Support Group
GEO:47.9549709;-124.3559339
X-APPLE-STRUCTURED-LOCATION;VALUE=URI;X-ADDRESS=1750 Calawah Way 1750 Calawah Way 27C Forks WA 98331 United States;X-APPLE-RADIUS=500;X-TITLE=1750 Calawah Way\, 27C:geo:-124.3559339,47.9549709
END:VEVENT
BEGIN:VEVENT
DTSTART;TZID=America/Vancouver:20280719T110000
DTEND;TZID=America/Vancouver:20280719T120000
DTSTAMP:20260422T094351
CREATED:20211215T222157Z
LAST-MODIFIED:20240702T201133Z
UID:10021054-1847617200-1847620800@perinatalsupport.org
SUMMARY:Entre Mamás
DESCRIPTION:Un grupo para mujeres embarazadas o mujeres que tienen niños menor de 6 años. \nHorario: Todos los Miércoles \nDirección: 1750 Calawah Way\, 27C Forks\, WA 98331\n*El cuarto de comunidad cerca de las lavadoras* \nContacto: 360-912-1455
URL:https://perinatalsupport.org/event/entre-mamas/2028-07-19/
LOCATION:1750 Calawah Way\, 1750 Calawah Way\, 27C\, Forks\, WA\, 98331\, United States
CATEGORIES:BIPOC,Clallam,Latinx,Spanish,Support Group
GEO:47.9549709;-124.3559339
X-APPLE-STRUCTURED-LOCATION;VALUE=URI;X-ADDRESS=1750 Calawah Way 1750 Calawah Way 27C Forks WA 98331 United States;X-APPLE-RADIUS=500;X-TITLE=1750 Calawah Way\, 27C:geo:-124.3559339,47.9549709
END:VEVENT
BEGIN:VEVENT
DTSTART;TZID=America/Vancouver:20280726T110000
DTEND;TZID=America/Vancouver:20280726T120000
DTSTAMP:20260422T094351
CREATED:20211215T222157Z
LAST-MODIFIED:20240702T201133Z
UID:10021055-1848222000-1848225600@perinatalsupport.org
SUMMARY:Entre Mamás
DESCRIPTION:Un grupo para mujeres embarazadas o mujeres que tienen niños menor de 6 años. \nHorario: Todos los Miércoles \nDirección: 1750 Calawah Way\, 27C Forks\, WA 98331\n*El cuarto de comunidad cerca de las lavadoras* \nContacto: 360-912-1455
URL:https://perinatalsupport.org/event/entre-mamas/2028-07-26/
LOCATION:1750 Calawah Way\, 1750 Calawah Way\, 27C\, Forks\, WA\, 98331\, United States
CATEGORIES:BIPOC,Clallam,Latinx,Spanish,Support Group
GEO:47.9549709;-124.3559339
X-APPLE-STRUCTURED-LOCATION;VALUE=URI;X-ADDRESS=1750 Calawah Way 1750 Calawah Way 27C Forks WA 98331 United States;X-APPLE-RADIUS=500;X-TITLE=1750 Calawah Way\, 27C:geo:-124.3559339,47.9549709
END:VEVENT
BEGIN:VEVENT
DTSTART;TZID=America/Vancouver:20280802T110000
DTEND;TZID=America/Vancouver:20280802T120000
DTSTAMP:20260422T094351
CREATED:20211215T222157Z
LAST-MODIFIED:20240702T201133Z
UID:10021056-1848826800-1848830400@perinatalsupport.org
SUMMARY:Entre Mamás
DESCRIPTION:Un grupo para mujeres embarazadas o mujeres que tienen niños menor de 6 años. \nHorario: Todos los Miércoles \nDirección: 1750 Calawah Way\, 27C Forks\, WA 98331\n*El cuarto de comunidad cerca de las lavadoras* \nContacto: 360-912-1455
URL:https://perinatalsupport.org/event/entre-mamas/2028-08-02/
LOCATION:1750 Calawah Way\, 1750 Calawah Way\, 27C\, Forks\, WA\, 98331\, United States
CATEGORIES:BIPOC,Clallam,Latinx,Spanish,Support Group
GEO:47.9549709;-124.3559339
X-APPLE-STRUCTURED-LOCATION;VALUE=URI;X-ADDRESS=1750 Calawah Way 1750 Calawah Way 27C Forks WA 98331 United States;X-APPLE-RADIUS=500;X-TITLE=1750 Calawah Way\, 27C:geo:-124.3559339,47.9549709
END:VEVENT
BEGIN:VEVENT
DTSTART;TZID=America/Vancouver:20280809T110000
DTEND;TZID=America/Vancouver:20280809T120000
DTSTAMP:20260422T094351
CREATED:20211215T222157Z
LAST-MODIFIED:20240702T201133Z
UID:10021057-1849431600-1849435200@perinatalsupport.org
SUMMARY:Entre Mamás
DESCRIPTION:Un grupo para mujeres embarazadas o mujeres que tienen niños menor de 6 años. \nHorario: Todos los Miércoles \nDirección: 1750 Calawah Way\, 27C Forks\, WA 98331\n*El cuarto de comunidad cerca de las lavadoras* \nContacto: 360-912-1455
URL:https://perinatalsupport.org/event/entre-mamas/2028-08-09/
LOCATION:1750 Calawah Way\, 1750 Calawah Way\, 27C\, Forks\, WA\, 98331\, United States
CATEGORIES:BIPOC,Clallam,Latinx,Spanish,Support Group
GEO:47.9549709;-124.3559339
X-APPLE-STRUCTURED-LOCATION;VALUE=URI;X-ADDRESS=1750 Calawah Way 1750 Calawah Way 27C Forks WA 98331 United States;X-APPLE-RADIUS=500;X-TITLE=1750 Calawah Way\, 27C:geo:-124.3559339,47.9549709
END:VEVENT
BEGIN:VEVENT
DTSTART;TZID=America/Vancouver:20280816T110000
DTEND;TZID=America/Vancouver:20280816T120000
DTSTAMP:20260422T094351
CREATED:20211215T222157Z
LAST-MODIFIED:20240702T201133Z
UID:10021058-1850036400-1850040000@perinatalsupport.org
SUMMARY:Entre Mamás
DESCRIPTION:Un grupo para mujeres embarazadas o mujeres que tienen niños menor de 6 años. \nHorario: Todos los Miércoles \nDirección: 1750 Calawah Way\, 27C Forks\, WA 98331\n*El cuarto de comunidad cerca de las lavadoras* \nContacto: 360-912-1455
URL:https://perinatalsupport.org/event/entre-mamas/2028-08-16/
LOCATION:1750 Calawah Way\, 1750 Calawah Way\, 27C\, Forks\, WA\, 98331\, United States
CATEGORIES:BIPOC,Clallam,Latinx,Spanish,Support Group
GEO:47.9549709;-124.3559339
X-APPLE-STRUCTURED-LOCATION;VALUE=URI;X-ADDRESS=1750 Calawah Way 1750 Calawah Way 27C Forks WA 98331 United States;X-APPLE-RADIUS=500;X-TITLE=1750 Calawah Way\, 27C:geo:-124.3559339,47.9549709
END:VEVENT
BEGIN:VEVENT
DTSTART;TZID=America/Vancouver:20280823T110000
DTEND;TZID=America/Vancouver:20280823T120000
DTSTAMP:20260422T094351
CREATED:20211215T222157Z
LAST-MODIFIED:20240702T201133Z
UID:10021059-1850641200-1850644800@perinatalsupport.org
SUMMARY:Entre Mamás
DESCRIPTION:Un grupo para mujeres embarazadas o mujeres que tienen niños menor de 6 años. \nHorario: Todos los Miércoles \nDirección: 1750 Calawah Way\, 27C Forks\, WA 98331\n*El cuarto de comunidad cerca de las lavadoras* \nContacto: 360-912-1455
URL:https://perinatalsupport.org/event/entre-mamas/2028-08-23/
LOCATION:1750 Calawah Way\, 1750 Calawah Way\, 27C\, Forks\, WA\, 98331\, United States
CATEGORIES:BIPOC,Clallam,Latinx,Spanish,Support Group
GEO:47.9549709;-124.3559339
X-APPLE-STRUCTURED-LOCATION;VALUE=URI;X-ADDRESS=1750 Calawah Way 1750 Calawah Way 27C Forks WA 98331 United States;X-APPLE-RADIUS=500;X-TITLE=1750 Calawah Way\, 27C:geo:-124.3559339,47.9549709
END:VEVENT
BEGIN:VEVENT
DTSTART;TZID=America/Vancouver:20280830T110000
DTEND;TZID=America/Vancouver:20280830T120000
DTSTAMP:20260422T094351
CREATED:20211215T222157Z
LAST-MODIFIED:20240702T201133Z
UID:10021060-1851246000-1851249600@perinatalsupport.org
SUMMARY:Entre Mamás
DESCRIPTION:Un grupo para mujeres embarazadas o mujeres que tienen niños menor de 6 años. \nHorario: Todos los Miércoles \nDirección: 1750 Calawah Way\, 27C Forks\, WA 98331\n*El cuarto de comunidad cerca de las lavadoras* \nContacto: 360-912-1455
URL:https://perinatalsupport.org/event/entre-mamas/2028-08-30/
LOCATION:1750 Calawah Way\, 1750 Calawah Way\, 27C\, Forks\, WA\, 98331\, United States
CATEGORIES:BIPOC,Clallam,Latinx,Spanish,Support Group
GEO:47.9549709;-124.3559339
X-APPLE-STRUCTURED-LOCATION;VALUE=URI;X-ADDRESS=1750 Calawah Way 1750 Calawah Way 27C Forks WA 98331 United States;X-APPLE-RADIUS=500;X-TITLE=1750 Calawah Way\, 27C:geo:-124.3559339,47.9549709
END:VEVENT
BEGIN:VEVENT
DTSTART;TZID=America/Vancouver:20280906T110000
DTEND;TZID=America/Vancouver:20280906T120000
DTSTAMP:20260422T094351
CREATED:20211215T222157Z
LAST-MODIFIED:20240702T201133Z
UID:10021061-1851850800-1851854400@perinatalsupport.org
SUMMARY:Entre Mamás
DESCRIPTION:Un grupo para mujeres embarazadas o mujeres que tienen niños menor de 6 años. \nHorario: Todos los Miércoles \nDirección: 1750 Calawah Way\, 27C Forks\, WA 98331\n*El cuarto de comunidad cerca de las lavadoras* \nContacto: 360-912-1455
URL:https://perinatalsupport.org/event/entre-mamas/2028-09-06/
LOCATION:1750 Calawah Way\, 1750 Calawah Way\, 27C\, Forks\, WA\, 98331\, United States
CATEGORIES:BIPOC,Clallam,Latinx,Spanish,Support Group
GEO:47.9549709;-124.3559339
X-APPLE-STRUCTURED-LOCATION;VALUE=URI;X-ADDRESS=1750 Calawah Way 1750 Calawah Way 27C Forks WA 98331 United States;X-APPLE-RADIUS=500;X-TITLE=1750 Calawah Way\, 27C:geo:-124.3559339,47.9549709
END:VEVENT
BEGIN:VEVENT
DTSTART;TZID=America/Vancouver:20280913T110000
DTEND;TZID=America/Vancouver:20280913T120000
DTSTAMP:20260422T094351
CREATED:20211215T222157Z
LAST-MODIFIED:20240702T201133Z
UID:10021062-1852455600-1852459200@perinatalsupport.org
SUMMARY:Entre Mamás
DESCRIPTION:Un grupo para mujeres embarazadas o mujeres que tienen niños menor de 6 años. \nHorario: Todos los Miércoles \nDirección: 1750 Calawah Way\, 27C Forks\, WA 98331\n*El cuarto de comunidad cerca de las lavadoras* \nContacto: 360-912-1455
URL:https://perinatalsupport.org/event/entre-mamas/2028-09-13/
LOCATION:1750 Calawah Way\, 1750 Calawah Way\, 27C\, Forks\, WA\, 98331\, United States
CATEGORIES:BIPOC,Clallam,Latinx,Spanish,Support Group
GEO:47.9549709;-124.3559339
X-APPLE-STRUCTURED-LOCATION;VALUE=URI;X-ADDRESS=1750 Calawah Way 1750 Calawah Way 27C Forks WA 98331 United States;X-APPLE-RADIUS=500;X-TITLE=1750 Calawah Way\, 27C:geo:-124.3559339,47.9549709
END:VEVENT
BEGIN:VEVENT
DTSTART;TZID=America/Vancouver:20280920T110000
DTEND;TZID=America/Vancouver:20280920T120000
DTSTAMP:20260422T094351
CREATED:20211215T222157Z
LAST-MODIFIED:20240702T201133Z
UID:10021063-1853060400-1853064000@perinatalsupport.org
SUMMARY:Entre Mamás
DESCRIPTION:Un grupo para mujeres embarazadas o mujeres que tienen niños menor de 6 años. \nHorario: Todos los Miércoles \nDirección: 1750 Calawah Way\, 27C Forks\, WA 98331\n*El cuarto de comunidad cerca de las lavadoras* \nContacto: 360-912-1455
URL:https://perinatalsupport.org/event/entre-mamas/2028-09-20/
LOCATION:1750 Calawah Way\, 1750 Calawah Way\, 27C\, Forks\, WA\, 98331\, United States
CATEGORIES:BIPOC,Clallam,Latinx,Spanish,Support Group
GEO:47.9549709;-124.3559339
X-APPLE-STRUCTURED-LOCATION;VALUE=URI;X-ADDRESS=1750 Calawah Way 1750 Calawah Way 27C Forks WA 98331 United States;X-APPLE-RADIUS=500;X-TITLE=1750 Calawah Way\, 27C:geo:-124.3559339,47.9549709
END:VEVENT
BEGIN:VEVENT
DTSTART;TZID=America/Vancouver:20280927T110000
DTEND;TZID=America/Vancouver:20280927T120000
DTSTAMP:20260422T094351
CREATED:20211215T222157Z
LAST-MODIFIED:20240702T201133Z
UID:10021064-1853665200-1853668800@perinatalsupport.org
SUMMARY:Entre Mamás
DESCRIPTION:Un grupo para mujeres embarazadas o mujeres que tienen niños menor de 6 años. \nHorario: Todos los Miércoles \nDirección: 1750 Calawah Way\, 27C Forks\, WA 98331\n*El cuarto de comunidad cerca de las lavadoras* \nContacto: 360-912-1455
URL:https://perinatalsupport.org/event/entre-mamas/2028-09-27/
LOCATION:1750 Calawah Way\, 1750 Calawah Way\, 27C\, Forks\, WA\, 98331\, United States
CATEGORIES:BIPOC,Clallam,Latinx,Spanish,Support Group
GEO:47.9549709;-124.3559339
X-APPLE-STRUCTURED-LOCATION;VALUE=URI;X-ADDRESS=1750 Calawah Way 1750 Calawah Way 27C Forks WA 98331 United States;X-APPLE-RADIUS=500;X-TITLE=1750 Calawah Way\, 27C:geo:-124.3559339,47.9549709
END:VEVENT
BEGIN:VEVENT
DTSTART;TZID=America/Vancouver:20281004T110000
DTEND;TZID=America/Vancouver:20281004T120000
DTSTAMP:20260422T094351
CREATED:20211215T222157Z
LAST-MODIFIED:20240702T201133Z
UID:10021065-1854270000-1854273600@perinatalsupport.org
SUMMARY:Entre Mamás
DESCRIPTION:Un grupo para mujeres embarazadas o mujeres que tienen niños menor de 6 años. \nHorario: Todos los Miércoles \nDirección: 1750 Calawah Way\, 27C Forks\, WA 98331\n*El cuarto de comunidad cerca de las lavadoras* \nContacto: 360-912-1455
URL:https://perinatalsupport.org/event/entre-mamas/2028-10-04/
LOCATION:1750 Calawah Way\, 1750 Calawah Way\, 27C\, Forks\, WA\, 98331\, United States
CATEGORIES:BIPOC,Clallam,Latinx,Spanish,Support Group
GEO:47.9549709;-124.3559339
X-APPLE-STRUCTURED-LOCATION;VALUE=URI;X-ADDRESS=1750 Calawah Way 1750 Calawah Way 27C Forks WA 98331 United States;X-APPLE-RADIUS=500;X-TITLE=1750 Calawah Way\, 27C:geo:-124.3559339,47.9549709
END:VEVENT
BEGIN:VEVENT
DTSTART;TZID=America/Vancouver:20281011T110000
DTEND;TZID=America/Vancouver:20281011T120000
DTSTAMP:20260422T094351
CREATED:20211215T222157Z
LAST-MODIFIED:20240702T201133Z
UID:10021066-1854874800-1854878400@perinatalsupport.org
SUMMARY:Entre Mamás
DESCRIPTION:Un grupo para mujeres embarazadas o mujeres que tienen niños menor de 6 años. \nHorario: Todos los Miércoles \nDirección: 1750 Calawah Way\, 27C Forks\, WA 98331\n*El cuarto de comunidad cerca de las lavadoras* \nContacto: 360-912-1455
URL:https://perinatalsupport.org/event/entre-mamas/2028-10-11/
LOCATION:1750 Calawah Way\, 1750 Calawah Way\, 27C\, Forks\, WA\, 98331\, United States
CATEGORIES:BIPOC,Clallam,Latinx,Spanish,Support Group
GEO:47.9549709;-124.3559339
X-APPLE-STRUCTURED-LOCATION;VALUE=URI;X-ADDRESS=1750 Calawah Way 1750 Calawah Way 27C Forks WA 98331 United States;X-APPLE-RADIUS=500;X-TITLE=1750 Calawah Way\, 27C:geo:-124.3559339,47.9549709
END:VEVENT
END:VCALENDAR