BEGIN:VCALENDAR
VERSION:2.0
PRODID:-//Perinatal Support Washington - ECPv6.15.20//NONSGML v1.0//EN
CALSCALE:GREGORIAN
METHOD:PUBLISH
X-ORIGINAL-URL:https://perinatalsupport.org
X-WR-CALDESC:Events for Perinatal Support Washington
REFRESH-INTERVAL;VALUE=DURATION:PT1H
X-Robots-Tag:noindex
X-PUBLISHED-TTL:PT1H
BEGIN:VTIMEZONE
TZID:America/Vancouver
BEGIN:DAYLIGHT
TZOFFSETFROM:-0800
TZOFFSETTO:-0700
TZNAME:PDT
DTSTART:20260308T100000
END:DAYLIGHT
BEGIN:STANDARD
TZOFFSETFROM:-0700
TZOFFSETTO:-0800
TZNAME:PST
DTSTART:20261101T090000
END:STANDARD
BEGIN:DAYLIGHT
TZOFFSETFROM:-0800
TZOFFSETTO:-0700
TZNAME:PDT
DTSTART:20270314T100000
END:DAYLIGHT
BEGIN:STANDARD
TZOFFSETFROM:-0700
TZOFFSETTO:-0800
TZNAME:PST
DTSTART:20271107T090000
END:STANDARD
BEGIN:DAYLIGHT
TZOFFSETFROM:-0800
TZOFFSETTO:-0700
TZNAME:PDT
DTSTART:20280312T100000
END:DAYLIGHT
BEGIN:STANDARD
TZOFFSETFROM:-0700
TZOFFSETTO:-0800
TZNAME:PST
DTSTART:20281105T090000
END:STANDARD
END:VTIMEZONE
BEGIN:VEVENT
DTSTART;TZID=America/Vancouver:20270127T110000
DTEND;TZID=America/Vancouver:20270127T120000
DTSTAMP:20260421T085940
CREATED:20211215T222157Z
LAST-MODIFIED:20240702T201133Z
UID:10020977-1801047600-1801051200@perinatalsupport.org
SUMMARY:Entre Mamás
DESCRIPTION:Un grupo para mujeres embarazadas o mujeres que tienen niños menor de 6 años. \nHorario: Todos los Miércoles \nDirección: 1750 Calawah Way\, 27C Forks\, WA 98331\n*El cuarto de comunidad cerca de las lavadoras* \nContacto: 360-912-1455
URL:https://perinatalsupport.org/event/entre-mamas/2027-01-27/
LOCATION:1750 Calawah Way\, 1750 Calawah Way\, 27C\, Forks\, WA\, 98331\, United States
CATEGORIES:BIPOC,Clallam,Latinx,Spanish,Support Group
GEO:47.9549709;-124.3559339
X-APPLE-STRUCTURED-LOCATION;VALUE=URI;X-ADDRESS=1750 Calawah Way 1750 Calawah Way 27C Forks WA 98331 United States;X-APPLE-RADIUS=500;X-TITLE=1750 Calawah Way\, 27C:geo:-124.3559339,47.9549709
END:VEVENT
BEGIN:VEVENT
DTSTART;TZID=America/Vancouver:20270203T110000
DTEND;TZID=America/Vancouver:20270203T120000
DTSTAMP:20260421T085940
CREATED:20211215T222157Z
LAST-MODIFIED:20240702T201133Z
UID:10020978-1801652400-1801656000@perinatalsupport.org
SUMMARY:Entre Mamás
DESCRIPTION:Un grupo para mujeres embarazadas o mujeres que tienen niños menor de 6 años. \nHorario: Todos los Miércoles \nDirección: 1750 Calawah Way\, 27C Forks\, WA 98331\n*El cuarto de comunidad cerca de las lavadoras* \nContacto: 360-912-1455
URL:https://perinatalsupport.org/event/entre-mamas/2027-02-03/
LOCATION:1750 Calawah Way\, 1750 Calawah Way\, 27C\, Forks\, WA\, 98331\, United States
CATEGORIES:BIPOC,Clallam,Latinx,Spanish,Support Group
GEO:47.9549709;-124.3559339
X-APPLE-STRUCTURED-LOCATION;VALUE=URI;X-ADDRESS=1750 Calawah Way 1750 Calawah Way 27C Forks WA 98331 United States;X-APPLE-RADIUS=500;X-TITLE=1750 Calawah Way\, 27C:geo:-124.3559339,47.9549709
END:VEVENT
BEGIN:VEVENT
DTSTART;TZID=America/Vancouver:20270210T110000
DTEND;TZID=America/Vancouver:20270210T120000
DTSTAMP:20260421T085940
CREATED:20211215T222157Z
LAST-MODIFIED:20240702T201133Z
UID:10020979-1802257200-1802260800@perinatalsupport.org
SUMMARY:Entre Mamás
DESCRIPTION:Un grupo para mujeres embarazadas o mujeres que tienen niños menor de 6 años. \nHorario: Todos los Miércoles \nDirección: 1750 Calawah Way\, 27C Forks\, WA 98331\n*El cuarto de comunidad cerca de las lavadoras* \nContacto: 360-912-1455
URL:https://perinatalsupport.org/event/entre-mamas/2027-02-10/
LOCATION:1750 Calawah Way\, 1750 Calawah Way\, 27C\, Forks\, WA\, 98331\, United States
CATEGORIES:BIPOC,Clallam,Latinx,Spanish,Support Group
GEO:47.9549709;-124.3559339
X-APPLE-STRUCTURED-LOCATION;VALUE=URI;X-ADDRESS=1750 Calawah Way 1750 Calawah Way 27C Forks WA 98331 United States;X-APPLE-RADIUS=500;X-TITLE=1750 Calawah Way\, 27C:geo:-124.3559339,47.9549709
END:VEVENT
BEGIN:VEVENT
DTSTART;TZID=America/Vancouver:20270217T110000
DTEND;TZID=America/Vancouver:20270217T120000
DTSTAMP:20260421T085940
CREATED:20211215T222157Z
LAST-MODIFIED:20240702T201133Z
UID:10020980-1802862000-1802865600@perinatalsupport.org
SUMMARY:Entre Mamás
DESCRIPTION:Un grupo para mujeres embarazadas o mujeres que tienen niños menor de 6 años. \nHorario: Todos los Miércoles \nDirección: 1750 Calawah Way\, 27C Forks\, WA 98331\n*El cuarto de comunidad cerca de las lavadoras* \nContacto: 360-912-1455
URL:https://perinatalsupport.org/event/entre-mamas/2027-02-17/
LOCATION:1750 Calawah Way\, 1750 Calawah Way\, 27C\, Forks\, WA\, 98331\, United States
CATEGORIES:BIPOC,Clallam,Latinx,Spanish,Support Group
GEO:47.9549709;-124.3559339
X-APPLE-STRUCTURED-LOCATION;VALUE=URI;X-ADDRESS=1750 Calawah Way 1750 Calawah Way 27C Forks WA 98331 United States;X-APPLE-RADIUS=500;X-TITLE=1750 Calawah Way\, 27C:geo:-124.3559339,47.9549709
END:VEVENT
BEGIN:VEVENT
DTSTART;TZID=America/Vancouver:20270224T110000
DTEND;TZID=America/Vancouver:20270224T120000
DTSTAMP:20260421T085940
CREATED:20211215T222157Z
LAST-MODIFIED:20240702T201133Z
UID:10020981-1803466800-1803470400@perinatalsupport.org
SUMMARY:Entre Mamás
DESCRIPTION:Un grupo para mujeres embarazadas o mujeres que tienen niños menor de 6 años. \nHorario: Todos los Miércoles \nDirección: 1750 Calawah Way\, 27C Forks\, WA 98331\n*El cuarto de comunidad cerca de las lavadoras* \nContacto: 360-912-1455
URL:https://perinatalsupport.org/event/entre-mamas/2027-02-24/
LOCATION:1750 Calawah Way\, 1750 Calawah Way\, 27C\, Forks\, WA\, 98331\, United States
CATEGORIES:BIPOC,Clallam,Latinx,Spanish,Support Group
GEO:47.9549709;-124.3559339
X-APPLE-STRUCTURED-LOCATION;VALUE=URI;X-ADDRESS=1750 Calawah Way 1750 Calawah Way 27C Forks WA 98331 United States;X-APPLE-RADIUS=500;X-TITLE=1750 Calawah Way\, 27C:geo:-124.3559339,47.9549709
END:VEVENT
BEGIN:VEVENT
DTSTART;TZID=America/Vancouver:20270303T110000
DTEND;TZID=America/Vancouver:20270303T120000
DTSTAMP:20260421T085940
CREATED:20211215T222157Z
LAST-MODIFIED:20240702T201133Z
UID:10020982-1804071600-1804075200@perinatalsupport.org
SUMMARY:Entre Mamás
DESCRIPTION:Un grupo para mujeres embarazadas o mujeres que tienen niños menor de 6 años. \nHorario: Todos los Miércoles \nDirección: 1750 Calawah Way\, 27C Forks\, WA 98331\n*El cuarto de comunidad cerca de las lavadoras* \nContacto: 360-912-1455
URL:https://perinatalsupport.org/event/entre-mamas/2027-03-03/
LOCATION:1750 Calawah Way\, 1750 Calawah Way\, 27C\, Forks\, WA\, 98331\, United States
CATEGORIES:BIPOC,Clallam,Latinx,Spanish,Support Group
GEO:47.9549709;-124.3559339
X-APPLE-STRUCTURED-LOCATION;VALUE=URI;X-ADDRESS=1750 Calawah Way 1750 Calawah Way 27C Forks WA 98331 United States;X-APPLE-RADIUS=500;X-TITLE=1750 Calawah Way\, 27C:geo:-124.3559339,47.9549709
END:VEVENT
BEGIN:VEVENT
DTSTART;TZID=America/Vancouver:20270310T110000
DTEND;TZID=America/Vancouver:20270310T120000
DTSTAMP:20260421T085940
CREATED:20211215T222157Z
LAST-MODIFIED:20240702T201133Z
UID:10020983-1804676400-1804680000@perinatalsupport.org
SUMMARY:Entre Mamás
DESCRIPTION:Un grupo para mujeres embarazadas o mujeres que tienen niños menor de 6 años. \nHorario: Todos los Miércoles \nDirección: 1750 Calawah Way\, 27C Forks\, WA 98331\n*El cuarto de comunidad cerca de las lavadoras* \nContacto: 360-912-1455
URL:https://perinatalsupport.org/event/entre-mamas/2027-03-10/
LOCATION:1750 Calawah Way\, 1750 Calawah Way\, 27C\, Forks\, WA\, 98331\, United States
CATEGORIES:BIPOC,Clallam,Latinx,Spanish,Support Group
GEO:47.9549709;-124.3559339
X-APPLE-STRUCTURED-LOCATION;VALUE=URI;X-ADDRESS=1750 Calawah Way 1750 Calawah Way 27C Forks WA 98331 United States;X-APPLE-RADIUS=500;X-TITLE=1750 Calawah Way\, 27C:geo:-124.3559339,47.9549709
END:VEVENT
BEGIN:VEVENT
DTSTART;TZID=America/Vancouver:20270317T110000
DTEND;TZID=America/Vancouver:20270317T120000
DTSTAMP:20260421T085940
CREATED:20211215T222157Z
LAST-MODIFIED:20240702T201133Z
UID:10020984-1805281200-1805284800@perinatalsupport.org
SUMMARY:Entre Mamás
DESCRIPTION:Un grupo para mujeres embarazadas o mujeres que tienen niños menor de 6 años. \nHorario: Todos los Miércoles \nDirección: 1750 Calawah Way\, 27C Forks\, WA 98331\n*El cuarto de comunidad cerca de las lavadoras* \nContacto: 360-912-1455
URL:https://perinatalsupport.org/event/entre-mamas/2027-03-17/
LOCATION:1750 Calawah Way\, 1750 Calawah Way\, 27C\, Forks\, WA\, 98331\, United States
CATEGORIES:BIPOC,Clallam,Latinx,Spanish,Support Group
GEO:47.9549709;-124.3559339
X-APPLE-STRUCTURED-LOCATION;VALUE=URI;X-ADDRESS=1750 Calawah Way 1750 Calawah Way 27C Forks WA 98331 United States;X-APPLE-RADIUS=500;X-TITLE=1750 Calawah Way\, 27C:geo:-124.3559339,47.9549709
END:VEVENT
BEGIN:VEVENT
DTSTART;TZID=America/Vancouver:20270324T110000
DTEND;TZID=America/Vancouver:20270324T120000
DTSTAMP:20260421T085940
CREATED:20211215T222157Z
LAST-MODIFIED:20240702T201133Z
UID:10020985-1805886000-1805889600@perinatalsupport.org
SUMMARY:Entre Mamás
DESCRIPTION:Un grupo para mujeres embarazadas o mujeres que tienen niños menor de 6 años. \nHorario: Todos los Miércoles \nDirección: 1750 Calawah Way\, 27C Forks\, WA 98331\n*El cuarto de comunidad cerca de las lavadoras* \nContacto: 360-912-1455
URL:https://perinatalsupport.org/event/entre-mamas/2027-03-24/
LOCATION:1750 Calawah Way\, 1750 Calawah Way\, 27C\, Forks\, WA\, 98331\, United States
CATEGORIES:BIPOC,Clallam,Latinx,Spanish,Support Group
GEO:47.9549709;-124.3559339
X-APPLE-STRUCTURED-LOCATION;VALUE=URI;X-ADDRESS=1750 Calawah Way 1750 Calawah Way 27C Forks WA 98331 United States;X-APPLE-RADIUS=500;X-TITLE=1750 Calawah Way\, 27C:geo:-124.3559339,47.9549709
END:VEVENT
BEGIN:VEVENT
DTSTART;TZID=America/Vancouver:20270331T110000
DTEND;TZID=America/Vancouver:20270331T120000
DTSTAMP:20260421T085940
CREATED:20211215T222157Z
LAST-MODIFIED:20240702T201133Z
UID:10020986-1806490800-1806494400@perinatalsupport.org
SUMMARY:Entre Mamás
DESCRIPTION:Un grupo para mujeres embarazadas o mujeres que tienen niños menor de 6 años. \nHorario: Todos los Miércoles \nDirección: 1750 Calawah Way\, 27C Forks\, WA 98331\n*El cuarto de comunidad cerca de las lavadoras* \nContacto: 360-912-1455
URL:https://perinatalsupport.org/event/entre-mamas/2027-03-31/
LOCATION:1750 Calawah Way\, 1750 Calawah Way\, 27C\, Forks\, WA\, 98331\, United States
CATEGORIES:BIPOC,Clallam,Latinx,Spanish,Support Group
GEO:47.9549709;-124.3559339
X-APPLE-STRUCTURED-LOCATION;VALUE=URI;X-ADDRESS=1750 Calawah Way 1750 Calawah Way 27C Forks WA 98331 United States;X-APPLE-RADIUS=500;X-TITLE=1750 Calawah Way\, 27C:geo:-124.3559339,47.9549709
END:VEVENT
BEGIN:VEVENT
DTSTART;TZID=America/Vancouver:20270407T110000
DTEND;TZID=America/Vancouver:20270407T120000
DTSTAMP:20260421T085940
CREATED:20211215T222157Z
LAST-MODIFIED:20240702T201133Z
UID:10020987-1807095600-1807099200@perinatalsupport.org
SUMMARY:Entre Mamás
DESCRIPTION:Un grupo para mujeres embarazadas o mujeres que tienen niños menor de 6 años. \nHorario: Todos los Miércoles \nDirección: 1750 Calawah Way\, 27C Forks\, WA 98331\n*El cuarto de comunidad cerca de las lavadoras* \nContacto: 360-912-1455
URL:https://perinatalsupport.org/event/entre-mamas/2027-04-07/
LOCATION:1750 Calawah Way\, 1750 Calawah Way\, 27C\, Forks\, WA\, 98331\, United States
CATEGORIES:BIPOC,Clallam,Latinx,Spanish,Support Group
GEO:47.9549709;-124.3559339
X-APPLE-STRUCTURED-LOCATION;VALUE=URI;X-ADDRESS=1750 Calawah Way 1750 Calawah Way 27C Forks WA 98331 United States;X-APPLE-RADIUS=500;X-TITLE=1750 Calawah Way\, 27C:geo:-124.3559339,47.9549709
END:VEVENT
BEGIN:VEVENT
DTSTART;TZID=America/Vancouver:20270414T110000
DTEND;TZID=America/Vancouver:20270414T120000
DTSTAMP:20260421T085940
CREATED:20211215T222157Z
LAST-MODIFIED:20240702T201133Z
UID:10020988-1807700400-1807704000@perinatalsupport.org
SUMMARY:Entre Mamás
DESCRIPTION:Un grupo para mujeres embarazadas o mujeres que tienen niños menor de 6 años. \nHorario: Todos los Miércoles \nDirección: 1750 Calawah Way\, 27C Forks\, WA 98331\n*El cuarto de comunidad cerca de las lavadoras* \nContacto: 360-912-1455
URL:https://perinatalsupport.org/event/entre-mamas/2027-04-14/
LOCATION:1750 Calawah Way\, 1750 Calawah Way\, 27C\, Forks\, WA\, 98331\, United States
CATEGORIES:BIPOC,Clallam,Latinx,Spanish,Support Group
GEO:47.9549709;-124.3559339
X-APPLE-STRUCTURED-LOCATION;VALUE=URI;X-ADDRESS=1750 Calawah Way 1750 Calawah Way 27C Forks WA 98331 United States;X-APPLE-RADIUS=500;X-TITLE=1750 Calawah Way\, 27C:geo:-124.3559339,47.9549709
END:VEVENT
BEGIN:VEVENT
DTSTART;TZID=America/Vancouver:20270421T110000
DTEND;TZID=America/Vancouver:20270421T120000
DTSTAMP:20260421T085940
CREATED:20211215T222157Z
LAST-MODIFIED:20240702T201133Z
UID:10020989-1808305200-1808308800@perinatalsupport.org
SUMMARY:Entre Mamás
DESCRIPTION:Un grupo para mujeres embarazadas o mujeres que tienen niños menor de 6 años. \nHorario: Todos los Miércoles \nDirección: 1750 Calawah Way\, 27C Forks\, WA 98331\n*El cuarto de comunidad cerca de las lavadoras* \nContacto: 360-912-1455
URL:https://perinatalsupport.org/event/entre-mamas/2027-04-21/
LOCATION:1750 Calawah Way\, 1750 Calawah Way\, 27C\, Forks\, WA\, 98331\, United States
CATEGORIES:BIPOC,Clallam,Latinx,Spanish,Support Group
GEO:47.9549709;-124.3559339
X-APPLE-STRUCTURED-LOCATION;VALUE=URI;X-ADDRESS=1750 Calawah Way 1750 Calawah Way 27C Forks WA 98331 United States;X-APPLE-RADIUS=500;X-TITLE=1750 Calawah Way\, 27C:geo:-124.3559339,47.9549709
END:VEVENT
BEGIN:VEVENT
DTSTART;TZID=America/Vancouver:20270428T110000
DTEND;TZID=America/Vancouver:20270428T120000
DTSTAMP:20260421T085940
CREATED:20211215T222157Z
LAST-MODIFIED:20240702T201133Z
UID:10020990-1808910000-1808913600@perinatalsupport.org
SUMMARY:Entre Mamás
DESCRIPTION:Un grupo para mujeres embarazadas o mujeres que tienen niños menor de 6 años. \nHorario: Todos los Miércoles \nDirección: 1750 Calawah Way\, 27C Forks\, WA 98331\n*El cuarto de comunidad cerca de las lavadoras* \nContacto: 360-912-1455
URL:https://perinatalsupport.org/event/entre-mamas/2027-04-28/
LOCATION:1750 Calawah Way\, 1750 Calawah Way\, 27C\, Forks\, WA\, 98331\, United States
CATEGORIES:BIPOC,Clallam,Latinx,Spanish,Support Group
GEO:47.9549709;-124.3559339
X-APPLE-STRUCTURED-LOCATION;VALUE=URI;X-ADDRESS=1750 Calawah Way 1750 Calawah Way 27C Forks WA 98331 United States;X-APPLE-RADIUS=500;X-TITLE=1750 Calawah Way\, 27C:geo:-124.3559339,47.9549709
END:VEVENT
BEGIN:VEVENT
DTSTART;TZID=America/Vancouver:20270505T110000
DTEND;TZID=America/Vancouver:20270505T120000
DTSTAMP:20260421T085940
CREATED:20211215T222157Z
LAST-MODIFIED:20240702T201133Z
UID:10020991-1809514800-1809518400@perinatalsupport.org
SUMMARY:Entre Mamás
DESCRIPTION:Un grupo para mujeres embarazadas o mujeres que tienen niños menor de 6 años. \nHorario: Todos los Miércoles \nDirección: 1750 Calawah Way\, 27C Forks\, WA 98331\n*El cuarto de comunidad cerca de las lavadoras* \nContacto: 360-912-1455
URL:https://perinatalsupport.org/event/entre-mamas/2027-05-05/
LOCATION:1750 Calawah Way\, 1750 Calawah Way\, 27C\, Forks\, WA\, 98331\, United States
CATEGORIES:BIPOC,Clallam,Latinx,Spanish,Support Group
GEO:47.9549709;-124.3559339
X-APPLE-STRUCTURED-LOCATION;VALUE=URI;X-ADDRESS=1750 Calawah Way 1750 Calawah Way 27C Forks WA 98331 United States;X-APPLE-RADIUS=500;X-TITLE=1750 Calawah Way\, 27C:geo:-124.3559339,47.9549709
END:VEVENT
BEGIN:VEVENT
DTSTART;TZID=America/Vancouver:20270512T110000
DTEND;TZID=America/Vancouver:20270512T120000
DTSTAMP:20260421T085940
CREATED:20211215T222157Z
LAST-MODIFIED:20240702T201133Z
UID:10020992-1810119600-1810123200@perinatalsupport.org
SUMMARY:Entre Mamás
DESCRIPTION:Un grupo para mujeres embarazadas o mujeres que tienen niños menor de 6 años. \nHorario: Todos los Miércoles \nDirección: 1750 Calawah Way\, 27C Forks\, WA 98331\n*El cuarto de comunidad cerca de las lavadoras* \nContacto: 360-912-1455
URL:https://perinatalsupport.org/event/entre-mamas/2027-05-12/
LOCATION:1750 Calawah Way\, 1750 Calawah Way\, 27C\, Forks\, WA\, 98331\, United States
CATEGORIES:BIPOC,Clallam,Latinx,Spanish,Support Group
GEO:47.9549709;-124.3559339
X-APPLE-STRUCTURED-LOCATION;VALUE=URI;X-ADDRESS=1750 Calawah Way 1750 Calawah Way 27C Forks WA 98331 United States;X-APPLE-RADIUS=500;X-TITLE=1750 Calawah Way\, 27C:geo:-124.3559339,47.9549709
END:VEVENT
BEGIN:VEVENT
DTSTART;TZID=America/Vancouver:20270519T110000
DTEND;TZID=America/Vancouver:20270519T120000
DTSTAMP:20260421T085940
CREATED:20211215T222157Z
LAST-MODIFIED:20240702T201133Z
UID:10020993-1810724400-1810728000@perinatalsupport.org
SUMMARY:Entre Mamás
DESCRIPTION:Un grupo para mujeres embarazadas o mujeres que tienen niños menor de 6 años. \nHorario: Todos los Miércoles \nDirección: 1750 Calawah Way\, 27C Forks\, WA 98331\n*El cuarto de comunidad cerca de las lavadoras* \nContacto: 360-912-1455
URL:https://perinatalsupport.org/event/entre-mamas/2027-05-19/
LOCATION:1750 Calawah Way\, 1750 Calawah Way\, 27C\, Forks\, WA\, 98331\, United States
CATEGORIES:BIPOC,Clallam,Latinx,Spanish,Support Group
GEO:47.9549709;-124.3559339
X-APPLE-STRUCTURED-LOCATION;VALUE=URI;X-ADDRESS=1750 Calawah Way 1750 Calawah Way 27C Forks WA 98331 United States;X-APPLE-RADIUS=500;X-TITLE=1750 Calawah Way\, 27C:geo:-124.3559339,47.9549709
END:VEVENT
BEGIN:VEVENT
DTSTART;TZID=America/Vancouver:20270526T110000
DTEND;TZID=America/Vancouver:20270526T120000
DTSTAMP:20260421T085940
CREATED:20211215T222157Z
LAST-MODIFIED:20240702T201133Z
UID:10020994-1811329200-1811332800@perinatalsupport.org
SUMMARY:Entre Mamás
DESCRIPTION:Un grupo para mujeres embarazadas o mujeres que tienen niños menor de 6 años. \nHorario: Todos los Miércoles \nDirección: 1750 Calawah Way\, 27C Forks\, WA 98331\n*El cuarto de comunidad cerca de las lavadoras* \nContacto: 360-912-1455
URL:https://perinatalsupport.org/event/entre-mamas/2027-05-26/
LOCATION:1750 Calawah Way\, 1750 Calawah Way\, 27C\, Forks\, WA\, 98331\, United States
CATEGORIES:BIPOC,Clallam,Latinx,Spanish,Support Group
GEO:47.9549709;-124.3559339
X-APPLE-STRUCTURED-LOCATION;VALUE=URI;X-ADDRESS=1750 Calawah Way 1750 Calawah Way 27C Forks WA 98331 United States;X-APPLE-RADIUS=500;X-TITLE=1750 Calawah Way\, 27C:geo:-124.3559339,47.9549709
END:VEVENT
BEGIN:VEVENT
DTSTART;TZID=America/Vancouver:20270602T110000
DTEND;TZID=America/Vancouver:20270602T120000
DTSTAMP:20260421T085940
CREATED:20211215T222157Z
LAST-MODIFIED:20240702T201133Z
UID:10020995-1811934000-1811937600@perinatalsupport.org
SUMMARY:Entre Mamás
DESCRIPTION:Un grupo para mujeres embarazadas o mujeres que tienen niños menor de 6 años. \nHorario: Todos los Miércoles \nDirección: 1750 Calawah Way\, 27C Forks\, WA 98331\n*El cuarto de comunidad cerca de las lavadoras* \nContacto: 360-912-1455
URL:https://perinatalsupport.org/event/entre-mamas/2027-06-02/
LOCATION:1750 Calawah Way\, 1750 Calawah Way\, 27C\, Forks\, WA\, 98331\, United States
CATEGORIES:BIPOC,Clallam,Latinx,Spanish,Support Group
GEO:47.9549709;-124.3559339
X-APPLE-STRUCTURED-LOCATION;VALUE=URI;X-ADDRESS=1750 Calawah Way 1750 Calawah Way 27C Forks WA 98331 United States;X-APPLE-RADIUS=500;X-TITLE=1750 Calawah Way\, 27C:geo:-124.3559339,47.9549709
END:VEVENT
BEGIN:VEVENT
DTSTART;TZID=America/Vancouver:20270609T110000
DTEND;TZID=America/Vancouver:20270609T120000
DTSTAMP:20260421T085940
CREATED:20211215T222157Z
LAST-MODIFIED:20240702T201133Z
UID:10020996-1812538800-1812542400@perinatalsupport.org
SUMMARY:Entre Mamás
DESCRIPTION:Un grupo para mujeres embarazadas o mujeres que tienen niños menor de 6 años. \nHorario: Todos los Miércoles \nDirección: 1750 Calawah Way\, 27C Forks\, WA 98331\n*El cuarto de comunidad cerca de las lavadoras* \nContacto: 360-912-1455
URL:https://perinatalsupport.org/event/entre-mamas/2027-06-09/
LOCATION:1750 Calawah Way\, 1750 Calawah Way\, 27C\, Forks\, WA\, 98331\, United States
CATEGORIES:BIPOC,Clallam,Latinx,Spanish,Support Group
GEO:47.9549709;-124.3559339
X-APPLE-STRUCTURED-LOCATION;VALUE=URI;X-ADDRESS=1750 Calawah Way 1750 Calawah Way 27C Forks WA 98331 United States;X-APPLE-RADIUS=500;X-TITLE=1750 Calawah Way\, 27C:geo:-124.3559339,47.9549709
END:VEVENT
BEGIN:VEVENT
DTSTART;TZID=America/Vancouver:20270616T110000
DTEND;TZID=America/Vancouver:20270616T120000
DTSTAMP:20260421T085940
CREATED:20211215T222157Z
LAST-MODIFIED:20240702T201133Z
UID:10020997-1813143600-1813147200@perinatalsupport.org
SUMMARY:Entre Mamás
DESCRIPTION:Un grupo para mujeres embarazadas o mujeres que tienen niños menor de 6 años. \nHorario: Todos los Miércoles \nDirección: 1750 Calawah Way\, 27C Forks\, WA 98331\n*El cuarto de comunidad cerca de las lavadoras* \nContacto: 360-912-1455
URL:https://perinatalsupport.org/event/entre-mamas/2027-06-16/
LOCATION:1750 Calawah Way\, 1750 Calawah Way\, 27C\, Forks\, WA\, 98331\, United States
CATEGORIES:BIPOC,Clallam,Latinx,Spanish,Support Group
GEO:47.9549709;-124.3559339
X-APPLE-STRUCTURED-LOCATION;VALUE=URI;X-ADDRESS=1750 Calawah Way 1750 Calawah Way 27C Forks WA 98331 United States;X-APPLE-RADIUS=500;X-TITLE=1750 Calawah Way\, 27C:geo:-124.3559339,47.9549709
END:VEVENT
BEGIN:VEVENT
DTSTART;TZID=America/Vancouver:20270623T110000
DTEND;TZID=America/Vancouver:20270623T120000
DTSTAMP:20260421T085940
CREATED:20211215T222157Z
LAST-MODIFIED:20240702T201133Z
UID:10020998-1813748400-1813752000@perinatalsupport.org
SUMMARY:Entre Mamás
DESCRIPTION:Un grupo para mujeres embarazadas o mujeres que tienen niños menor de 6 años. \nHorario: Todos los Miércoles \nDirección: 1750 Calawah Way\, 27C Forks\, WA 98331\n*El cuarto de comunidad cerca de las lavadoras* \nContacto: 360-912-1455
URL:https://perinatalsupport.org/event/entre-mamas/2027-06-23/
LOCATION:1750 Calawah Way\, 1750 Calawah Way\, 27C\, Forks\, WA\, 98331\, United States
CATEGORIES:BIPOC,Clallam,Latinx,Spanish,Support Group
GEO:47.9549709;-124.3559339
X-APPLE-STRUCTURED-LOCATION;VALUE=URI;X-ADDRESS=1750 Calawah Way 1750 Calawah Way 27C Forks WA 98331 United States;X-APPLE-RADIUS=500;X-TITLE=1750 Calawah Way\, 27C:geo:-124.3559339,47.9549709
END:VEVENT
BEGIN:VEVENT
DTSTART;TZID=America/Vancouver:20270630T110000
DTEND;TZID=America/Vancouver:20270630T120000
DTSTAMP:20260421T085940
CREATED:20211215T222157Z
LAST-MODIFIED:20240702T201133Z
UID:10020999-1814353200-1814356800@perinatalsupport.org
SUMMARY:Entre Mamás
DESCRIPTION:Un grupo para mujeres embarazadas o mujeres que tienen niños menor de 6 años. \nHorario: Todos los Miércoles \nDirección: 1750 Calawah Way\, 27C Forks\, WA 98331\n*El cuarto de comunidad cerca de las lavadoras* \nContacto: 360-912-1455
URL:https://perinatalsupport.org/event/entre-mamas/2027-06-30/
LOCATION:1750 Calawah Way\, 1750 Calawah Way\, 27C\, Forks\, WA\, 98331\, United States
CATEGORIES:BIPOC,Clallam,Latinx,Spanish,Support Group
GEO:47.9549709;-124.3559339
X-APPLE-STRUCTURED-LOCATION;VALUE=URI;X-ADDRESS=1750 Calawah Way 1750 Calawah Way 27C Forks WA 98331 United States;X-APPLE-RADIUS=500;X-TITLE=1750 Calawah Way\, 27C:geo:-124.3559339,47.9549709
END:VEVENT
BEGIN:VEVENT
DTSTART;TZID=America/Vancouver:20270707T110000
DTEND;TZID=America/Vancouver:20270707T120000
DTSTAMP:20260421T085940
CREATED:20211215T222157Z
LAST-MODIFIED:20240702T201133Z
UID:10021000-1814958000-1814961600@perinatalsupport.org
SUMMARY:Entre Mamás
DESCRIPTION:Un grupo para mujeres embarazadas o mujeres que tienen niños menor de 6 años. \nHorario: Todos los Miércoles \nDirección: 1750 Calawah Way\, 27C Forks\, WA 98331\n*El cuarto de comunidad cerca de las lavadoras* \nContacto: 360-912-1455
URL:https://perinatalsupport.org/event/entre-mamas/2027-07-07/
LOCATION:1750 Calawah Way\, 1750 Calawah Way\, 27C\, Forks\, WA\, 98331\, United States
CATEGORIES:BIPOC,Clallam,Latinx,Spanish,Support Group
GEO:47.9549709;-124.3559339
X-APPLE-STRUCTURED-LOCATION;VALUE=URI;X-ADDRESS=1750 Calawah Way 1750 Calawah Way 27C Forks WA 98331 United States;X-APPLE-RADIUS=500;X-TITLE=1750 Calawah Way\, 27C:geo:-124.3559339,47.9549709
END:VEVENT
BEGIN:VEVENT
DTSTART;TZID=America/Vancouver:20270714T110000
DTEND;TZID=America/Vancouver:20270714T120000
DTSTAMP:20260421T085940
CREATED:20211215T222157Z
LAST-MODIFIED:20240702T201133Z
UID:10021001-1815562800-1815566400@perinatalsupport.org
SUMMARY:Entre Mamás
DESCRIPTION:Un grupo para mujeres embarazadas o mujeres que tienen niños menor de 6 años. \nHorario: Todos los Miércoles \nDirección: 1750 Calawah Way\, 27C Forks\, WA 98331\n*El cuarto de comunidad cerca de las lavadoras* \nContacto: 360-912-1455
URL:https://perinatalsupport.org/event/entre-mamas/2027-07-14/
LOCATION:1750 Calawah Way\, 1750 Calawah Way\, 27C\, Forks\, WA\, 98331\, United States
CATEGORIES:BIPOC,Clallam,Latinx,Spanish,Support Group
GEO:47.9549709;-124.3559339
X-APPLE-STRUCTURED-LOCATION;VALUE=URI;X-ADDRESS=1750 Calawah Way 1750 Calawah Way 27C Forks WA 98331 United States;X-APPLE-RADIUS=500;X-TITLE=1750 Calawah Way\, 27C:geo:-124.3559339,47.9549709
END:VEVENT
BEGIN:VEVENT
DTSTART;TZID=America/Vancouver:20270721T110000
DTEND;TZID=America/Vancouver:20270721T120000
DTSTAMP:20260421T085940
CREATED:20211215T222157Z
LAST-MODIFIED:20240702T201133Z
UID:10021002-1816167600-1816171200@perinatalsupport.org
SUMMARY:Entre Mamás
DESCRIPTION:Un grupo para mujeres embarazadas o mujeres que tienen niños menor de 6 años. \nHorario: Todos los Miércoles \nDirección: 1750 Calawah Way\, 27C Forks\, WA 98331\n*El cuarto de comunidad cerca de las lavadoras* \nContacto: 360-912-1455
URL:https://perinatalsupport.org/event/entre-mamas/2027-07-21/
LOCATION:1750 Calawah Way\, 1750 Calawah Way\, 27C\, Forks\, WA\, 98331\, United States
CATEGORIES:BIPOC,Clallam,Latinx,Spanish,Support Group
GEO:47.9549709;-124.3559339
X-APPLE-STRUCTURED-LOCATION;VALUE=URI;X-ADDRESS=1750 Calawah Way 1750 Calawah Way 27C Forks WA 98331 United States;X-APPLE-RADIUS=500;X-TITLE=1750 Calawah Way\, 27C:geo:-124.3559339,47.9549709
END:VEVENT
BEGIN:VEVENT
DTSTART;TZID=America/Vancouver:20270728T110000
DTEND;TZID=America/Vancouver:20270728T120000
DTSTAMP:20260421T085940
CREATED:20211215T222157Z
LAST-MODIFIED:20240702T201133Z
UID:10021003-1816772400-1816776000@perinatalsupport.org
SUMMARY:Entre Mamás
DESCRIPTION:Un grupo para mujeres embarazadas o mujeres que tienen niños menor de 6 años. \nHorario: Todos los Miércoles \nDirección: 1750 Calawah Way\, 27C Forks\, WA 98331\n*El cuarto de comunidad cerca de las lavadoras* \nContacto: 360-912-1455
URL:https://perinatalsupport.org/event/entre-mamas/2027-07-28/
LOCATION:1750 Calawah Way\, 1750 Calawah Way\, 27C\, Forks\, WA\, 98331\, United States
CATEGORIES:BIPOC,Clallam,Latinx,Spanish,Support Group
GEO:47.9549709;-124.3559339
X-APPLE-STRUCTURED-LOCATION;VALUE=URI;X-ADDRESS=1750 Calawah Way 1750 Calawah Way 27C Forks WA 98331 United States;X-APPLE-RADIUS=500;X-TITLE=1750 Calawah Way\, 27C:geo:-124.3559339,47.9549709
END:VEVENT
BEGIN:VEVENT
DTSTART;TZID=America/Vancouver:20270804T110000
DTEND;TZID=America/Vancouver:20270804T120000
DTSTAMP:20260421T085940
CREATED:20211215T222157Z
LAST-MODIFIED:20240702T201133Z
UID:10021004-1817377200-1817380800@perinatalsupport.org
SUMMARY:Entre Mamás
DESCRIPTION:Un grupo para mujeres embarazadas o mujeres que tienen niños menor de 6 años. \nHorario: Todos los Miércoles \nDirección: 1750 Calawah Way\, 27C Forks\, WA 98331\n*El cuarto de comunidad cerca de las lavadoras* \nContacto: 360-912-1455
URL:https://perinatalsupport.org/event/entre-mamas/2027-08-04/
LOCATION:1750 Calawah Way\, 1750 Calawah Way\, 27C\, Forks\, WA\, 98331\, United States
CATEGORIES:BIPOC,Clallam,Latinx,Spanish,Support Group
GEO:47.9549709;-124.3559339
X-APPLE-STRUCTURED-LOCATION;VALUE=URI;X-ADDRESS=1750 Calawah Way 1750 Calawah Way 27C Forks WA 98331 United States;X-APPLE-RADIUS=500;X-TITLE=1750 Calawah Way\, 27C:geo:-124.3559339,47.9549709
END:VEVENT
BEGIN:VEVENT
DTSTART;TZID=America/Vancouver:20270811T110000
DTEND;TZID=America/Vancouver:20270811T120000
DTSTAMP:20260421T085940
CREATED:20211215T222157Z
LAST-MODIFIED:20240702T201133Z
UID:10021005-1817982000-1817985600@perinatalsupport.org
SUMMARY:Entre Mamás
DESCRIPTION:Un grupo para mujeres embarazadas o mujeres que tienen niños menor de 6 años. \nHorario: Todos los Miércoles \nDirección: 1750 Calawah Way\, 27C Forks\, WA 98331\n*El cuarto de comunidad cerca de las lavadoras* \nContacto: 360-912-1455
URL:https://perinatalsupport.org/event/entre-mamas/2027-08-11/
LOCATION:1750 Calawah Way\, 1750 Calawah Way\, 27C\, Forks\, WA\, 98331\, United States
CATEGORIES:BIPOC,Clallam,Latinx,Spanish,Support Group
GEO:47.9549709;-124.3559339
X-APPLE-STRUCTURED-LOCATION;VALUE=URI;X-ADDRESS=1750 Calawah Way 1750 Calawah Way 27C Forks WA 98331 United States;X-APPLE-RADIUS=500;X-TITLE=1750 Calawah Way\, 27C:geo:-124.3559339,47.9549709
END:VEVENT
BEGIN:VEVENT
DTSTART;TZID=America/Vancouver:20270818T110000
DTEND;TZID=America/Vancouver:20270818T120000
DTSTAMP:20260421T085940
CREATED:20211215T222157Z
LAST-MODIFIED:20240702T201133Z
UID:10021006-1818586800-1818590400@perinatalsupport.org
SUMMARY:Entre Mamás
DESCRIPTION:Un grupo para mujeres embarazadas o mujeres que tienen niños menor de 6 años. \nHorario: Todos los Miércoles \nDirección: 1750 Calawah Way\, 27C Forks\, WA 98331\n*El cuarto de comunidad cerca de las lavadoras* \nContacto: 360-912-1455
URL:https://perinatalsupport.org/event/entre-mamas/2027-08-18/
LOCATION:1750 Calawah Way\, 1750 Calawah Way\, 27C\, Forks\, WA\, 98331\, United States
CATEGORIES:BIPOC,Clallam,Latinx,Spanish,Support Group
GEO:47.9549709;-124.3559339
X-APPLE-STRUCTURED-LOCATION;VALUE=URI;X-ADDRESS=1750 Calawah Way 1750 Calawah Way 27C Forks WA 98331 United States;X-APPLE-RADIUS=500;X-TITLE=1750 Calawah Way\, 27C:geo:-124.3559339,47.9549709
END:VEVENT
END:VCALENDAR