BEGIN:VCALENDAR
VERSION:2.0
PRODID:-//Perinatal Support Washington - ECPv6.15.20//NONSGML v1.0//EN
CALSCALE:GREGORIAN
METHOD:PUBLISH
X-WR-CALNAME:Perinatal Support Washington
X-ORIGINAL-URL:https://perinatalsupport.org
X-WR-CALDESC:Events for Perinatal Support Washington
REFRESH-INTERVAL;VALUE=DURATION:PT1H
X-Robots-Tag:noindex
X-PUBLISHED-TTL:PT1H
BEGIN:VTIMEZONE
TZID:America/Vancouver
BEGIN:DAYLIGHT
TZOFFSETFROM:-0800
TZOFFSETTO:-0700
TZNAME:PDT
DTSTART:20260308T100000
END:DAYLIGHT
BEGIN:STANDARD
TZOFFSETFROM:-0700
TZOFFSETTO:-0800
TZNAME:PST
DTSTART:20261101T090000
END:STANDARD
BEGIN:DAYLIGHT
TZOFFSETFROM:-0800
TZOFFSETTO:-0700
TZNAME:PDT
DTSTART:20270314T100000
END:DAYLIGHT
BEGIN:STANDARD
TZOFFSETFROM:-0700
TZOFFSETTO:-0800
TZNAME:PST
DTSTART:20271107T090000
END:STANDARD
BEGIN:DAYLIGHT
TZOFFSETFROM:-0800
TZOFFSETTO:-0700
TZNAME:PDT
DTSTART:20280312T100000
END:DAYLIGHT
BEGIN:STANDARD
TZOFFSETFROM:-0700
TZOFFSETTO:-0800
TZNAME:PST
DTSTART:20281105T090000
END:STANDARD
END:VTIMEZONE
BEGIN:VEVENT
DTSTART;TZID=America/Vancouver:20270128T123000
DTEND;TZID=America/Vancouver:20270128T140000
DTSTAMP:20260422T150110
CREATED:20260224T201842Z
LAST-MODIFIED:20260303T210032Z
UID:10026043-1801139400-1801144800@perinatalsupport.org
SUMMARY:New Parent Support Group-Chelan-Douglas
DESCRIPTION:Chelan-Douglas \nNEW PARENT SUPPORT GROUP \nAnyone who is pregnant or parenting an infant\nor toddler and looking for emotional support\nand connection is welcome to attend. \nFebruary 19 through April 16 2026\nEvery Thursday\, 12:30PM-2:00PM \nOpen to all families with infants or toddlers on a drop-in basis. \nLunch will be provided and children are welcome. \nPathways To Parenting\n211 1st ST\nWenatchee\, WA 98801 \n509-886-6400 \nChelan Douglas Health District \nSupport Group Flyer
URL:https://perinatalsupport.org/event/new-parent-support-group-chelan-douglas/2027-01-28/
LOCATION:211 1st ST Wenatchee\, WA 98801\, 211 1st ST\, Wenatchee\, 98801\, United States
CATEGORIES:Support Group
END:VEVENT
BEGIN:VEVENT
DTSTART;TZID=America/Vancouver:20270204T123000
DTEND;TZID=America/Vancouver:20270204T140000
DTSTAMP:20260422T150110
CREATED:20260224T201842Z
LAST-MODIFIED:20260303T210032Z
UID:10026044-1801744200-1801749600@perinatalsupport.org
SUMMARY:New Parent Support Group-Chelan-Douglas
DESCRIPTION:Chelan-Douglas \nNEW PARENT SUPPORT GROUP \nAnyone who is pregnant or parenting an infant\nor toddler and looking for emotional support\nand connection is welcome to attend. \nFebruary 19 through April 16 2026\nEvery Thursday\, 12:30PM-2:00PM \nOpen to all families with infants or toddlers on a drop-in basis. \nLunch will be provided and children are welcome. \nPathways To Parenting\n211 1st ST\nWenatchee\, WA 98801 \n509-886-6400 \nChelan Douglas Health District \nSupport Group Flyer
URL:https://perinatalsupport.org/event/new-parent-support-group-chelan-douglas/2027-02-04/
LOCATION:211 1st ST Wenatchee\, WA 98801\, 211 1st ST\, Wenatchee\, 98801\, United States
CATEGORIES:Support Group
END:VEVENT
BEGIN:VEVENT
DTSTART;TZID=America/Vancouver:20270211T123000
DTEND;TZID=America/Vancouver:20270211T140000
DTSTAMP:20260422T150110
CREATED:20260224T201842Z
LAST-MODIFIED:20260303T210032Z
UID:10026045-1802349000-1802354400@perinatalsupport.org
SUMMARY:New Parent Support Group-Chelan-Douglas
DESCRIPTION:Chelan-Douglas \nNEW PARENT SUPPORT GROUP \nAnyone who is pregnant or parenting an infant\nor toddler and looking for emotional support\nand connection is welcome to attend. \nFebruary 19 through April 16 2026\nEvery Thursday\, 12:30PM-2:00PM \nOpen to all families with infants or toddlers on a drop-in basis. \nLunch will be provided and children are welcome. \nPathways To Parenting\n211 1st ST\nWenatchee\, WA 98801 \n509-886-6400 \nChelan Douglas Health District \nSupport Group Flyer
URL:https://perinatalsupport.org/event/new-parent-support-group-chelan-douglas/2027-02-11/
LOCATION:211 1st ST Wenatchee\, WA 98801\, 211 1st ST\, Wenatchee\, 98801\, United States
CATEGORIES:Support Group
END:VEVENT
BEGIN:VEVENT
DTSTART;TZID=America/Vancouver:20270218T123000
DTEND;TZID=America/Vancouver:20270218T140000
DTSTAMP:20260422T150110
CREATED:20260224T201842Z
LAST-MODIFIED:20260303T210032Z
UID:10026046-1802953800-1802959200@perinatalsupport.org
SUMMARY:New Parent Support Group-Chelan-Douglas
DESCRIPTION:Chelan-Douglas \nNEW PARENT SUPPORT GROUP \nAnyone who is pregnant or parenting an infant\nor toddler and looking for emotional support\nand connection is welcome to attend. \nFebruary 19 through April 16 2026\nEvery Thursday\, 12:30PM-2:00PM \nOpen to all families with infants or toddlers on a drop-in basis. \nLunch will be provided and children are welcome. \nPathways To Parenting\n211 1st ST\nWenatchee\, WA 98801 \n509-886-6400 \nChelan Douglas Health District \nSupport Group Flyer
URL:https://perinatalsupport.org/event/new-parent-support-group-chelan-douglas/2027-02-18/
LOCATION:211 1st ST Wenatchee\, WA 98801\, 211 1st ST\, Wenatchee\, 98801\, United States
CATEGORIES:Support Group
END:VEVENT
BEGIN:VEVENT
DTSTART;TZID=America/Vancouver:20270225T123000
DTEND;TZID=America/Vancouver:20270225T140000
DTSTAMP:20260422T150110
CREATED:20260224T201842Z
LAST-MODIFIED:20260303T210032Z
UID:10026047-1803558600-1803564000@perinatalsupport.org
SUMMARY:New Parent Support Group-Chelan-Douglas
DESCRIPTION:Chelan-Douglas \nNEW PARENT SUPPORT GROUP \nAnyone who is pregnant or parenting an infant\nor toddler and looking for emotional support\nand connection is welcome to attend. \nFebruary 19 through April 16 2026\nEvery Thursday\, 12:30PM-2:00PM \nOpen to all families with infants or toddlers on a drop-in basis. \nLunch will be provided and children are welcome. \nPathways To Parenting\n211 1st ST\nWenatchee\, WA 98801 \n509-886-6400 \nChelan Douglas Health District \nSupport Group Flyer
URL:https://perinatalsupport.org/event/new-parent-support-group-chelan-douglas/2027-02-25/
LOCATION:211 1st ST Wenatchee\, WA 98801\, 211 1st ST\, Wenatchee\, 98801\, United States
CATEGORIES:Support Group
END:VEVENT
BEGIN:VEVENT
DTSTART;TZID=America/Vancouver:20270304T123000
DTEND;TZID=America/Vancouver:20270304T140000
DTSTAMP:20260422T150110
CREATED:20260224T201842Z
LAST-MODIFIED:20260303T210032Z
UID:10026048-1804163400-1804168800@perinatalsupport.org
SUMMARY:New Parent Support Group-Chelan-Douglas
DESCRIPTION:Chelan-Douglas \nNEW PARENT SUPPORT GROUP \nAnyone who is pregnant or parenting an infant\nor toddler and looking for emotional support\nand connection is welcome to attend. \nFebruary 19 through April 16 2026\nEvery Thursday\, 12:30PM-2:00PM \nOpen to all families with infants or toddlers on a drop-in basis. \nLunch will be provided and children are welcome. \nPathways To Parenting\n211 1st ST\nWenatchee\, WA 98801 \n509-886-6400 \nChelan Douglas Health District \nSupport Group Flyer
URL:https://perinatalsupport.org/event/new-parent-support-group-chelan-douglas/2027-03-04/
LOCATION:211 1st ST Wenatchee\, WA 98801\, 211 1st ST\, Wenatchee\, 98801\, United States
CATEGORIES:Support Group
END:VEVENT
BEGIN:VEVENT
DTSTART;TZID=America/Vancouver:20270311T123000
DTEND;TZID=America/Vancouver:20270311T140000
DTSTAMP:20260422T150110
CREATED:20260224T201842Z
LAST-MODIFIED:20260303T210032Z
UID:10026049-1804768200-1804773600@perinatalsupport.org
SUMMARY:New Parent Support Group-Chelan-Douglas
DESCRIPTION:Chelan-Douglas \nNEW PARENT SUPPORT GROUP \nAnyone who is pregnant or parenting an infant\nor toddler and looking for emotional support\nand connection is welcome to attend. \nFebruary 19 through April 16 2026\nEvery Thursday\, 12:30PM-2:00PM \nOpen to all families with infants or toddlers on a drop-in basis. \nLunch will be provided and children are welcome. \nPathways To Parenting\n211 1st ST\nWenatchee\, WA 98801 \n509-886-6400 \nChelan Douglas Health District \nSupport Group Flyer
URL:https://perinatalsupport.org/event/new-parent-support-group-chelan-douglas/2027-03-11/
LOCATION:211 1st ST Wenatchee\, WA 98801\, 211 1st ST\, Wenatchee\, 98801\, United States
CATEGORIES:Support Group
END:VEVENT
BEGIN:VEVENT
DTSTART;TZID=America/Vancouver:20270318T123000
DTEND;TZID=America/Vancouver:20270318T140000
DTSTAMP:20260422T150110
CREATED:20260224T201842Z
LAST-MODIFIED:20260303T210032Z
UID:10026050-1805373000-1805378400@perinatalsupport.org
SUMMARY:New Parent Support Group-Chelan-Douglas
DESCRIPTION:Chelan-Douglas \nNEW PARENT SUPPORT GROUP \nAnyone who is pregnant or parenting an infant\nor toddler and looking for emotional support\nand connection is welcome to attend. \nFebruary 19 through April 16 2026\nEvery Thursday\, 12:30PM-2:00PM \nOpen to all families with infants or toddlers on a drop-in basis. \nLunch will be provided and children are welcome. \nPathways To Parenting\n211 1st ST\nWenatchee\, WA 98801 \n509-886-6400 \nChelan Douglas Health District \nSupport Group Flyer
URL:https://perinatalsupport.org/event/new-parent-support-group-chelan-douglas/2027-03-18/
LOCATION:211 1st ST Wenatchee\, WA 98801\, 211 1st ST\, Wenatchee\, 98801\, United States
CATEGORIES:Support Group
END:VEVENT
BEGIN:VEVENT
DTSTART;TZID=America/Vancouver:20270325T123000
DTEND;TZID=America/Vancouver:20270325T140000
DTSTAMP:20260422T150110
CREATED:20260224T201842Z
LAST-MODIFIED:20260303T210032Z
UID:10026051-1805977800-1805983200@perinatalsupport.org
SUMMARY:New Parent Support Group-Chelan-Douglas
DESCRIPTION:Chelan-Douglas \nNEW PARENT SUPPORT GROUP \nAnyone who is pregnant or parenting an infant\nor toddler and looking for emotional support\nand connection is welcome to attend. \nFebruary 19 through April 16 2026\nEvery Thursday\, 12:30PM-2:00PM \nOpen to all families with infants or toddlers on a drop-in basis. \nLunch will be provided and children are welcome. \nPathways To Parenting\n211 1st ST\nWenatchee\, WA 98801 \n509-886-6400 \nChelan Douglas Health District \nSupport Group Flyer
URL:https://perinatalsupport.org/event/new-parent-support-group-chelan-douglas/2027-03-25/
LOCATION:211 1st ST Wenatchee\, WA 98801\, 211 1st ST\, Wenatchee\, 98801\, United States
CATEGORIES:Support Group
END:VEVENT
BEGIN:VEVENT
DTSTART;TZID=America/Vancouver:20270401T123000
DTEND;TZID=America/Vancouver:20270401T140000
DTSTAMP:20260422T150110
CREATED:20260224T201842Z
LAST-MODIFIED:20260303T210032Z
UID:10026052-1806582600-1806588000@perinatalsupport.org
SUMMARY:New Parent Support Group-Chelan-Douglas
DESCRIPTION:Chelan-Douglas \nNEW PARENT SUPPORT GROUP \nAnyone who is pregnant or parenting an infant\nor toddler and looking for emotional support\nand connection is welcome to attend. \nFebruary 19 through April 16 2026\nEvery Thursday\, 12:30PM-2:00PM \nOpen to all families with infants or toddlers on a drop-in basis. \nLunch will be provided and children are welcome. \nPathways To Parenting\n211 1st ST\nWenatchee\, WA 98801 \n509-886-6400 \nChelan Douglas Health District \nSupport Group Flyer
URL:https://perinatalsupport.org/event/new-parent-support-group-chelan-douglas/2027-04-01/
LOCATION:211 1st ST Wenatchee\, WA 98801\, 211 1st ST\, Wenatchee\, 98801\, United States
CATEGORIES:Support Group
END:VEVENT
BEGIN:VEVENT
DTSTART;TZID=America/Vancouver:20270408T123000
DTEND;TZID=America/Vancouver:20270408T140000
DTSTAMP:20260422T150110
CREATED:20260224T201842Z
LAST-MODIFIED:20260303T210032Z
UID:10026053-1807187400-1807192800@perinatalsupport.org
SUMMARY:New Parent Support Group-Chelan-Douglas
DESCRIPTION:Chelan-Douglas \nNEW PARENT SUPPORT GROUP \nAnyone who is pregnant or parenting an infant\nor toddler and looking for emotional support\nand connection is welcome to attend. \nFebruary 19 through April 16 2026\nEvery Thursday\, 12:30PM-2:00PM \nOpen to all families with infants or toddlers on a drop-in basis. \nLunch will be provided and children are welcome. \nPathways To Parenting\n211 1st ST\nWenatchee\, WA 98801 \n509-886-6400 \nChelan Douglas Health District \nSupport Group Flyer
URL:https://perinatalsupport.org/event/new-parent-support-group-chelan-douglas/2027-04-08/
LOCATION:211 1st ST Wenatchee\, WA 98801\, 211 1st ST\, Wenatchee\, 98801\, United States
CATEGORIES:Support Group
END:VEVENT
BEGIN:VEVENT
DTSTART;TZID=America/Vancouver:20270415T123000
DTEND;TZID=America/Vancouver:20270415T140000
DTSTAMP:20260422T150110
CREATED:20260224T201842Z
LAST-MODIFIED:20260303T210032Z
UID:10026054-1807792200-1807797600@perinatalsupport.org
SUMMARY:New Parent Support Group-Chelan-Douglas
DESCRIPTION:Chelan-Douglas \nNEW PARENT SUPPORT GROUP \nAnyone who is pregnant or parenting an infant\nor toddler and looking for emotional support\nand connection is welcome to attend. \nFebruary 19 through April 16 2026\nEvery Thursday\, 12:30PM-2:00PM \nOpen to all families with infants or toddlers on a drop-in basis. \nLunch will be provided and children are welcome. \nPathways To Parenting\n211 1st ST\nWenatchee\, WA 98801 \n509-886-6400 \nChelan Douglas Health District \nSupport Group Flyer
URL:https://perinatalsupport.org/event/new-parent-support-group-chelan-douglas/2027-04-15/
LOCATION:211 1st ST Wenatchee\, WA 98801\, 211 1st ST\, Wenatchee\, 98801\, United States
CATEGORIES:Support Group
END:VEVENT
END:VCALENDAR