BEGIN:VCALENDAR
VERSION:2.0
PRODID:-//Perinatal Support Washington - ECPv6.15.20//NONSGML v1.0//EN
CALSCALE:GREGORIAN
METHOD:PUBLISH
X-WR-CALNAME:Perinatal Support Washington
X-ORIGINAL-URL:https://perinatalsupport.org
X-WR-CALDESC:Events for Perinatal Support Washington
REFRESH-INTERVAL;VALUE=DURATION:PT1H
X-Robots-Tag:noindex
X-PUBLISHED-TTL:PT1H
BEGIN:VTIMEZONE
TZID:America/Vancouver
BEGIN:DAYLIGHT
TZOFFSETFROM:-0800
TZOFFSETTO:-0700
TZNAME:PDT
DTSTART:20190310T100000
END:DAYLIGHT
BEGIN:STANDARD
TZOFFSETFROM:-0700
TZOFFSETTO:-0800
TZNAME:PST
DTSTART:20191103T090000
END:STANDARD
BEGIN:DAYLIGHT
TZOFFSETFROM:-0800
TZOFFSETTO:-0700
TZNAME:PDT
DTSTART:20200308T100000
END:DAYLIGHT
BEGIN:STANDARD
TZOFFSETFROM:-0700
TZOFFSETTO:-0800
TZNAME:PST
DTSTART:20201101T090000
END:STANDARD
BEGIN:DAYLIGHT
TZOFFSETFROM:-0800
TZOFFSETTO:-0700
TZNAME:PDT
DTSTART:20210314T100000
END:DAYLIGHT
BEGIN:STANDARD
TZOFFSETFROM:-0700
TZOFFSETTO:-0800
TZNAME:PST
DTSTART:20211107T090000
END:STANDARD
END:VTIMEZONE
BEGIN:VEVENT
DTSTART;TZID=America/Vancouver:20200213T183000
DTEND;TZID=America/Vancouver:20200213T203000
DTSTAMP:20260423T034015
CREATED:20200115T030158Z
LAST-MODIFIED:20221108T171938Z
UID:10007558-1581618600-1581625800@perinatalsupport.org
SUMMARY:Intimacy and Sex in the Childbearing Year – An Evening Clinical Discussion
DESCRIPTION:This evening clinical meeting is an interactive presentation and discussion on the changes in intimacy and sex a couple face and how to support a couple during the perinatal period. \nTopics will include women’s physiological changes\, impact of the birth experience on the couples’ future intimacy\, rebuilding connection after the baby and discussion of skill building techniques to navigate the transition. \nThe Evening Clinical Meeting Series meets quarterly. Cost: $20.\nAttendance is free for Perinatal Support Washington members and volunteers.\n**This training is open to anyone working with families during the perinatal period.\n6:30pm Networking\n6:45- 8:30pm training \nSpeaker: Nancy Owens\, MA\, LMHC\, CST \nObjectives: \n\nTo understand the physiological changes of women in the postpartum period and how that impacts a couples intimacy.\nTo understand the impact of the birth experience on couples’ future intimacy.\nBe able to identify and explain skill building techniques to help a couple manage the change in intimacy after a baby.\n\nContinuing Education:\n1.75 CEUs approved for LICSWs\, LMHCs\, and LMFTs\n1.75 Contact hours are available for RNs \n“This Program has been approved for 1.75 CEUs for Licensed Social Workers\, Mental Health Counselors and Marriage and Family Therapists by the Washington State Society for Clinical Social Work.” \nProvider approved by the California Board of Registered Nursing\, Provider Number 17084 for 1.75 contact hours.\nNancy Owen is a certified sex therapist and sex educator with a private practice in Kirkland\, WA\, With over 25 years experience working as a psychotherapist\, Nancy has a passion for helping adult couples and individuals achieve healthier\, more connected relationships with themselves and others. Nancys specialties include postpartum/perinatal work\, kink/erotic conflicts\, and religious/spiritual issues related to sexual shame\, as well as working with those from the LGBTQIA communities and consensually non-monogamous families. \nThis training and our Perinatal Support Washington Evening Clinical Training series is cosponsored by Simkin Center at Bastyr University. \nPerinatal Support Washington is a state-wide non-profit dedicated to shining a light on perinatal mood and anxiety disorders.
URL:https://perinatalsupport.org/event/intimacy-and-sex-in-the-childbearing-year-an-evening-clinical-discussion/
LOCATION:Embry-Riddle Aeronautical University\, Yeager/Armstrong Room (View) 1000 Oakesdale Ave SW #110\, Renton\, WA\, 98057\, United States
CATEGORIES:Provider Training
ATTACH;FMTTYPE=image/jpeg:https://perinatalsupport.org/wp-content/uploads/2020/01/intimacy-postpartum.jpg
ORGANIZER;CN="Perinatal Support Washington":MAILTO:training@perinatalsupport.org
GEO:29.189951;-81.047852
X-APPLE-STRUCTURED-LOCATION;VALUE=URI;X-ADDRESS=Embry-Riddle Aeronautical University Yeager/Armstrong Room (View) 1000 Oakesdale Ave SW #110 Renton WA 98057 United States;X-APPLE-RADIUS=500;X-TITLE=Yeager/Armstrong Room (View) 1000 Oakesdale Ave SW #110:geo:-81.047852,29.189951
END:VEVENT
END:VCALENDAR