BEGIN:VCALENDAR
VERSION:2.0
PRODID:-//Perinatal Support Washington - ECPv6.15.20//NONSGML v1.0//EN
CALSCALE:GREGORIAN
METHOD:PUBLISH
X-WR-CALNAME:Perinatal Support Washington
X-ORIGINAL-URL:https://perinatalsupport.org
X-WR-CALDESC:Events for Perinatal Support Washington
REFRESH-INTERVAL;VALUE=DURATION:PT1H
X-Robots-Tag:noindex
X-PUBLISHED-TTL:PT1H
BEGIN:VTIMEZONE
TZID:America/Vancouver
BEGIN:DAYLIGHT
TZOFFSETFROM:-0800
TZOFFSETTO:-0700
TZNAME:PDT
DTSTART:20230312T100000
END:DAYLIGHT
BEGIN:STANDARD
TZOFFSETFROM:-0700
TZOFFSETTO:-0800
TZNAME:PST
DTSTART:20231105T090000
END:STANDARD
BEGIN:DAYLIGHT
TZOFFSETFROM:-0800
TZOFFSETTO:-0700
TZNAME:PDT
DTSTART:20240310T100000
END:DAYLIGHT
BEGIN:STANDARD
TZOFFSETFROM:-0700
TZOFFSETTO:-0800
TZNAME:PST
DTSTART:20241103T090000
END:STANDARD
BEGIN:DAYLIGHT
TZOFFSETFROM:-0800
TZOFFSETTO:-0700
TZNAME:PDT
DTSTART:20250309T100000
END:DAYLIGHT
BEGIN:STANDARD
TZOFFSETFROM:-0700
TZOFFSETTO:-0800
TZNAME:PST
DTSTART:20251102T090000
END:STANDARD
END:VTIMEZONE
BEGIN:VEVENT
DTSTART;TZID=America/Vancouver:20240819T183000
DTEND;TZID=America/Vancouver:20240819T200000
DTSTAMP:20260420T220723
CREATED:20240124T160459Z
LAST-MODIFIED:20240208T204338Z
UID:10019702-1724092200-1724097600@perinatalsupport.org
SUMMARY:Family Support Group hosted by NAMI
DESCRIPTION:NAMI Family Support Group is a peer-led support group for any adult with a loved one who has\nexperienced symptoms of a mental health condition. \nMeeting Days: \nThe 1st & 3rd Monday of each\nmonth\, starting February 5 \nMeeting Time:\n6:30 pm-8 pm \nLocation:\nFirst Lutheran Church\n512 N Ruby Street\nEllensburg\, WA \nYou can gain hope and develop supportive relationships by sharing your experiences in a safe setting. This group allows your voice to be heard and meet your personal needs. It encourages empathy\, productive discussion\, and a sense of community. You’ll benefit from others’ experiences\, discover your inner strength\, and empower yourself by sharing your experiences in a non-judgmental space. \nQuestions about the group?\nCall (509) 607-9252 to talk with our lead facilitator
URL:https://perinatalsupport.org/event/family-support-group-hosted-by-nami-2/2024-08-19/
LOCATION:First Lutheran Church 512 N Ruby Street Ellensburg\, WA\, 512 N Ruby Street\, Ellensburg\, WA\, 98926\, United States
CATEGORIES:Kittitas,Support Group
GEO:46.9972954;-120.5443721
X-APPLE-STRUCTURED-LOCATION;VALUE=URI;X-ADDRESS=First Lutheran Church 512 N Ruby Street Ellensburg WA 512 N Ruby Street Ellensburg WA 98926 United States;X-APPLE-RADIUS=500;X-TITLE=512 N Ruby Street:geo:-120.5443721,46.9972954
END:VEVENT
BEGIN:VEVENT
DTSTART;TZID=America/Vancouver:20240805T183000
DTEND;TZID=America/Vancouver:20240805T200000
DTSTAMP:20260420T220723
CREATED:20240124T160429Z
LAST-MODIFIED:20240124T161300Z
UID:10019582-1722882600-1722888000@perinatalsupport.org
SUMMARY:Family Support Group hosted by NAMI
DESCRIPTION:NAMI Family Support Group is a peer-led support group for any adult with a loved one who has experienced symptoms of a mental health condition. \nMeeting Days: \nThe 1st & 3rd Monday of each\nmonth\, starting February 5 \nMeeting Time:\n6:30 pm-8 pm \nLocation:\nFirst Lutheran Church\n512 N Ruby Street\nEllensburg\, WA \nYou can gain hope and develop supportive relationships by sharing your experiences in a safe setting. This group allows your voice to be heard and meet your personal needs. It encourages empathy\, productive discussion\, and a sense of community. You’ll benefit from others’ experiences\, discover your inner strength\, and empower yourself by sharing your experiences in a non-judgmental space. \nQuestions about the group?\nCall (509) 607-9252 to talk with our lead facilitator
URL:https://perinatalsupport.org/event/family-support-group-hosted-by-nami/2024-08-05/
LOCATION:First Lutheran Church 512 N Ruby Street Ellensburg\, WA\, 512 N Ruby Street\, Ellensburg\, WA\, 98926\, United States
CATEGORIES:Support Group
GEO:46.9972954;-120.5443721
X-APPLE-STRUCTURED-LOCATION;VALUE=URI;X-ADDRESS=First Lutheran Church 512 N Ruby Street Ellensburg WA 512 N Ruby Street Ellensburg WA 98926 United States;X-APPLE-RADIUS=500;X-TITLE=512 N Ruby Street:geo:-120.5443721,46.9972954
END:VEVENT
BEGIN:VEVENT
DTSTART;TZID=America/Vancouver:20240715T183000
DTEND;TZID=America/Vancouver:20240715T200000
DTSTAMP:20260420T220723
CREATED:20240124T160459Z
LAST-MODIFIED:20240208T204338Z
UID:10019701-1721068200-1721073600@perinatalsupport.org
SUMMARY:Family Support Group hosted by NAMI
DESCRIPTION:NAMI Family Support Group is a peer-led support group for any adult with a loved one who has\nexperienced symptoms of a mental health condition. \nMeeting Days: \nThe 1st & 3rd Monday of each\nmonth\, starting February 5 \nMeeting Time:\n6:30 pm-8 pm \nLocation:\nFirst Lutheran Church\n512 N Ruby Street\nEllensburg\, WA \nYou can gain hope and develop supportive relationships by sharing your experiences in a safe setting. This group allows your voice to be heard and meet your personal needs. It encourages empathy\, productive discussion\, and a sense of community. You’ll benefit from others’ experiences\, discover your inner strength\, and empower yourself by sharing your experiences in a non-judgmental space. \nQuestions about the group?\nCall (509) 607-9252 to talk with our lead facilitator
URL:https://perinatalsupport.org/event/family-support-group-hosted-by-nami-2/2024-07-15/
LOCATION:First Lutheran Church 512 N Ruby Street Ellensburg\, WA\, 512 N Ruby Street\, Ellensburg\, WA\, 98926\, United States
CATEGORIES:Kittitas,Support Group
GEO:46.9972954;-120.5443721
X-APPLE-STRUCTURED-LOCATION;VALUE=URI;X-ADDRESS=First Lutheran Church 512 N Ruby Street Ellensburg WA 512 N Ruby Street Ellensburg WA 98926 United States;X-APPLE-RADIUS=500;X-TITLE=512 N Ruby Street:geo:-120.5443721,46.9972954
END:VEVENT
BEGIN:VEVENT
DTSTART;TZID=America/Vancouver:20240701T183000
DTEND;TZID=America/Vancouver:20240701T200000
DTSTAMP:20260420T220723
CREATED:20240124T160429Z
LAST-MODIFIED:20240124T161300Z
UID:10019581-1719858600-1719864000@perinatalsupport.org
SUMMARY:Family Support Group hosted by NAMI
DESCRIPTION:NAMI Family Support Group is a peer-led support group for any adult with a loved one who has experienced symptoms of a mental health condition. \nMeeting Days: \nThe 1st & 3rd Monday of each\nmonth\, starting February 5 \nMeeting Time:\n6:30 pm-8 pm \nLocation:\nFirst Lutheran Church\n512 N Ruby Street\nEllensburg\, WA \nYou can gain hope and develop supportive relationships by sharing your experiences in a safe setting. This group allows your voice to be heard and meet your personal needs. It encourages empathy\, productive discussion\, and a sense of community. You’ll benefit from others’ experiences\, discover your inner strength\, and empower yourself by sharing your experiences in a non-judgmental space. \nQuestions about the group?\nCall (509) 607-9252 to talk with our lead facilitator
URL:https://perinatalsupport.org/event/family-support-group-hosted-by-nami/2024-07-01/
LOCATION:First Lutheran Church 512 N Ruby Street Ellensburg\, WA\, 512 N Ruby Street\, Ellensburg\, WA\, 98926\, United States
CATEGORIES:Support Group
GEO:46.9972954;-120.5443721
X-APPLE-STRUCTURED-LOCATION;VALUE=URI;X-ADDRESS=First Lutheran Church 512 N Ruby Street Ellensburg WA 512 N Ruby Street Ellensburg WA 98926 United States;X-APPLE-RADIUS=500;X-TITLE=512 N Ruby Street:geo:-120.5443721,46.9972954
END:VEVENT
BEGIN:VEVENT
DTSTART;TZID=America/Vancouver:20240617T183000
DTEND;TZID=America/Vancouver:20240617T200000
DTSTAMP:20260420T220723
CREATED:20240124T160459Z
LAST-MODIFIED:20240208T204338Z
UID:10019700-1718649000-1718654400@perinatalsupport.org
SUMMARY:Family Support Group hosted by NAMI
DESCRIPTION:NAMI Family Support Group is a peer-led support group for any adult with a loved one who has\nexperienced symptoms of a mental health condition. \nMeeting Days: \nThe 1st & 3rd Monday of each\nmonth\, starting February 5 \nMeeting Time:\n6:30 pm-8 pm \nLocation:\nFirst Lutheran Church\n512 N Ruby Street\nEllensburg\, WA \nYou can gain hope and develop supportive relationships by sharing your experiences in a safe setting. This group allows your voice to be heard and meet your personal needs. It encourages empathy\, productive discussion\, and a sense of community. You’ll benefit from others’ experiences\, discover your inner strength\, and empower yourself by sharing your experiences in a non-judgmental space. \nQuestions about the group?\nCall (509) 607-9252 to talk with our lead facilitator
URL:https://perinatalsupport.org/event/family-support-group-hosted-by-nami-2/2024-06-17/
LOCATION:First Lutheran Church 512 N Ruby Street Ellensburg\, WA\, 512 N Ruby Street\, Ellensburg\, WA\, 98926\, United States
CATEGORIES:Kittitas,Support Group
GEO:46.9972954;-120.5443721
X-APPLE-STRUCTURED-LOCATION;VALUE=URI;X-ADDRESS=First Lutheran Church 512 N Ruby Street Ellensburg WA 512 N Ruby Street Ellensburg WA 98926 United States;X-APPLE-RADIUS=500;X-TITLE=512 N Ruby Street:geo:-120.5443721,46.9972954
END:VEVENT
BEGIN:VEVENT
DTSTART;TZID=America/Vancouver:20240603T183000
DTEND;TZID=America/Vancouver:20240603T200000
DTSTAMP:20260420T220723
CREATED:20240124T160429Z
LAST-MODIFIED:20240124T161300Z
UID:10019580-1717439400-1717444800@perinatalsupport.org
SUMMARY:Family Support Group hosted by NAMI
DESCRIPTION:NAMI Family Support Group is a peer-led support group for any adult with a loved one who has experienced symptoms of a mental health condition. \nMeeting Days: \nThe 1st & 3rd Monday of each\nmonth\, starting February 5 \nMeeting Time:\n6:30 pm-8 pm \nLocation:\nFirst Lutheran Church\n512 N Ruby Street\nEllensburg\, WA \nYou can gain hope and develop supportive relationships by sharing your experiences in a safe setting. This group allows your voice to be heard and meet your personal needs. It encourages empathy\, productive discussion\, and a sense of community. You’ll benefit from others’ experiences\, discover your inner strength\, and empower yourself by sharing your experiences in a non-judgmental space. \nQuestions about the group?\nCall (509) 607-9252 to talk with our lead facilitator
URL:https://perinatalsupport.org/event/family-support-group-hosted-by-nami/2024-06-03/
LOCATION:First Lutheran Church 512 N Ruby Street Ellensburg\, WA\, 512 N Ruby Street\, Ellensburg\, WA\, 98926\, United States
CATEGORIES:Support Group
GEO:46.9972954;-120.5443721
X-APPLE-STRUCTURED-LOCATION;VALUE=URI;X-ADDRESS=First Lutheran Church 512 N Ruby Street Ellensburg WA 512 N Ruby Street Ellensburg WA 98926 United States;X-APPLE-RADIUS=500;X-TITLE=512 N Ruby Street:geo:-120.5443721,46.9972954
END:VEVENT
BEGIN:VEVENT
DTSTART;TZID=America/Vancouver:20240520T183000
DTEND;TZID=America/Vancouver:20240520T200000
DTSTAMP:20260420T220723
CREATED:20240124T160459Z
LAST-MODIFIED:20240208T204338Z
UID:10019699-1716229800-1716235200@perinatalsupport.org
SUMMARY:Family Support Group hosted by NAMI
DESCRIPTION:NAMI Family Support Group is a peer-led support group for any adult with a loved one who has\nexperienced symptoms of a mental health condition. \nMeeting Days: \nThe 1st & 3rd Monday of each\nmonth\, starting February 5 \nMeeting Time:\n6:30 pm-8 pm \nLocation:\nFirst Lutheran Church\n512 N Ruby Street\nEllensburg\, WA \nYou can gain hope and develop supportive relationships by sharing your experiences in a safe setting. This group allows your voice to be heard and meet your personal needs. It encourages empathy\, productive discussion\, and a sense of community. You’ll benefit from others’ experiences\, discover your inner strength\, and empower yourself by sharing your experiences in a non-judgmental space. \nQuestions about the group?\nCall (509) 607-9252 to talk with our lead facilitator
URL:https://perinatalsupport.org/event/family-support-group-hosted-by-nami-2/2024-05-20/
LOCATION:First Lutheran Church 512 N Ruby Street Ellensburg\, WA\, 512 N Ruby Street\, Ellensburg\, WA\, 98926\, United States
CATEGORIES:Kittitas,Support Group
GEO:46.9972954;-120.5443721
X-APPLE-STRUCTURED-LOCATION;VALUE=URI;X-ADDRESS=First Lutheran Church 512 N Ruby Street Ellensburg WA 512 N Ruby Street Ellensburg WA 98926 United States;X-APPLE-RADIUS=500;X-TITLE=512 N Ruby Street:geo:-120.5443721,46.9972954
END:VEVENT
BEGIN:VEVENT
DTSTART;TZID=America/Vancouver:20240506T183000
DTEND;TZID=America/Vancouver:20240506T200000
DTSTAMP:20260420T220723
CREATED:20240124T160429Z
LAST-MODIFIED:20240124T161300Z
UID:10019579-1715020200-1715025600@perinatalsupport.org
SUMMARY:Family Support Group hosted by NAMI
DESCRIPTION:NAMI Family Support Group is a peer-led support group for any adult with a loved one who has experienced symptoms of a mental health condition. \nMeeting Days: \nThe 1st & 3rd Monday of each\nmonth\, starting February 5 \nMeeting Time:\n6:30 pm-8 pm \nLocation:\nFirst Lutheran Church\n512 N Ruby Street\nEllensburg\, WA \nYou can gain hope and develop supportive relationships by sharing your experiences in a safe setting. This group allows your voice to be heard and meet your personal needs. It encourages empathy\, productive discussion\, and a sense of community. You’ll benefit from others’ experiences\, discover your inner strength\, and empower yourself by sharing your experiences in a non-judgmental space. \nQuestions about the group?\nCall (509) 607-9252 to talk with our lead facilitator
URL:https://perinatalsupport.org/event/family-support-group-hosted-by-nami/2024-05-06/
LOCATION:First Lutheran Church 512 N Ruby Street Ellensburg\, WA\, 512 N Ruby Street\, Ellensburg\, WA\, 98926\, United States
CATEGORIES:Support Group
GEO:46.9972954;-120.5443721
X-APPLE-STRUCTURED-LOCATION;VALUE=URI;X-ADDRESS=First Lutheran Church 512 N Ruby Street Ellensburg WA 512 N Ruby Street Ellensburg WA 98926 United States;X-APPLE-RADIUS=500;X-TITLE=512 N Ruby Street:geo:-120.5443721,46.9972954
END:VEVENT
BEGIN:VEVENT
DTSTART;TZID=America/Vancouver:20240415T183000
DTEND;TZID=America/Vancouver:20240415T200000
DTSTAMP:20260420T220723
CREATED:20240124T160459Z
LAST-MODIFIED:20240208T204338Z
UID:10019698-1713205800-1713211200@perinatalsupport.org
SUMMARY:Family Support Group hosted by NAMI
DESCRIPTION:NAMI Family Support Group is a peer-led support group for any adult with a loved one who has\nexperienced symptoms of a mental health condition. \nMeeting Days: \nThe 1st & 3rd Monday of each\nmonth\, starting February 5 \nMeeting Time:\n6:30 pm-8 pm \nLocation:\nFirst Lutheran Church\n512 N Ruby Street\nEllensburg\, WA \nYou can gain hope and develop supportive relationships by sharing your experiences in a safe setting. This group allows your voice to be heard and meet your personal needs. It encourages empathy\, productive discussion\, and a sense of community. You’ll benefit from others’ experiences\, discover your inner strength\, and empower yourself by sharing your experiences in a non-judgmental space. \nQuestions about the group?\nCall (509) 607-9252 to talk with our lead facilitator
URL:https://perinatalsupport.org/event/family-support-group-hosted-by-nami-2/2024-04-15/
LOCATION:First Lutheran Church 512 N Ruby Street Ellensburg\, WA\, 512 N Ruby Street\, Ellensburg\, WA\, 98926\, United States
CATEGORIES:Kittitas,Support Group
GEO:46.9972954;-120.5443721
X-APPLE-STRUCTURED-LOCATION;VALUE=URI;X-ADDRESS=First Lutheran Church 512 N Ruby Street Ellensburg WA 512 N Ruby Street Ellensburg WA 98926 United States;X-APPLE-RADIUS=500;X-TITLE=512 N Ruby Street:geo:-120.5443721,46.9972954
END:VEVENT
BEGIN:VEVENT
DTSTART;TZID=America/Vancouver:20240401T183000
DTEND;TZID=America/Vancouver:20240401T200000
DTSTAMP:20260420T220723
CREATED:20240124T160429Z
LAST-MODIFIED:20240124T161300Z
UID:10019578-1711996200-1712001600@perinatalsupport.org
SUMMARY:Family Support Group hosted by NAMI
DESCRIPTION:NAMI Family Support Group is a peer-led support group for any adult with a loved one who has experienced symptoms of a mental health condition. \nMeeting Days: \nThe 1st & 3rd Monday of each\nmonth\, starting February 5 \nMeeting Time:\n6:30 pm-8 pm \nLocation:\nFirst Lutheran Church\n512 N Ruby Street\nEllensburg\, WA \nYou can gain hope and develop supportive relationships by sharing your experiences in a safe setting. This group allows your voice to be heard and meet your personal needs. It encourages empathy\, productive discussion\, and a sense of community. You’ll benefit from others’ experiences\, discover your inner strength\, and empower yourself by sharing your experiences in a non-judgmental space. \nQuestions about the group?\nCall (509) 607-9252 to talk with our lead facilitator
URL:https://perinatalsupport.org/event/family-support-group-hosted-by-nami/2024-04-01/
LOCATION:First Lutheran Church 512 N Ruby Street Ellensburg\, WA\, 512 N Ruby Street\, Ellensburg\, WA\, 98926\, United States
CATEGORIES:Support Group
GEO:46.9972954;-120.5443721
X-APPLE-STRUCTURED-LOCATION;VALUE=URI;X-ADDRESS=First Lutheran Church 512 N Ruby Street Ellensburg WA 512 N Ruby Street Ellensburg WA 98926 United States;X-APPLE-RADIUS=500;X-TITLE=512 N Ruby Street:geo:-120.5443721,46.9972954
END:VEVENT
BEGIN:VEVENT
DTSTART;TZID=America/Vancouver:20240318T183000
DTEND;TZID=America/Vancouver:20240318T200000
DTSTAMP:20260420T220723
CREATED:20240124T160459Z
LAST-MODIFIED:20240208T204338Z
UID:10019697-1710786600-1710792000@perinatalsupport.org
SUMMARY:Family Support Group hosted by NAMI
DESCRIPTION:NAMI Family Support Group is a peer-led support group for any adult with a loved one who has\nexperienced symptoms of a mental health condition. \nMeeting Days: \nThe 1st & 3rd Monday of each\nmonth\, starting February 5 \nMeeting Time:\n6:30 pm-8 pm \nLocation:\nFirst Lutheran Church\n512 N Ruby Street\nEllensburg\, WA \nYou can gain hope and develop supportive relationships by sharing your experiences in a safe setting. This group allows your voice to be heard and meet your personal needs. It encourages empathy\, productive discussion\, and a sense of community. You’ll benefit from others’ experiences\, discover your inner strength\, and empower yourself by sharing your experiences in a non-judgmental space. \nQuestions about the group?\nCall (509) 607-9252 to talk with our lead facilitator
URL:https://perinatalsupport.org/event/family-support-group-hosted-by-nami-2/2024-03-18/
LOCATION:First Lutheran Church 512 N Ruby Street Ellensburg\, WA\, 512 N Ruby Street\, Ellensburg\, WA\, 98926\, United States
CATEGORIES:Kittitas,Support Group
GEO:46.9972954;-120.5443721
X-APPLE-STRUCTURED-LOCATION;VALUE=URI;X-ADDRESS=First Lutheran Church 512 N Ruby Street Ellensburg WA 512 N Ruby Street Ellensburg WA 98926 United States;X-APPLE-RADIUS=500;X-TITLE=512 N Ruby Street:geo:-120.5443721,46.9972954
END:VEVENT
BEGIN:VEVENT
DTSTART;TZID=America/Vancouver:20240304T183000
DTEND;TZID=America/Vancouver:20240304T200000
DTSTAMP:20260420T220723
CREATED:20240124T160429Z
LAST-MODIFIED:20240124T161300Z
UID:10019577-1709577000-1709582400@perinatalsupport.org
SUMMARY:Family Support Group hosted by NAMI
DESCRIPTION:NAMI Family Support Group is a peer-led support group for any adult with a loved one who has experienced symptoms of a mental health condition. \nMeeting Days: \nThe 1st & 3rd Monday of each\nmonth\, starting February 5 \nMeeting Time:\n6:30 pm-8 pm \nLocation:\nFirst Lutheran Church\n512 N Ruby Street\nEllensburg\, WA \nYou can gain hope and develop supportive relationships by sharing your experiences in a safe setting. This group allows your voice to be heard and meet your personal needs. It encourages empathy\, productive discussion\, and a sense of community. You’ll benefit from others’ experiences\, discover your inner strength\, and empower yourself by sharing your experiences in a non-judgmental space. \nQuestions about the group?\nCall (509) 607-9252 to talk with our lead facilitator
URL:https://perinatalsupport.org/event/family-support-group-hosted-by-nami/2024-03-04/
LOCATION:First Lutheran Church 512 N Ruby Street Ellensburg\, WA\, 512 N Ruby Street\, Ellensburg\, WA\, 98926\, United States
CATEGORIES:Support Group
GEO:46.9972954;-120.5443721
X-APPLE-STRUCTURED-LOCATION;VALUE=URI;X-ADDRESS=First Lutheran Church 512 N Ruby Street Ellensburg WA 512 N Ruby Street Ellensburg WA 98926 United States;X-APPLE-RADIUS=500;X-TITLE=512 N Ruby Street:geo:-120.5443721,46.9972954
END:VEVENT
BEGIN:VEVENT
DTSTART;TZID=America/Vancouver:20240219T183000
DTEND;TZID=America/Vancouver:20240219T200000
DTSTAMP:20260420T220723
CREATED:20240124T160459Z
LAST-MODIFIED:20240208T204338Z
UID:10019696-1708367400-1708372800@perinatalsupport.org
SUMMARY:Family Support Group hosted by NAMI
DESCRIPTION:NAMI Family Support Group is a peer-led support group for any adult with a loved one who has\nexperienced symptoms of a mental health condition. \nMeeting Days: \nThe 1st & 3rd Monday of each\nmonth\, starting February 5 \nMeeting Time:\n6:30 pm-8 pm \nLocation:\nFirst Lutheran Church\n512 N Ruby Street\nEllensburg\, WA \nYou can gain hope and develop supportive relationships by sharing your experiences in a safe setting. This group allows your voice to be heard and meet your personal needs. It encourages empathy\, productive discussion\, and a sense of community. You’ll benefit from others’ experiences\, discover your inner strength\, and empower yourself by sharing your experiences in a non-judgmental space. \nQuestions about the group?\nCall (509) 607-9252 to talk with our lead facilitator
URL:https://perinatalsupport.org/event/family-support-group-hosted-by-nami-2/2024-02-19/
LOCATION:First Lutheran Church 512 N Ruby Street Ellensburg\, WA\, 512 N Ruby Street\, Ellensburg\, WA\, 98926\, United States
CATEGORIES:Kittitas,Support Group
GEO:46.9972954;-120.5443721
X-APPLE-STRUCTURED-LOCATION;VALUE=URI;X-ADDRESS=First Lutheran Church 512 N Ruby Street Ellensburg WA 512 N Ruby Street Ellensburg WA 98926 United States;X-APPLE-RADIUS=500;X-TITLE=512 N Ruby Street:geo:-120.5443721,46.9972954
END:VEVENT
BEGIN:VEVENT
DTSTART;TZID=America/Vancouver:20240205T183000
DTEND;TZID=America/Vancouver:20240205T200000
DTSTAMP:20260420T220723
CREATED:20240124T160429Z
LAST-MODIFIED:20240124T161300Z
UID:10019576-1707157800-1707163200@perinatalsupport.org
SUMMARY:Family Support Group hosted by NAMI
DESCRIPTION:NAMI Family Support Group is a peer-led support group for any adult with a loved one who has experienced symptoms of a mental health condition. \nMeeting Days: \nThe 1st & 3rd Monday of each\nmonth\, starting February 5 \nMeeting Time:\n6:30 pm-8 pm \nLocation:\nFirst Lutheran Church\n512 N Ruby Street\nEllensburg\, WA \nYou can gain hope and develop supportive relationships by sharing your experiences in a safe setting. This group allows your voice to be heard and meet your personal needs. It encourages empathy\, productive discussion\, and a sense of community. You’ll benefit from others’ experiences\, discover your inner strength\, and empower yourself by sharing your experiences in a non-judgmental space. \nQuestions about the group?\nCall (509) 607-9252 to talk with our lead facilitator
URL:https://perinatalsupport.org/event/family-support-group-hosted-by-nami/2024-02-05/
LOCATION:First Lutheran Church 512 N Ruby Street Ellensburg\, WA\, 512 N Ruby Street\, Ellensburg\, WA\, 98926\, United States
CATEGORIES:Support Group
GEO:46.9972954;-120.5443721
X-APPLE-STRUCTURED-LOCATION;VALUE=URI;X-ADDRESS=First Lutheran Church 512 N Ruby Street Ellensburg WA 512 N Ruby Street Ellensburg WA 98926 United States;X-APPLE-RADIUS=500;X-TITLE=512 N Ruby Street:geo:-120.5443721,46.9972954
END:VEVENT
END:VCALENDAR