BEGIN:VCALENDAR
VERSION:2.0
PRODID:-//Perinatal Support Washington - ECPv6.15.20//NONSGML v1.0//EN
CALSCALE:GREGORIAN
METHOD:PUBLISH
X-ORIGINAL-URL:https://perinatalsupport.org
X-WR-CALDESC:Events for Perinatal Support Washington
REFRESH-INTERVAL;VALUE=DURATION:PT1H
X-Robots-Tag:noindex
X-PUBLISHED-TTL:PT1H
BEGIN:VTIMEZONE
TZID:America/Vancouver
BEGIN:DAYLIGHT
TZOFFSETFROM:-0800
TZOFFSETTO:-0700
TZNAME:PDT
DTSTART:20220313T100000
END:DAYLIGHT
BEGIN:STANDARD
TZOFFSETFROM:-0700
TZOFFSETTO:-0800
TZNAME:PST
DTSTART:20221106T090000
END:STANDARD
BEGIN:DAYLIGHT
TZOFFSETFROM:-0800
TZOFFSETTO:-0700
TZNAME:PDT
DTSTART:20230312T100000
END:DAYLIGHT
BEGIN:STANDARD
TZOFFSETFROM:-0700
TZOFFSETTO:-0800
TZNAME:PST
DTSTART:20231105T090000
END:STANDARD
BEGIN:DAYLIGHT
TZOFFSETFROM:-0800
TZOFFSETTO:-0700
TZNAME:PDT
DTSTART:20240310T100000
END:DAYLIGHT
BEGIN:STANDARD
TZOFFSETFROM:-0700
TZOFFSETTO:-0800
TZNAME:PST
DTSTART:20241103T090000
END:STANDARD
END:VTIMEZONE
BEGIN:VEVENT
DTSTART;TZID=America/Vancouver:20231017T090000
DTEND;TZID=America/Vancouver:20231018T163000
DTSTAMP:20260420T235913
CREATED:20230802T182816Z
LAST-MODIFIED:20231011T204901Z
UID:10018517-1697533200-1697646600@perinatalsupport.org
SUMMARY:Special Topics in Perinatal Mental Health
DESCRIPTION:This training is for Washington state providers who practice IN Whatcom and/or Skagit Counties. **REGISTRATION IS FULL** \nDuring this 2-day training\, clinical & non-clinical professionals will learn how the perinatal context affects parental mental health. This will include evidence-based interventions aimed at the prevention\, support\, and treatment of families from pregnancy to postpartum. \nOpen to any professional interested in learning more about how to provide support to a\nparent. Both sessions (Oct. 17 & 18th) will have a clinical focus that is appropriate for professionals who are new to perinatal mental health treatment and those looking to expand their knowledge of perinatal mental health\, as well as non-clinical professionals interested in perinatal mental health topics. Register for one or both days\, lunch is provided. \nDates: Tuesday-Wednesday\, October 17-18\, 2023 \nTime: 9am – 4:30pm PST \nTrainers: Dr. Meyleen Velasquez\, LICSW & Leslie Butterfield\, PhD \nCost: FREE \nLocation:\nFox Hall\n1661 W. Bakerview Road\nBellingham\, WA 98226 \nLearning Objectives: \n\nImpacts of racism\, oppression\, and stigma on perinatal mental health\nProvider panel: supporting families experiencing psychosocial challenges and SUDs in the perinatal period\nParent panel: challenges\, help\, and hope\nTrauma-informed approaches to perinatal mental health care\nStrategies for sustaining well-being\nBirth Trauma: impacts and interventions\nPerinatal mental health crisis: components of assessment and care\nPerinatal loss\n\nQuestions regarding the training\, please email: training@perinatalsupport.org \nThis free training is offered by Perinatal Support WA through a grant from Strengthening Families Washington at the Department of Children\, Youth\, and Families (DCYF). \nContinuing Education Information: \n\n12 CEUs approved for LICWs\, LMHCs\, and LMFTs.\nThis Program has been approved for 12 CEUs for Licensed Social Workers\, Mental Health Counselors and Marriage and Family Therapists by the Washington State Society for Clinical Social Work.\n12 Contact hours available for RNs\nProvider approved by the California Board of Registered Nursing\, Provider Number 17084 for 12 contact hours\nUp to 12 hours of Category 1 CME credits\n\nDisclosure: No one in control of content for this educational activity has disclosed a relevant financial relationship with ineligible companies whose primary business is producing\, marketing\, selling\, re-selling\, or distributing products used by or on patients. \nAccreditation Statement: This activity has been planned and implemented in accordance with the accreditation requirements of the Washington State Medical Association through the joint providership of PeaceHealth St. Joseph Medical Center and Whatcom Perinatal Mental Health Task Force. PeaceHealth St. Joseph is accredited by the WSMA to provide continuing medical education for physicians. \nPeaceHealth St. Joseph designates this live activity for a maximum of 12 AMA PRA Category 1 Credits™. Physicians should claim only the credit commensurate with the extent of their participation in the activity. \nThis activity meets the criteria for up to 12 hour of Category I CME credits to satisfy the relicensure requirements of the Washington State Medical Quality Assurance Commission. \nAbout the Speakers: \nDr. Meyleen Velasquez\, LICSW\, is an immigrant Latina psychotherapist specializing in perinatal and infant mental health. Meyleen has a doctorate in social work and focused her research on anti-racist and anti-oppressive mental health services. Her practice supports birthing people and clinicians working from an anti-oppressive framework. Meyleen identified as a Brown person for most of her life until several years ago when Vitiligo changed how she navigates the world. \nLeslie Butterfield\, PhD is a clinical psychologist who specializes in pregnancy and postpartum issues. At her Seattle\, WA private practice she works with moms and couples struggling with pregnancy and neonatal loss\, the transition to parenthood\, pregnancy and postpartum mood disorders\, and birth related trauma.  Additionally\, she has designed and taught the counseling skills curriculum for Seattle Midwifery School and Bastyr Naturopathic University’s Department of Midwifery for the past 15 years. \nIn her capacity as an educator\, Leslie has provided trainings and consultations to: University of Washington; Singapore KKH Hospital for Women; AWHONN (Association of Womens Health\, Obstetric and Neonatal Nurses); Marcé Society; PALS (Pacific Association of Labor Support); API (Attachment Parenting International)\, NAPS (Northwest Association for Postpartum Support)\, Catholic Charities\, Planned Parenthood\, and others.  Recently she has served on the board of PATTCh (Prevention and Treatment of Traumatic Childbirth) as Vice President\, and Perinatal Support Washington as the former chair and current board member. \nThis free training is offered by Perinatal Support WA through a grant from Strengthening Families Washington at the Department of Children\, Youth\, and Families (DCYF). \n \n 
URL:https://perinatalsupport.org/event/whatcom-oct-2023/
LOCATION:Fox Hall\, 1661 W. Bakerview Road\, Bellingham\, WA\, 98226\, United States
CATEGORIES:ContinuingEducation,Provider Training
ORGANIZER;CN="Perinatal Support Washington":MAILTO:training@perinatalsupport.org
GEO:48.7889201;-122.5214714
X-APPLE-STRUCTURED-LOCATION;VALUE=URI;X-ADDRESS=Fox Hall 1661 W. Bakerview Road Bellingham WA 98226 United States;X-APPLE-RADIUS=500;X-TITLE=1661 W. Bakerview Road:geo:-122.5214714,48.7889201
END:VEVENT
END:VCALENDAR