BEGIN:VCALENDAR
VERSION:2.0
PRODID:-//Perinatal Support Washington - ECPv6.15.20//NONSGML v1.0//EN
CALSCALE:GREGORIAN
METHOD:PUBLISH
X-WR-CALNAME:Perinatal Support Washington
X-ORIGINAL-URL:https://perinatalsupport.org
X-WR-CALDESC:Events for Perinatal Support Washington
REFRESH-INTERVAL;VALUE=DURATION:PT1H
X-Robots-Tag:noindex
X-PUBLISHED-TTL:PT1H
BEGIN:VTIMEZONE
TZID:America/Vancouver
BEGIN:DAYLIGHT
TZOFFSETFROM:-0800
TZOFFSETTO:-0700
TZNAME:PDT
DTSTART:20240310T100000
END:DAYLIGHT
BEGIN:STANDARD
TZOFFSETFROM:-0700
TZOFFSETTO:-0800
TZNAME:PST
DTSTART:20241103T090000
END:STANDARD
BEGIN:DAYLIGHT
TZOFFSETFROM:-0800
TZOFFSETTO:-0700
TZNAME:PDT
DTSTART:20250309T100000
END:DAYLIGHT
BEGIN:STANDARD
TZOFFSETFROM:-0700
TZOFFSETTO:-0800
TZNAME:PST
DTSTART:20251102T090000
END:STANDARD
BEGIN:DAYLIGHT
TZOFFSETFROM:-0800
TZOFFSETTO:-0700
TZNAME:PDT
DTSTART:20260308T100000
END:DAYLIGHT
BEGIN:STANDARD
TZOFFSETFROM:-0700
TZOFFSETTO:-0800
TZNAME:PST
DTSTART:20261101T090000
END:STANDARD
END:VTIMEZONE
BEGIN:VEVENT
DTSTART;TZID=America/Vancouver:20250522T090000
DTEND;TZID=America/Vancouver:20250522T170000
DTSTAMP:20260420T153551
CREATED:20250414T215520Z
LAST-MODIFIED:20250519T212925Z
UID:10023864-1747904400-1747933200@perinatalsupport.org
SUMMARY:Foundations in Perinatal Mental Health (Kittitas County)
DESCRIPTION:*Registration is Full* \nThis training is open to WA state professionals who practice in Kittitas County. \nThis training covers key concepts and practices in the prevention\, identification and treatment of perinatal mood and anxiety disorders\n(PMADs)\, as well as how to link parents to support and treatment. In this training we will cover risk factors\, symptoms\, and causes of PMADs and how this impacts families\, including high risk populations experiencing PMADs\, and the intersection of perinatal mental health and trauma.  In addition\, topics will include medication in the perinatal period\, screening tools\, making effective referrals\, and creating client led support. \nThis training will be dynamic and interactive\, with opportunities to network with peers and colleagues to create deeper connections between resources and services.  Expect to walk away with fresh insights into perinatal mental health\, practical tools to implement immediately in your work with clients\, and new perspectives on how to support birthing people and their families. Plus\, we will spend some time on taking care of ourselves as providers\, and building skills that can help prevent burnout and compassion fatigue. \nDate: Thursday\, May 22\, 2025 \nTime: 9am-5pm PST \nLocation:\nHotel Windrow\n502 N Main Street\nEllensburg\, WA 98926\n(Yakima Room) \nCost: FREE \nTrainer: Crystal Gurney \nLearning Objectives: \nUpon completion of this training\, participants will be able to: \n\nLearn about the Spectrum of Perinatal Mental Health\nScreen a parent for risk factors leading to perinatal mood and anxiety disorders by identifying at least four risk factors.\nScreen a parent for perinatal mood and anxiety disorders by identifying at least three symptoms.\nDescribe medications used during pregnancy and breastfeeding to treat perinatal mood and anxiety disorders.\nLearn about local resources for new parent support.\n\nContinuing Education: \n\n6.5 Contact Hours approved for RNs: Provider approved by the California Board of Registered Nursing\, Provider Number 17084 for 6.5 contact hours.\n\nThis free training is offered by Perinatal Support WA through a grant from Strengthening Families Washington at the Department of Children\, Youth\, and Families (DCYF). \nQuestions regarding the training\, please email: training@perinatalsupport.org \n 
URL:https://perinatalsupport.org/event/kittitas_may2025/
LOCATION:Hotel Windrow\, North Main Street 502\, Ellensburg\, WA\, 98926\, United States
CATEGORIES:ContinuingEducation,Provider Training
ORGANIZER;CN="Perinatal Support Washington":MAILTO:training@perinatalsupport.org
GEO:46.9969432;-120.5484169
X-APPLE-STRUCTURED-LOCATION;VALUE=URI;X-ADDRESS=Hotel Windrow North Main Street 502 Ellensburg WA 98926 United States;X-APPLE-RADIUS=500;X-TITLE=North Main Street 502:geo:-120.5484169,46.9969432
END:VEVENT
END:VCALENDAR