BEGIN:VCALENDAR
VERSION:2.0
PRODID:-//Perinatal Support Washington - ECPv6.15.20//NONSGML v1.0//EN
CALSCALE:GREGORIAN
METHOD:PUBLISH
X-WR-CALNAME:Perinatal Support Washington
X-ORIGINAL-URL:https://perinatalsupport.org
X-WR-CALDESC:Events for Perinatal Support Washington
REFRESH-INTERVAL;VALUE=DURATION:PT1H
X-Robots-Tag:noindex
X-PUBLISHED-TTL:PT1H
BEGIN:VTIMEZONE
TZID:America/Vancouver
BEGIN:DAYLIGHT
TZOFFSETFROM:-0800
TZOFFSETTO:-0700
TZNAME:PDT
DTSTART:20210314T100000
END:DAYLIGHT
BEGIN:STANDARD
TZOFFSETFROM:-0700
TZOFFSETTO:-0800
TZNAME:PST
DTSTART:20211107T090000
END:STANDARD
BEGIN:DAYLIGHT
TZOFFSETFROM:-0800
TZOFFSETTO:-0700
TZNAME:PDT
DTSTART:20220313T100000
END:DAYLIGHT
BEGIN:STANDARD
TZOFFSETFROM:-0700
TZOFFSETTO:-0800
TZNAME:PST
DTSTART:20221106T090000
END:STANDARD
BEGIN:DAYLIGHT
TZOFFSETFROM:-0800
TZOFFSETTO:-0700
TZNAME:PDT
DTSTART:20230312T100000
END:DAYLIGHT
BEGIN:STANDARD
TZOFFSETFROM:-0700
TZOFFSETTO:-0800
TZNAME:PST
DTSTART:20231105T090000
END:STANDARD
END:VTIMEZONE
BEGIN:VEVENT
DTSTART;TZID=America/Vancouver:20221208T170000
DTEND;TZID=America/Vancouver:20221208T183000
DTSTAMP:20260422T122201
CREATED:20221203T031750Z
LAST-MODIFIED:20230302T032709Z
UID:10015707-1670518800-1670524200@perinatalsupport.org
SUMMARY:Círculo de Alianza Latina para la Maternidad Acompañada (CALMA)
DESCRIPTION:Apoyo_CALMA \nCírculo de Alianza Latina para la Maternidad Acompañada \n¿Estás embarazada o tienes un bebé?\nEl cambio suele ser complicado y la adaptación merece ser acompañada. Te invitamos al grupo de apoyo CALMA donde ofrecemos un espacio para ser escuchadas y honestas sobre los altibajos que conlleva navegar la nueva maternidad. Libre de costo. \nEn persona\nConéctate cada segundo jueves del mes.\nHora: 5:00 PM- 6:30 PM PST \n¿ D Ó N D E ? \nLynden Library\n216 4th St\nLynden\, WA 98264 \n¿Preguntas? Escríbele a Sharleen apoyocalma@gmail.com
URL:https://perinatalsupport.org/event/circulo-de-alianza-latina-para-la-maternidad-acompanada-calma-2/2022-12-08/
LOCATION:Lynden Library\, 216 4th St\, Lynden\, 98264
CATEGORIES:BIPOC,Latinx,Spanish,Support Group,Whatcom
ORGANIZER;CN="Sharleen Ortiz Rivera":MAILTO:apoyocalma@gmail.com
GEO:48.9450499;-122.4524603
X-APPLE-STRUCTURED-LOCATION;VALUE=URI;X-ADDRESS=Lynden Library 216 4th St Lynden 98264;X-APPLE-RADIUS=500;X-TITLE=216 4th St:geo:-122.4524603,48.9450499
END:VEVENT
END:VCALENDAR