BEGIN:VCALENDAR
VERSION:2.0
PRODID:-//Perinatal Support Washington - ECPv6.15.20//NONSGML v1.0//EN
CALSCALE:GREGORIAN
METHOD:PUBLISH
X-ORIGINAL-URL:https://perinatalsupport.org
X-WR-CALDESC:Events for Perinatal Support Washington
REFRESH-INTERVAL;VALUE=DURATION:PT1H
X-Robots-Tag:noindex
X-PUBLISHED-TTL:PT1H
BEGIN:VTIMEZONE
TZID:America/Vancouver
BEGIN:DAYLIGHT
TZOFFSETFROM:-0800
TZOFFSETTO:-0700
TZNAME:PDT
DTSTART:20190310T100000
END:DAYLIGHT
BEGIN:STANDARD
TZOFFSETFROM:-0700
TZOFFSETTO:-0800
TZNAME:PST
DTSTART:20191103T090000
END:STANDARD
BEGIN:DAYLIGHT
TZOFFSETFROM:-0800
TZOFFSETTO:-0700
TZNAME:PDT
DTSTART:20200308T100000
END:DAYLIGHT
BEGIN:STANDARD
TZOFFSETFROM:-0700
TZOFFSETTO:-0800
TZNAME:PST
DTSTART:20201101T090000
END:STANDARD
BEGIN:DAYLIGHT
TZOFFSETFROM:-0800
TZOFFSETTO:-0700
TZNAME:PDT
DTSTART:20210314T100000
END:DAYLIGHT
BEGIN:STANDARD
TZOFFSETFROM:-0700
TZOFFSETTO:-0800
TZNAME:PST
DTSTART:20211107T090000
END:STANDARD
END:VTIMEZONE
BEGIN:VEVENT
DTSTART;TZID=America/Vancouver:20200505T183000
DTEND;TZID=America/Vancouver:20200505T200000
DTSTAMP:20260420T063002
CREATED:20200317T003246Z
LAST-MODIFIED:20200422T214129Z
UID:10012122-1588703400-1588708800@perinatalsupport.org
SUMMARY:Spokane MISS Chapter
DESCRIPTION:While not currently meeting in person due to social distancing requirements\, information about online support can be found here. \nWe exist to support parents through the loss of a child at any age. We are peer to peer support.
URL:https://perinatalsupport.org/event/spokane-miss-chapter/2020-05-05/
LOCATION:Spokane MISS Chapter\, 4209 E. Pacific Ave\, Spokane\, WA\, 99202\, United States
CATEGORIES:Perinatal Loss Support
ORGANIZER;CN="Nancy Vekved":MAILTO:sweetpeascarrot@live.com
GEO:47.6559206;-117.3478215
X-APPLE-STRUCTURED-LOCATION;VALUE=URI;X-ADDRESS=Spokane MISS Chapter 4209 E. Pacific Ave Spokane WA 99202 United States;X-APPLE-RADIUS=500;X-TITLE=4209 E. Pacific Ave:geo:-117.3478215,47.6559206
END:VEVENT
BEGIN:VEVENT
DTSTART;TZID=America/Vancouver:20200407T183000
DTEND;TZID=America/Vancouver:20200407T200000
DTSTAMP:20260420T063002
CREATED:20200317T003246Z
LAST-MODIFIED:20200422T214129Z
UID:10012121-1586284200-1586289600@perinatalsupport.org
SUMMARY:Spokane MISS Chapter
DESCRIPTION:While not currently meeting in person due to social distancing requirements\, information about online support can be found here. \nWe exist to support parents through the loss of a child at any age. We are peer to peer support.
URL:https://perinatalsupport.org/event/spokane-miss-chapter/2020-04-07/
LOCATION:Spokane MISS Chapter\, 4209 E. Pacific Ave\, Spokane\, WA\, 99202\, United States
CATEGORIES:Perinatal Loss Support
ORGANIZER;CN="Nancy Vekved":MAILTO:sweetpeascarrot@live.com
GEO:47.6559206;-117.3478215
X-APPLE-STRUCTURED-LOCATION;VALUE=URI;X-ADDRESS=Spokane MISS Chapter 4209 E. Pacific Ave Spokane WA 99202 United States;X-APPLE-RADIUS=500;X-TITLE=4209 E. Pacific Ave:geo:-117.3478215,47.6559206
END:VEVENT
BEGIN:VEVENT
DTSTART;TZID=America/Vancouver:20200303T183000
DTEND;TZID=America/Vancouver:20200303T200000
DTSTAMP:20260420T063002
CREATED:20200317T003246Z
LAST-MODIFIED:20200422T214129Z
UID:10012120-1583260200-1583265600@perinatalsupport.org
SUMMARY:Spokane MISS Chapter
DESCRIPTION:While not currently meeting in person due to social distancing requirements\, information about online support can be found here. \nWe exist to support parents through the loss of a child at any age. We are peer to peer support.
URL:https://perinatalsupport.org/event/spokane-miss-chapter/2020-03-03/
LOCATION:Spokane MISS Chapter\, 4209 E. Pacific Ave\, Spokane\, WA\, 99202\, United States
CATEGORIES:Perinatal Loss Support
ORGANIZER;CN="Nancy Vekved":MAILTO:sweetpeascarrot@live.com
GEO:47.6559206;-117.3478215
X-APPLE-STRUCTURED-LOCATION;VALUE=URI;X-ADDRESS=Spokane MISS Chapter 4209 E. Pacific Ave Spokane WA 99202 United States;X-APPLE-RADIUS=500;X-TITLE=4209 E. Pacific Ave:geo:-117.3478215,47.6559206
END:VEVENT
END:VCALENDAR