BEGIN:VCALENDAR
VERSION:2.0
PRODID:-//Perinatal Support Washington - ECPv6.15.20//NONSGML v1.0//EN
CALSCALE:GREGORIAN
METHOD:PUBLISH
X-WR-CALNAME:Perinatal Support Washington
X-ORIGINAL-URL:https://perinatalsupport.org
X-WR-CALDESC:Events for Perinatal Support Washington
REFRESH-INTERVAL;VALUE=DURATION:PT1H
X-Robots-Tag:noindex
X-PUBLISHED-TTL:PT1H
BEGIN:VTIMEZONE
TZID:America/Vancouver
BEGIN:DAYLIGHT
TZOFFSETFROM:-0800
TZOFFSETTO:-0700
TZNAME:PDT
DTSTART:20190310T100000
END:DAYLIGHT
BEGIN:STANDARD
TZOFFSETFROM:-0700
TZOFFSETTO:-0800
TZNAME:PST
DTSTART:20191103T090000
END:STANDARD
BEGIN:DAYLIGHT
TZOFFSETFROM:-0800
TZOFFSETTO:-0700
TZNAME:PDT
DTSTART:20200308T100000
END:DAYLIGHT
BEGIN:STANDARD
TZOFFSETFROM:-0700
TZOFFSETTO:-0800
TZNAME:PST
DTSTART:20201101T090000
END:STANDARD
BEGIN:DAYLIGHT
TZOFFSETFROM:-0800
TZOFFSETTO:-0700
TZNAME:PDT
DTSTART:20210314T100000
END:DAYLIGHT
BEGIN:STANDARD
TZOFFSETFROM:-0700
TZOFFSETTO:-0800
TZNAME:PST
DTSTART:20211107T090000
END:STANDARD
BEGIN:DAYLIGHT
TZOFFSETFROM:-0800
TZOFFSETTO:-0700
TZNAME:PDT
DTSTART:20220313T100000
END:DAYLIGHT
BEGIN:STANDARD
TZOFFSETFROM:-0700
TZOFFSETTO:-0800
TZNAME:PST
DTSTART:20221106T090000
END:STANDARD
BEGIN:DAYLIGHT
TZOFFSETFROM:-0800
TZOFFSETTO:-0700
TZNAME:PDT
DTSTART:20230312T100000
END:DAYLIGHT
BEGIN:STANDARD
TZOFFSETFROM:-0700
TZOFFSETTO:-0800
TZNAME:PST
DTSTART:20231105T090000
END:STANDARD
END:VTIMEZONE
BEGIN:VEVENT
DTSTART;TZID=America/Vancouver:20221121T183000
DTEND;TZID=America/Vancouver:20221121T183000
DTSTAMP:20260420T200746
CREATED:20200317T003245Z
LAST-MODIFIED:20200412T154231Z
UID:10012065-1669055400-1669055400@perinatalsupport.org
SUMMARY:Pregnancy & Infant Loss Support Group
DESCRIPTION:This meeting is an open discussion support group.  Any bereaved parent is welcome to drop in.
URL:https://perinatalsupport.org/event/pregnancy-infant-loss-support-group/2022-11-21/
LOCATION:The TEARS Foundation’s Center for Child Loss\, 11102 Sunrise Blvd E\, Suite 112\, Puyallup\, WA\, 98374\, United States
CATEGORIES:Perinatal Loss Support
GEO:47.0969554;-122.281541
X-APPLE-STRUCTURED-LOCATION;VALUE=URI;X-ADDRESS=The TEARS Foundation’s Center for Child Loss 11102 Sunrise Blvd E Suite 112 Puyallup WA 98374 United States;X-APPLE-RADIUS=500;X-TITLE=11102 Sunrise Blvd E\, Suite 112:geo:-122.281541,47.0969554
END:VEVENT
BEGIN:VEVENT
DTSTART;TZID=America/Vancouver:20221017T183000
DTEND;TZID=America/Vancouver:20221017T183000
DTSTAMP:20260420T200746
CREATED:20200317T003245Z
LAST-MODIFIED:20200412T154231Z
UID:10012064-1666031400-1666031400@perinatalsupport.org
SUMMARY:Pregnancy & Infant Loss Support Group
DESCRIPTION:This meeting is an open discussion support group.  Any bereaved parent is welcome to drop in.
URL:https://perinatalsupport.org/event/pregnancy-infant-loss-support-group/2022-10-17/
LOCATION:The TEARS Foundation’s Center for Child Loss\, 11102 Sunrise Blvd E\, Suite 112\, Puyallup\, WA\, 98374\, United States
CATEGORIES:Perinatal Loss Support
GEO:47.0969554;-122.281541
X-APPLE-STRUCTURED-LOCATION;VALUE=URI;X-ADDRESS=The TEARS Foundation’s Center for Child Loss 11102 Sunrise Blvd E Suite 112 Puyallup WA 98374 United States;X-APPLE-RADIUS=500;X-TITLE=11102 Sunrise Blvd E\, Suite 112:geo:-122.281541,47.0969554
END:VEVENT
BEGIN:VEVENT
DTSTART;TZID=America/Vancouver:20220919T183000
DTEND;TZID=America/Vancouver:20220919T183000
DTSTAMP:20260420T200746
CREATED:20200317T003245Z
LAST-MODIFIED:20200412T154231Z
UID:10012063-1663612200-1663612200@perinatalsupport.org
SUMMARY:Pregnancy & Infant Loss Support Group
DESCRIPTION:This meeting is an open discussion support group.  Any bereaved parent is welcome to drop in.
URL:https://perinatalsupport.org/event/pregnancy-infant-loss-support-group/2022-09-19/
LOCATION:The TEARS Foundation’s Center for Child Loss\, 11102 Sunrise Blvd E\, Suite 112\, Puyallup\, WA\, 98374\, United States
CATEGORIES:Perinatal Loss Support
GEO:47.0969554;-122.281541
X-APPLE-STRUCTURED-LOCATION;VALUE=URI;X-ADDRESS=The TEARS Foundation’s Center for Child Loss 11102 Sunrise Blvd E Suite 112 Puyallup WA 98374 United States;X-APPLE-RADIUS=500;X-TITLE=11102 Sunrise Blvd E\, Suite 112:geo:-122.281541,47.0969554
END:VEVENT
BEGIN:VEVENT
DTSTART;TZID=America/Vancouver:20220815T183000
DTEND;TZID=America/Vancouver:20220815T183000
DTSTAMP:20260420T200746
CREATED:20200317T003245Z
LAST-MODIFIED:20200412T154231Z
UID:10012062-1660588200-1660588200@perinatalsupport.org
SUMMARY:Pregnancy & Infant Loss Support Group
DESCRIPTION:This meeting is an open discussion support group.  Any bereaved parent is welcome to drop in.
URL:https://perinatalsupport.org/event/pregnancy-infant-loss-support-group/2022-08-15/
LOCATION:The TEARS Foundation’s Center for Child Loss\, 11102 Sunrise Blvd E\, Suite 112\, Puyallup\, WA\, 98374\, United States
CATEGORIES:Perinatal Loss Support
GEO:47.0969554;-122.281541
X-APPLE-STRUCTURED-LOCATION;VALUE=URI;X-ADDRESS=The TEARS Foundation’s Center for Child Loss 11102 Sunrise Blvd E Suite 112 Puyallup WA 98374 United States;X-APPLE-RADIUS=500;X-TITLE=11102 Sunrise Blvd E\, Suite 112:geo:-122.281541,47.0969554
END:VEVENT
BEGIN:VEVENT
DTSTART;TZID=America/Vancouver:20220718T183000
DTEND;TZID=America/Vancouver:20220718T183000
DTSTAMP:20260420T200746
CREATED:20200317T003245Z
LAST-MODIFIED:20200412T154231Z
UID:10012061-1658169000-1658169000@perinatalsupport.org
SUMMARY:Pregnancy & Infant Loss Support Group
DESCRIPTION:This meeting is an open discussion support group.  Any bereaved parent is welcome to drop in.
URL:https://perinatalsupport.org/event/pregnancy-infant-loss-support-group/2022-07-18/
LOCATION:The TEARS Foundation’s Center for Child Loss\, 11102 Sunrise Blvd E\, Suite 112\, Puyallup\, WA\, 98374\, United States
CATEGORIES:Perinatal Loss Support
GEO:47.0969554;-122.281541
X-APPLE-STRUCTURED-LOCATION;VALUE=URI;X-ADDRESS=The TEARS Foundation’s Center for Child Loss 11102 Sunrise Blvd E Suite 112 Puyallup WA 98374 United States;X-APPLE-RADIUS=500;X-TITLE=11102 Sunrise Blvd E\, Suite 112:geo:-122.281541,47.0969554
END:VEVENT
BEGIN:VEVENT
DTSTART;TZID=America/Vancouver:20220620T183000
DTEND;TZID=America/Vancouver:20220620T183000
DTSTAMP:20260420T200746
CREATED:20200317T003245Z
LAST-MODIFIED:20200412T154231Z
UID:10012060-1655749800-1655749800@perinatalsupport.org
SUMMARY:Pregnancy & Infant Loss Support Group
DESCRIPTION:This meeting is an open discussion support group.  Any bereaved parent is welcome to drop in.
URL:https://perinatalsupport.org/event/pregnancy-infant-loss-support-group/2022-06-20/
LOCATION:The TEARS Foundation’s Center for Child Loss\, 11102 Sunrise Blvd E\, Suite 112\, Puyallup\, WA\, 98374\, United States
CATEGORIES:Perinatal Loss Support
GEO:47.0969554;-122.281541
X-APPLE-STRUCTURED-LOCATION;VALUE=URI;X-ADDRESS=The TEARS Foundation’s Center for Child Loss 11102 Sunrise Blvd E Suite 112 Puyallup WA 98374 United States;X-APPLE-RADIUS=500;X-TITLE=11102 Sunrise Blvd E\, Suite 112:geo:-122.281541,47.0969554
END:VEVENT
BEGIN:VEVENT
DTSTART;TZID=America/Vancouver:20220516T183000
DTEND;TZID=America/Vancouver:20220516T183000
DTSTAMP:20260420T200746
CREATED:20200317T003245Z
LAST-MODIFIED:20200412T154231Z
UID:10012059-1652725800-1652725800@perinatalsupport.org
SUMMARY:Pregnancy & Infant Loss Support Group
DESCRIPTION:This meeting is an open discussion support group.  Any bereaved parent is welcome to drop in.
URL:https://perinatalsupport.org/event/pregnancy-infant-loss-support-group/2022-05-16/
LOCATION:The TEARS Foundation’s Center for Child Loss\, 11102 Sunrise Blvd E\, Suite 112\, Puyallup\, WA\, 98374\, United States
CATEGORIES:Perinatal Loss Support
GEO:47.0969554;-122.281541
X-APPLE-STRUCTURED-LOCATION;VALUE=URI;X-ADDRESS=The TEARS Foundation’s Center for Child Loss 11102 Sunrise Blvd E Suite 112 Puyallup WA 98374 United States;X-APPLE-RADIUS=500;X-TITLE=11102 Sunrise Blvd E\, Suite 112:geo:-122.281541,47.0969554
END:VEVENT
BEGIN:VEVENT
DTSTART;TZID=America/Vancouver:20220418T183000
DTEND;TZID=America/Vancouver:20220418T183000
DTSTAMP:20260420T200746
CREATED:20200317T003245Z
LAST-MODIFIED:20200412T154231Z
UID:10012058-1650306600-1650306600@perinatalsupport.org
SUMMARY:Pregnancy & Infant Loss Support Group
DESCRIPTION:This meeting is an open discussion support group.  Any bereaved parent is welcome to drop in.
URL:https://perinatalsupport.org/event/pregnancy-infant-loss-support-group/2022-04-18/
LOCATION:The TEARS Foundation’s Center for Child Loss\, 11102 Sunrise Blvd E\, Suite 112\, Puyallup\, WA\, 98374\, United States
CATEGORIES:Perinatal Loss Support
GEO:47.0969554;-122.281541
X-APPLE-STRUCTURED-LOCATION;VALUE=URI;X-ADDRESS=The TEARS Foundation’s Center for Child Loss 11102 Sunrise Blvd E Suite 112 Puyallup WA 98374 United States;X-APPLE-RADIUS=500;X-TITLE=11102 Sunrise Blvd E\, Suite 112:geo:-122.281541,47.0969554
END:VEVENT
BEGIN:VEVENT
DTSTART;TZID=America/Vancouver:20220321T183000
DTEND;TZID=America/Vancouver:20220321T183000
DTSTAMP:20260420T200746
CREATED:20200317T003245Z
LAST-MODIFIED:20200412T154231Z
UID:10012057-1647887400-1647887400@perinatalsupport.org
SUMMARY:Pregnancy & Infant Loss Support Group
DESCRIPTION:This meeting is an open discussion support group.  Any bereaved parent is welcome to drop in.
URL:https://perinatalsupport.org/event/pregnancy-infant-loss-support-group/2022-03-21/
LOCATION:The TEARS Foundation’s Center for Child Loss\, 11102 Sunrise Blvd E\, Suite 112\, Puyallup\, WA\, 98374\, United States
CATEGORIES:Perinatal Loss Support
GEO:47.0969554;-122.281541
X-APPLE-STRUCTURED-LOCATION;VALUE=URI;X-ADDRESS=The TEARS Foundation’s Center for Child Loss 11102 Sunrise Blvd E Suite 112 Puyallup WA 98374 United States;X-APPLE-RADIUS=500;X-TITLE=11102 Sunrise Blvd E\, Suite 112:geo:-122.281541,47.0969554
END:VEVENT
BEGIN:VEVENT
DTSTART;TZID=America/Vancouver:20220221T183000
DTEND;TZID=America/Vancouver:20220221T183000
DTSTAMP:20260420T200746
CREATED:20200317T003245Z
LAST-MODIFIED:20200412T154231Z
UID:10012056-1645468200-1645468200@perinatalsupport.org
SUMMARY:Pregnancy & Infant Loss Support Group
DESCRIPTION:This meeting is an open discussion support group.  Any bereaved parent is welcome to drop in.
URL:https://perinatalsupport.org/event/pregnancy-infant-loss-support-group/2022-02-21/
LOCATION:The TEARS Foundation’s Center for Child Loss\, 11102 Sunrise Blvd E\, Suite 112\, Puyallup\, WA\, 98374\, United States
CATEGORIES:Perinatal Loss Support
GEO:47.0969554;-122.281541
X-APPLE-STRUCTURED-LOCATION;VALUE=URI;X-ADDRESS=The TEARS Foundation’s Center for Child Loss 11102 Sunrise Blvd E Suite 112 Puyallup WA 98374 United States;X-APPLE-RADIUS=500;X-TITLE=11102 Sunrise Blvd E\, Suite 112:geo:-122.281541,47.0969554
END:VEVENT
BEGIN:VEVENT
DTSTART;TZID=America/Vancouver:20220117T183000
DTEND;TZID=America/Vancouver:20220117T183000
DTSTAMP:20260420T200746
CREATED:20200317T003245Z
LAST-MODIFIED:20200412T154231Z
UID:10012055-1642444200-1642444200@perinatalsupport.org
SUMMARY:Pregnancy & Infant Loss Support Group
DESCRIPTION:This meeting is an open discussion support group.  Any bereaved parent is welcome to drop in.
URL:https://perinatalsupport.org/event/pregnancy-infant-loss-support-group/2022-01-17/
LOCATION:The TEARS Foundation’s Center for Child Loss\, 11102 Sunrise Blvd E\, Suite 112\, Puyallup\, WA\, 98374\, United States
CATEGORIES:Perinatal Loss Support
GEO:47.0969554;-122.281541
X-APPLE-STRUCTURED-LOCATION;VALUE=URI;X-ADDRESS=The TEARS Foundation’s Center for Child Loss 11102 Sunrise Blvd E Suite 112 Puyallup WA 98374 United States;X-APPLE-RADIUS=500;X-TITLE=11102 Sunrise Blvd E\, Suite 112:geo:-122.281541,47.0969554
END:VEVENT
BEGIN:VEVENT
DTSTART;TZID=America/Vancouver:20211220T183000
DTEND;TZID=America/Vancouver:20211220T183000
DTSTAMP:20260420T200746
CREATED:20200317T003245Z
LAST-MODIFIED:20200412T154231Z
UID:10012054-1640025000-1640025000@perinatalsupport.org
SUMMARY:Pregnancy & Infant Loss Support Group
DESCRIPTION:This meeting is an open discussion support group.  Any bereaved parent is welcome to drop in.
URL:https://perinatalsupport.org/event/pregnancy-infant-loss-support-group/2021-12-20/
LOCATION:The TEARS Foundation’s Center for Child Loss\, 11102 Sunrise Blvd E\, Suite 112\, Puyallup\, WA\, 98374\, United States
CATEGORIES:Perinatal Loss Support
GEO:47.0969554;-122.281541
X-APPLE-STRUCTURED-LOCATION;VALUE=URI;X-ADDRESS=The TEARS Foundation’s Center for Child Loss 11102 Sunrise Blvd E Suite 112 Puyallup WA 98374 United States;X-APPLE-RADIUS=500;X-TITLE=11102 Sunrise Blvd E\, Suite 112:geo:-122.281541,47.0969554
END:VEVENT
BEGIN:VEVENT
DTSTART;TZID=America/Vancouver:20211115T183000
DTEND;TZID=America/Vancouver:20211115T183000
DTSTAMP:20260420T200746
CREATED:20200317T003245Z
LAST-MODIFIED:20200412T154231Z
UID:10012053-1637001000-1637001000@perinatalsupport.org
SUMMARY:Pregnancy & Infant Loss Support Group
DESCRIPTION:This meeting is an open discussion support group.  Any bereaved parent is welcome to drop in.
URL:https://perinatalsupport.org/event/pregnancy-infant-loss-support-group/2021-11-15/
LOCATION:The TEARS Foundation’s Center for Child Loss\, 11102 Sunrise Blvd E\, Suite 112\, Puyallup\, WA\, 98374\, United States
CATEGORIES:Perinatal Loss Support
GEO:47.0969554;-122.281541
X-APPLE-STRUCTURED-LOCATION;VALUE=URI;X-ADDRESS=The TEARS Foundation’s Center for Child Loss 11102 Sunrise Blvd E Suite 112 Puyallup WA 98374 United States;X-APPLE-RADIUS=500;X-TITLE=11102 Sunrise Blvd E\, Suite 112:geo:-122.281541,47.0969554
END:VEVENT
BEGIN:VEVENT
DTSTART;TZID=America/Vancouver:20211018T183000
DTEND;TZID=America/Vancouver:20211018T183000
DTSTAMP:20260420T200746
CREATED:20200317T003245Z
LAST-MODIFIED:20200412T154231Z
UID:10012052-1634581800-1634581800@perinatalsupport.org
SUMMARY:Pregnancy & Infant Loss Support Group
DESCRIPTION:This meeting is an open discussion support group.  Any bereaved parent is welcome to drop in.
URL:https://perinatalsupport.org/event/pregnancy-infant-loss-support-group/2021-10-18/
LOCATION:The TEARS Foundation’s Center for Child Loss\, 11102 Sunrise Blvd E\, Suite 112\, Puyallup\, WA\, 98374\, United States
CATEGORIES:Perinatal Loss Support
GEO:47.0969554;-122.281541
X-APPLE-STRUCTURED-LOCATION;VALUE=URI;X-ADDRESS=The TEARS Foundation’s Center for Child Loss 11102 Sunrise Blvd E Suite 112 Puyallup WA 98374 United States;X-APPLE-RADIUS=500;X-TITLE=11102 Sunrise Blvd E\, Suite 112:geo:-122.281541,47.0969554
END:VEVENT
BEGIN:VEVENT
DTSTART;TZID=America/Vancouver:20210920T183000
DTEND;TZID=America/Vancouver:20210920T183000
DTSTAMP:20260420T200746
CREATED:20200317T003245Z
LAST-MODIFIED:20200412T154231Z
UID:10012051-1632162600-1632162600@perinatalsupport.org
SUMMARY:Pregnancy & Infant Loss Support Group
DESCRIPTION:This meeting is an open discussion support group.  Any bereaved parent is welcome to drop in.
URL:https://perinatalsupport.org/event/pregnancy-infant-loss-support-group/2021-09-20/
LOCATION:The TEARS Foundation’s Center for Child Loss\, 11102 Sunrise Blvd E\, Suite 112\, Puyallup\, WA\, 98374\, United States
CATEGORIES:Perinatal Loss Support
GEO:47.0969554;-122.281541
X-APPLE-STRUCTURED-LOCATION;VALUE=URI;X-ADDRESS=The TEARS Foundation’s Center for Child Loss 11102 Sunrise Blvd E Suite 112 Puyallup WA 98374 United States;X-APPLE-RADIUS=500;X-TITLE=11102 Sunrise Blvd E\, Suite 112:geo:-122.281541,47.0969554
END:VEVENT
BEGIN:VEVENT
DTSTART;TZID=America/Vancouver:20210816T183000
DTEND;TZID=America/Vancouver:20210816T183000
DTSTAMP:20260420T200746
CREATED:20200317T003245Z
LAST-MODIFIED:20200412T154231Z
UID:10012050-1629138600-1629138600@perinatalsupport.org
SUMMARY:Pregnancy & Infant Loss Support Group
DESCRIPTION:This meeting is an open discussion support group.  Any bereaved parent is welcome to drop in.
URL:https://perinatalsupport.org/event/pregnancy-infant-loss-support-group/2021-08-16/
LOCATION:The TEARS Foundation’s Center for Child Loss\, 11102 Sunrise Blvd E\, Suite 112\, Puyallup\, WA\, 98374\, United States
CATEGORIES:Perinatal Loss Support
GEO:47.0969554;-122.281541
X-APPLE-STRUCTURED-LOCATION;VALUE=URI;X-ADDRESS=The TEARS Foundation’s Center for Child Loss 11102 Sunrise Blvd E Suite 112 Puyallup WA 98374 United States;X-APPLE-RADIUS=500;X-TITLE=11102 Sunrise Blvd E\, Suite 112:geo:-122.281541,47.0969554
END:VEVENT
BEGIN:VEVENT
DTSTART;TZID=America/Vancouver:20210719T183000
DTEND;TZID=America/Vancouver:20210719T183000
DTSTAMP:20260420T200746
CREATED:20200317T003245Z
LAST-MODIFIED:20200412T154231Z
UID:10012049-1626719400-1626719400@perinatalsupport.org
SUMMARY:Pregnancy & Infant Loss Support Group
DESCRIPTION:This meeting is an open discussion support group.  Any bereaved parent is welcome to drop in.
URL:https://perinatalsupport.org/event/pregnancy-infant-loss-support-group/2021-07-19/
LOCATION:The TEARS Foundation’s Center for Child Loss\, 11102 Sunrise Blvd E\, Suite 112\, Puyallup\, WA\, 98374\, United States
CATEGORIES:Perinatal Loss Support
GEO:47.0969554;-122.281541
X-APPLE-STRUCTURED-LOCATION;VALUE=URI;X-ADDRESS=The TEARS Foundation’s Center for Child Loss 11102 Sunrise Blvd E Suite 112 Puyallup WA 98374 United States;X-APPLE-RADIUS=500;X-TITLE=11102 Sunrise Blvd E\, Suite 112:geo:-122.281541,47.0969554
END:VEVENT
BEGIN:VEVENT
DTSTART;TZID=America/Vancouver:20210621T183000
DTEND;TZID=America/Vancouver:20210621T183000
DTSTAMP:20260420T200746
CREATED:20200317T003245Z
LAST-MODIFIED:20200412T154231Z
UID:10012048-1624300200-1624300200@perinatalsupport.org
SUMMARY:Pregnancy & Infant Loss Support Group
DESCRIPTION:This meeting is an open discussion support group.  Any bereaved parent is welcome to drop in.
URL:https://perinatalsupport.org/event/pregnancy-infant-loss-support-group/2021-06-21/
LOCATION:The TEARS Foundation’s Center for Child Loss\, 11102 Sunrise Blvd E\, Suite 112\, Puyallup\, WA\, 98374\, United States
CATEGORIES:Perinatal Loss Support
GEO:47.0969554;-122.281541
X-APPLE-STRUCTURED-LOCATION;VALUE=URI;X-ADDRESS=The TEARS Foundation’s Center for Child Loss 11102 Sunrise Blvd E Suite 112 Puyallup WA 98374 United States;X-APPLE-RADIUS=500;X-TITLE=11102 Sunrise Blvd E\, Suite 112:geo:-122.281541,47.0969554
END:VEVENT
BEGIN:VEVENT
DTSTART;TZID=America/Vancouver:20210517T183000
DTEND;TZID=America/Vancouver:20210517T183000
DTSTAMP:20260420T200746
CREATED:20200317T003245Z
LAST-MODIFIED:20200412T154231Z
UID:10012047-1621276200-1621276200@perinatalsupport.org
SUMMARY:Pregnancy & Infant Loss Support Group
DESCRIPTION:This meeting is an open discussion support group.  Any bereaved parent is welcome to drop in.
URL:https://perinatalsupport.org/event/pregnancy-infant-loss-support-group/2021-05-17/
LOCATION:The TEARS Foundation’s Center for Child Loss\, 11102 Sunrise Blvd E\, Suite 112\, Puyallup\, WA\, 98374\, United States
CATEGORIES:Perinatal Loss Support
GEO:47.0969554;-122.281541
X-APPLE-STRUCTURED-LOCATION;VALUE=URI;X-ADDRESS=The TEARS Foundation’s Center for Child Loss 11102 Sunrise Blvd E Suite 112 Puyallup WA 98374 United States;X-APPLE-RADIUS=500;X-TITLE=11102 Sunrise Blvd E\, Suite 112:geo:-122.281541,47.0969554
END:VEVENT
BEGIN:VEVENT
DTSTART;TZID=America/Vancouver:20210419T183000
DTEND;TZID=America/Vancouver:20210419T183000
DTSTAMP:20260420T200746
CREATED:20200317T003245Z
LAST-MODIFIED:20200412T154231Z
UID:10012046-1618857000-1618857000@perinatalsupport.org
SUMMARY:Pregnancy & Infant Loss Support Group
DESCRIPTION:This meeting is an open discussion support group.  Any bereaved parent is welcome to drop in.
URL:https://perinatalsupport.org/event/pregnancy-infant-loss-support-group/2021-04-19/
LOCATION:The TEARS Foundation’s Center for Child Loss\, 11102 Sunrise Blvd E\, Suite 112\, Puyallup\, WA\, 98374\, United States
CATEGORIES:Perinatal Loss Support
GEO:47.0969554;-122.281541
X-APPLE-STRUCTURED-LOCATION;VALUE=URI;X-ADDRESS=The TEARS Foundation’s Center for Child Loss 11102 Sunrise Blvd E Suite 112 Puyallup WA 98374 United States;X-APPLE-RADIUS=500;X-TITLE=11102 Sunrise Blvd E\, Suite 112:geo:-122.281541,47.0969554
END:VEVENT
BEGIN:VEVENT
DTSTART;TZID=America/Vancouver:20210315T183000
DTEND;TZID=America/Vancouver:20210315T183000
DTSTAMP:20260420T200746
CREATED:20200317T003245Z
LAST-MODIFIED:20200412T154231Z
UID:10012045-1615833000-1615833000@perinatalsupport.org
SUMMARY:Pregnancy & Infant Loss Support Group
DESCRIPTION:This meeting is an open discussion support group.  Any bereaved parent is welcome to drop in.
URL:https://perinatalsupport.org/event/pregnancy-infant-loss-support-group/2021-03-15/
LOCATION:The TEARS Foundation’s Center for Child Loss\, 11102 Sunrise Blvd E\, Suite 112\, Puyallup\, WA\, 98374\, United States
CATEGORIES:Perinatal Loss Support
GEO:47.0969554;-122.281541
X-APPLE-STRUCTURED-LOCATION;VALUE=URI;X-ADDRESS=The TEARS Foundation’s Center for Child Loss 11102 Sunrise Blvd E Suite 112 Puyallup WA 98374 United States;X-APPLE-RADIUS=500;X-TITLE=11102 Sunrise Blvd E\, Suite 112:geo:-122.281541,47.0969554
END:VEVENT
BEGIN:VEVENT
DTSTART;TZID=America/Vancouver:20210215T183000
DTEND;TZID=America/Vancouver:20210215T183000
DTSTAMP:20260420T200746
CREATED:20200317T003245Z
LAST-MODIFIED:20200412T154231Z
UID:10012044-1613413800-1613413800@perinatalsupport.org
SUMMARY:Pregnancy & Infant Loss Support Group
DESCRIPTION:This meeting is an open discussion support group.  Any bereaved parent is welcome to drop in.
URL:https://perinatalsupport.org/event/pregnancy-infant-loss-support-group/2021-02-15/
LOCATION:The TEARS Foundation’s Center for Child Loss\, 11102 Sunrise Blvd E\, Suite 112\, Puyallup\, WA\, 98374\, United States
CATEGORIES:Perinatal Loss Support
GEO:47.0969554;-122.281541
X-APPLE-STRUCTURED-LOCATION;VALUE=URI;X-ADDRESS=The TEARS Foundation’s Center for Child Loss 11102 Sunrise Blvd E Suite 112 Puyallup WA 98374 United States;X-APPLE-RADIUS=500;X-TITLE=11102 Sunrise Blvd E\, Suite 112:geo:-122.281541,47.0969554
END:VEVENT
BEGIN:VEVENT
DTSTART;TZID=America/Vancouver:20210118T183000
DTEND;TZID=America/Vancouver:20210118T183000
DTSTAMP:20260420T200746
CREATED:20200317T003245Z
LAST-MODIFIED:20200412T154231Z
UID:10012043-1610994600-1610994600@perinatalsupport.org
SUMMARY:Pregnancy & Infant Loss Support Group
DESCRIPTION:This meeting is an open discussion support group.  Any bereaved parent is welcome to drop in.
URL:https://perinatalsupport.org/event/pregnancy-infant-loss-support-group/2021-01-18/
LOCATION:The TEARS Foundation’s Center for Child Loss\, 11102 Sunrise Blvd E\, Suite 112\, Puyallup\, WA\, 98374\, United States
CATEGORIES:Perinatal Loss Support
GEO:47.0969554;-122.281541
X-APPLE-STRUCTURED-LOCATION;VALUE=URI;X-ADDRESS=The TEARS Foundation’s Center for Child Loss 11102 Sunrise Blvd E Suite 112 Puyallup WA 98374 United States;X-APPLE-RADIUS=500;X-TITLE=11102 Sunrise Blvd E\, Suite 112:geo:-122.281541,47.0969554
END:VEVENT
BEGIN:VEVENT
DTSTART;TZID=America/Vancouver:20201221T183000
DTEND;TZID=America/Vancouver:20201221T183000
DTSTAMP:20260420T200746
CREATED:20200317T003245Z
LAST-MODIFIED:20200412T154231Z
UID:10012042-1608575400-1608575400@perinatalsupport.org
SUMMARY:Pregnancy & Infant Loss Support Group
DESCRIPTION:This meeting is an open discussion support group.  Any bereaved parent is welcome to drop in.
URL:https://perinatalsupport.org/event/pregnancy-infant-loss-support-group/2020-12-21/
LOCATION:The TEARS Foundation’s Center for Child Loss\, 11102 Sunrise Blvd E\, Suite 112\, Puyallup\, WA\, 98374\, United States
CATEGORIES:Perinatal Loss Support
GEO:47.0969554;-122.281541
X-APPLE-STRUCTURED-LOCATION;VALUE=URI;X-ADDRESS=The TEARS Foundation’s Center for Child Loss 11102 Sunrise Blvd E Suite 112 Puyallup WA 98374 United States;X-APPLE-RADIUS=500;X-TITLE=11102 Sunrise Blvd E\, Suite 112:geo:-122.281541,47.0969554
END:VEVENT
BEGIN:VEVENT
DTSTART;TZID=America/Vancouver:20201116T183000
DTEND;TZID=America/Vancouver:20201116T183000
DTSTAMP:20260420T200746
CREATED:20200317T003245Z
LAST-MODIFIED:20200412T154231Z
UID:10012041-1605551400-1605551400@perinatalsupport.org
SUMMARY:Pregnancy & Infant Loss Support Group
DESCRIPTION:This meeting is an open discussion support group.  Any bereaved parent is welcome to drop in.
URL:https://perinatalsupport.org/event/pregnancy-infant-loss-support-group/2020-11-16/
LOCATION:The TEARS Foundation’s Center for Child Loss\, 11102 Sunrise Blvd E\, Suite 112\, Puyallup\, WA\, 98374\, United States
CATEGORIES:Perinatal Loss Support
GEO:47.0969554;-122.281541
X-APPLE-STRUCTURED-LOCATION;VALUE=URI;X-ADDRESS=The TEARS Foundation’s Center for Child Loss 11102 Sunrise Blvd E Suite 112 Puyallup WA 98374 United States;X-APPLE-RADIUS=500;X-TITLE=11102 Sunrise Blvd E\, Suite 112:geo:-122.281541,47.0969554
END:VEVENT
BEGIN:VEVENT
DTSTART;TZID=America/Vancouver:20201019T183000
DTEND;TZID=America/Vancouver:20201019T183000
DTSTAMP:20260420T200746
CREATED:20200317T003245Z
LAST-MODIFIED:20200412T154231Z
UID:10012040-1603132200-1603132200@perinatalsupport.org
SUMMARY:Pregnancy & Infant Loss Support Group
DESCRIPTION:This meeting is an open discussion support group.  Any bereaved parent is welcome to drop in.
URL:https://perinatalsupport.org/event/pregnancy-infant-loss-support-group/2020-10-19/
LOCATION:The TEARS Foundation’s Center for Child Loss\, 11102 Sunrise Blvd E\, Suite 112\, Puyallup\, WA\, 98374\, United States
CATEGORIES:Perinatal Loss Support
GEO:47.0969554;-122.281541
X-APPLE-STRUCTURED-LOCATION;VALUE=URI;X-ADDRESS=The TEARS Foundation’s Center for Child Loss 11102 Sunrise Blvd E Suite 112 Puyallup WA 98374 United States;X-APPLE-RADIUS=500;X-TITLE=11102 Sunrise Blvd E\, Suite 112:geo:-122.281541,47.0969554
END:VEVENT
BEGIN:VEVENT
DTSTART;TZID=America/Vancouver:20200921T183000
DTEND;TZID=America/Vancouver:20200921T183000
DTSTAMP:20260420T200746
CREATED:20200317T003245Z
LAST-MODIFIED:20200412T154231Z
UID:10012039-1600713000-1600713000@perinatalsupport.org
SUMMARY:Pregnancy & Infant Loss Support Group
DESCRIPTION:This meeting is an open discussion support group.  Any bereaved parent is welcome to drop in.
URL:https://perinatalsupport.org/event/pregnancy-infant-loss-support-group/2020-09-21/
LOCATION:The TEARS Foundation’s Center for Child Loss\, 11102 Sunrise Blvd E\, Suite 112\, Puyallup\, WA\, 98374\, United States
CATEGORIES:Perinatal Loss Support
GEO:47.0969554;-122.281541
X-APPLE-STRUCTURED-LOCATION;VALUE=URI;X-ADDRESS=The TEARS Foundation’s Center for Child Loss 11102 Sunrise Blvd E Suite 112 Puyallup WA 98374 United States;X-APPLE-RADIUS=500;X-TITLE=11102 Sunrise Blvd E\, Suite 112:geo:-122.281541,47.0969554
END:VEVENT
BEGIN:VEVENT
DTSTART;TZID=America/Vancouver:20200817T183000
DTEND;TZID=America/Vancouver:20200817T183000
DTSTAMP:20260420T200746
CREATED:20200317T003245Z
LAST-MODIFIED:20200412T154231Z
UID:10012038-1597689000-1597689000@perinatalsupport.org
SUMMARY:Pregnancy & Infant Loss Support Group
DESCRIPTION:This meeting is an open discussion support group.  Any bereaved parent is welcome to drop in.
URL:https://perinatalsupport.org/event/pregnancy-infant-loss-support-group/2020-08-17/
LOCATION:The TEARS Foundation’s Center for Child Loss\, 11102 Sunrise Blvd E\, Suite 112\, Puyallup\, WA\, 98374\, United States
CATEGORIES:Perinatal Loss Support
GEO:47.0969554;-122.281541
X-APPLE-STRUCTURED-LOCATION;VALUE=URI;X-ADDRESS=The TEARS Foundation’s Center for Child Loss 11102 Sunrise Blvd E Suite 112 Puyallup WA 98374 United States;X-APPLE-RADIUS=500;X-TITLE=11102 Sunrise Blvd E\, Suite 112:geo:-122.281541,47.0969554
END:VEVENT
BEGIN:VEVENT
DTSTART;TZID=America/Vancouver:20200720T183000
DTEND;TZID=America/Vancouver:20200720T183000
DTSTAMP:20260420T200746
CREATED:20200317T003245Z
LAST-MODIFIED:20200412T154231Z
UID:10012037-1595269800-1595269800@perinatalsupport.org
SUMMARY:Pregnancy & Infant Loss Support Group
DESCRIPTION:This meeting is an open discussion support group.  Any bereaved parent is welcome to drop in.
URL:https://perinatalsupport.org/event/pregnancy-infant-loss-support-group/2020-07-20/
LOCATION:The TEARS Foundation’s Center for Child Loss\, 11102 Sunrise Blvd E\, Suite 112\, Puyallup\, WA\, 98374\, United States
CATEGORIES:Perinatal Loss Support
GEO:47.0969554;-122.281541
X-APPLE-STRUCTURED-LOCATION;VALUE=URI;X-ADDRESS=The TEARS Foundation’s Center for Child Loss 11102 Sunrise Blvd E Suite 112 Puyallup WA 98374 United States;X-APPLE-RADIUS=500;X-TITLE=11102 Sunrise Blvd E\, Suite 112:geo:-122.281541,47.0969554
END:VEVENT
BEGIN:VEVENT
DTSTART;TZID=America/Vancouver:20200615T183000
DTEND;TZID=America/Vancouver:20200615T183000
DTSTAMP:20260420T200746
CREATED:20200317T003245Z
LAST-MODIFIED:20200412T154231Z
UID:10012036-1592245800-1592245800@perinatalsupport.org
SUMMARY:Pregnancy & Infant Loss Support Group
DESCRIPTION:This meeting is an open discussion support group.  Any bereaved parent is welcome to drop in.
URL:https://perinatalsupport.org/event/pregnancy-infant-loss-support-group/2020-06-15/
LOCATION:The TEARS Foundation’s Center for Child Loss\, 11102 Sunrise Blvd E\, Suite 112\, Puyallup\, WA\, 98374\, United States
CATEGORIES:Perinatal Loss Support
GEO:47.0969554;-122.281541
X-APPLE-STRUCTURED-LOCATION;VALUE=URI;X-ADDRESS=The TEARS Foundation’s Center for Child Loss 11102 Sunrise Blvd E Suite 112 Puyallup WA 98374 United States;X-APPLE-RADIUS=500;X-TITLE=11102 Sunrise Blvd E\, Suite 112:geo:-122.281541,47.0969554
END:VEVENT
END:VCALENDAR